{"text_format":"3","workbook":"xlsx","n_sheets":67,"sheets":["INTRODUCTION","PARAMETRAGE","TEST MACROS","ACCUEIL","ETABLISSEMENT","CAPL ou CAPD","VALEUR du POINT","TELEPHONE","DEPARTEMENT","MEL","SITE DEPART","HTTP DEPART","REPRESENTANT","CAP","END","RECAPITULATIF","CAP 8","GRILLE C1","IMP GRILLE C1","C1 Echelon 2","C1 Echelon 3","C1 Echelon 4","C1 Echelon 5","C1 Echelon 6","C1 Echelon 7","C1 Echelon 8","C1 Echelon 9","C1 Echelon 10","C1 Echelon 11","GRILLE C2","IMP GRILLE C2","C2 Echelon 2","C2 Echelon 3","C2 Echelon 4","C2 Echelon 5","C2 Echelon 6","C2 Echelon 7","C2 Echelon 8","C2 Echelon 9","C2 Echelon 10","C2 Echelon 11","C2 Echelon 12","GRILLE C3","IMP GRILLE C3","C3 Echelon 2","C3 Echelon 3","C3 Echelon 4","C3 Echelon 5","C3 Echelon 6","C3 Echelon 7","C3 Echelon 8","C3 Echelon 9","C3 Echelon 10","GRILLE C MA EXTINCTION","IMP GRILLE C MA EXTINCTION","C MA EXT Echelon 2","C MA EXT Echelon 3","C MA EXT Echelon 4","C MA EXT Echelon 5","C MA EXT Echelon 6","C MA EXT Echelon 7","C MA EXT Echelon 8","C MA EXT Echelon 9","C MA EXT Echelon 10","C MA EXT Echelon 11","C MA EXT Echelon 12","C MA EXT Echelon 13"],"not_rendered":{"images":7,"macros":1,"defined_names":44},"read":"whole","date_system":"1900"}

{"sheet":"INTRODUCTION","index":0,"n_rows":39,"n_cols":2,"rows_kept":39,"merged":[[0,1,0,2],[1,1,1,2],[2,1,2,2],[3,1,3,2],[4,1,4,2],[5,1,5,2],[6,1,6,2],[7,1,7,2],[8,1,8,2],[9,1,9,2],[10,1,10,2],[11,1,11,2],[12,1,12,2],[13,1,13,2],[18,1,18,2],[25,1,25,2],[26,1,26,2],[27,1,27,2],[28,1,28,2],[29,1,29,2],[30,1,30,2],[31,1,31,2],[32,1,32,2],[36,1,36,2],[38,1,38,2]]}
[]
[null,"Ce logiciel permet d'éditer les courriers d'avancements d'échelons à envoyer aux"]
[null,"agents directement concernés en notant qu'une seule fois :"]
[null,"l'identité de l'agent et la date d'effet de son avancement d'échelon. "]
[]
[null,"C'est donc un gain de temps non négligeable dans la préparation très chronophage"]
[null,"des CAP et également une uniformisation de toutes les informations transmises"]
[null,"aux agents par tous les représentants SUD Santé des CAPL et CAPD."]
[]
[null,"1) ACTIVATION DES MACROS"]
[]
[null,"Pour fonctionner, ce logiciel nécéssite que les \" macros \" soient activées."]
[null,"Les \" macros \" permettent à partir d'un bouton (apparition de la petite main),"]
[null,"l'exécution d'une application donnée."]
[]
[null,"Pour vérifier si elles sont bien activées,"]
[null,"appuyez sur le bouton ci-contre :"]
[]
[null,"Cette page doit apparaître :"]
[]
[]
[null,"Appuyez alors dans cette page"]
[null,"sur ce bouton pour revenir"]
[null,"à l'INTRODUCTION :"]
[]
[null,"Si la page n'apparait pas, cela implique que les \" macros \" ne sont pas activées."]
[null,"Appuyez sur \" F1 \" de votre clavier pour accéder à la rubrique \" AIDE \""]
[null,"Notez : MACROS dans le moteur de recherche"]
[null,"Selectionnez : Activer ou désactiver les Macros"]
[null,"Suivez les recommandations pour les activer"]
[null,"\n\n\n"]
[null,"2) PARAMETRAGE DU LOGICIEL"]
[]
[null,"Pour votre 1ère utilisation de ce logiciel, vous devez"]
[null,"le paramatrer en cliquant sur ce bouton : "]
[]
[null,"3) COMMENTAIRES DIVERS …"]
[]
[null,"N'hésitez pas à nous faire parvenir vos commentaires sur ce Logiciel à l'adresse ci-jointe :\n\n                                                                          sudsante@ch-stmalo.fr"]

{"sheet":"PARAMETRAGE","index":1,"n_rows":17,"n_cols":2,"rows_kept":17}
[]
[null,"PARAMETRAGE"]
[]
[null,"Première utilisation :"]
[]
[null,"1) Téléchargez la dernière version mise à jour pour les grilles salariales sur notre site."]
[null,"http://www.sudsantesociaux35.org"]
[]
[null,"2) Personnalisez votre Logiciel en renseignant:"]
[]
[null,"      * Nom de l'Etablissement."]
[null,"      * Nom des représentants SUD Santé aux CAP."]
[null,"      * Renseignez \"Locale\" ou \"Départementale\""]
[null,"      * Renseignez \"vos numéros de téléphone\"."]
[null,"      * Renseignez \"votre département\"."]
[null,"      * Renseignez \"votre adresse mél\" et celle de \"votre site départemental\"."]
[null,"      * Renseignez \"l'année\" et \"la date de la CAP\"."]

{"sheet":"TEST MACROS","index":2,"n_rows":3,"n_cols":1,"rows_kept":3}
["Les \" macros \" sont activées "]
[]
["Pour retourner à l'introduction,\nappuyez sur le bouton ci-dessous :"]

{"sheet":"ACCUEIL","index":3,"n_rows":0,"n_cols":0,"rows_kept":0}

{"sheet":"ETABLISSEMENT","index":4,"n_rows":8,"n_cols":2,"rows_kept":8}
{"$rows_empty":7}
[null,"Centre Hospitalier de Saint Malo"]

{"sheet":"CAPL ou CAPD","index":5,"n_rows":0,"n_cols":0,"rows_kept":0}

{"sheet":"VALEUR du POINT","index":6,"n_rows":11,"n_cols":5,"rows_kept":11}
[]
[]
[{"$nulls":4},{"v":4.686,"d":"4.686 €"}]
{"$rows_empty":7}
[{"$nulls":4},"2019-01-01"]

{"sheet":"TELEPHONE","index":7,"n_rows":10,"n_cols":5,"rows_kept":10,"merged":[[9,4,9,5]]}
[]
[]
[{"$nulls":4},2886]
[]
[]
[]
[]
[]
[]
[{"$nulls":4},{"v":299212886,"d":"02 99 21 28 86"}]

{"sheet":"DEPARTEMENT","index":8,"n_rows":4,"n_cols":5,"rows_kept":4}
[]
[]
[]
[{"$nulls":4},35]

{"sheet":"MEL","index":9,"n_rows":4,"n_cols":5,"rows_kept":4}
[]
[]
[]
[{"$nulls":4},"sudsante@ch-stmalo.fr"]

{"sheet":"SITE DEPART","index":10,"n_rows":0,"n_cols":0,"rows_kept":0}

{"sheet":"HTTP DEPART","index":11,"n_rows":13,"n_cols":2,"rows_kept":13}
{"$rows_empty":12}
[null,"http://www.sudsantesociaux35.org"]

{"sheet":"REPRESENTANT","index":12,"n_rows":8,"n_cols":2,"rows_kept":8}
{"$rows_empty":7}
[null,"Véronique ERUSSARD, Servanne CORNEE, Sébastien BAYAUT"]

{"sheet":"CAP","index":13,"n_rows":11,"n_cols":5,"rows_kept":11}
[]
[]
[{"$nulls":4},2019]
{"$rows_empty":7}
[{"$nulls":4},"2019-04-16"]

{"sheet":"END","index":14,"n_rows":0,"n_cols":0,"rows_kept":0}

{"sheet":"RECAPITULATIF","index":15,"n_rows":25,"n_cols":4,"rows_kept":25,"merged":[[1,1,1,8],[3,1,3,8],[4,1,4,8],[6,1,6,2],[8,1,8,2],[10,1,10,2],[12,1,12,2],[14,1,14,2],[20,1,20,2],[22,2,22,4],[24,1,24,2],[24,3,24,4]]}
[]
[null,{"$f":"ETABLISSEMENT!B8","v":"Centre Hospitalier de Saint Malo"}]
[]
[null,"Nom du de la ou des Représentant-e-s"]
[null,{"$f":"REPRESENTANT!B8","v":"Véronique ERUSSARD, Servanne CORNEE, Sébastien BAYAUT"}]
[]
[null,"CAP",null,"Locale"]
[]
[null,"Année",null,{"$f":"CAP!E3","v":2019}]
[]
[null,"Date de la CAP",null,{"$f":"CAP!E11","v":"2019-04-16"}]
[]
[null,"Valeur du Point",null,{"$f":"'VALEUR du POINT'!$E$3","v":{"v":4.686,"d":"4.686 €"}}]
[]
[null,"Date de la\nvaleur du Point",null,{"$f":"'VALEUR du POINT'!E11","v":"2019-01-01"}]
[]
[null,"Poste",null,{"$f":"TELEPHONE!$E$3","v":2886}]
[]
[null,"Téléphone",null,{"$f":"TELEPHONE!$E$10","v":{"v":299212886,"d":"02 99 21 28 86"}}]
[]
[null,"Sud Santé Sociaux",null,{"$f":"DEPARTEMENT!E4","v":35}]
[]
[null,"Mél",{"$f":"MEL!E4","v":"sudsante@ch-stmalo.fr"}]
[]
[null,"Site Départemental Sud",null,{"$f":"'HTTP DEPART'!B13","v":"http://www.sudsantesociaux35.org"}]

{"sheet":"CAP 8","index":16,"n_rows":0,"n_cols":0,"rows_kept":0}

{"sheet":"GRILLE C1","index":17,"n_rows":32,"n_cols":4,"rows_kept":32,"merged":[[1,1,4,3],[5,1,8,3],[9,1,10,1],[9,2,10,2],[9,3,10,3],[11,1,12,1],[11,2,12,2],[11,3,12,3],[13,1,14,1],[13,2,14,2],[13,3,14,3],[15,1,16,1],[15,2,16,2],[15,3,16,3],[17,1,18,1],[17,2,18,2],[17,3,18,3],[19,1,20,1],[19,2,20,2],[19,3,20,3],[21,1,22,1],[21,2,22,2],[21,3,22,3],[23,1,24,1],[23,2,24,2],[23,3,24,3],[25,1,26,1],[25,2,26,2],[25,3,26,3],[27,1,28,1],[27,2,28,2],[27,3,28,3],[29,1,30,1],[29,2,30,2],[29,3,30,3],[31,1,32,1],[31,2,32,2],[31,3,32,3]]}
[]
[null,"Catégorie C\nGrade C1\nAncienne Echelle 3"]
[]
[]
[]
[null,"Adjoint Administratifs\nAgent d'Entretien Qualifié\nAgent de Service Hospitalier Qualifié Classe Normale\nAide d'Electroradiologie Classe Normale (extinction)\nAide de Laboratoire Classe Normale (extinction)\nAide de Pharmacie Classe Normale(extinction)"]
[]
[]
[]
[null,"Echelon","Durée\n(en mois)","Indice\nMajoré"]
[]
[null,1,12,326]
[]
[null,2,24,327]
[]
[null,3,24,328]
[]
[null,4,24,329]
[]
[null,5,24,330]
[]
[null,6,24,332]
[]
[null,7,24,335]
[]
[null,8,24,339]
[]
[null,9,36,343]
[]
[null,10,36,354]
[]
[null,11,null,367]

{"sheet":"IMP GRILLE C1","index":18,"n_rows":6,"n_cols":2,"rows_kept":6,"merged":[[1,1,1,9],[3,1,3,9],[5,1,5,9]]}
[]
[null,"1) Imprimez autant de feuilles que d'agents concernés."]
[]
[null,"2) Pliez en 3 au niveau du repère, deux petits traits noirs."]
[]
[null,"3) Inserrez ce courrier dans une enveloppe 110 X 220 à fenêtre."]

{"sheet":"C1 Echelon 2","index":19,"n_rows":72,"n_cols":20,"rows_kept":72,"merged":[[1,6,1,16],[2,6,2,11],[2,12,2,16],[8,12,9,14],[12,12,12,14],[15,0,15,14],[17,0,17,16],[19,0,19,3],[21,0,21,14],[23,0,23,4],[23,5,23,8],[23,10,23,12],[23,13,23,16],[26,5,27,17],[32,0,32,4],[32,5,32,6],[32,7,32,10],[32,11,32,12],[32,17,35,19],[35,0,35,2],[35,8,35,9],[36,17,39,19],[39,0,39,7],[39,8,39,9],[39,10,39,13],[40,17,41,17],[40,18,41,18],[40,19,41,19],[42,0,42,12],[42,17,43,17],[42,18,43,18],[42,19,43,19],[44,17,45,17],[44,18,45,18],[44,19,45,19],[45,2,45,3],[45,5,45,7],[46,17,47,17],[46,18,47,18],[46,19,47,19],[48,0,48,5],[48,6,48,8],[48,17,49,17],[48,18,49,18],[48,19,49,19],[50,17,51,17],[50,18,51,18],[50,19,51,19],[52,17,53,17],[52,18,53,18],[52,19,53,19],[53,0,53,7],[53,8,53,9],[53,10,53,14],[54,0,54,11],[54,12,54,13],[54,17,55,17],[54,18,55,18],[54,19,55,19],[56,17,57,17],[56,18,57,18],[56,19,57,19],[57,0,57,16],[58,17,59,17],[58,18,59,18],[58,19,59,19],[59,0,59,16],[60,17,61,17],[60,18,61,18],[60,19,61,19],[62,0,62,16],[62,17,63,17],[62,18,63,18],[62,19,63,19],[64,0,64,3],[69,1,69,4],[70,0,70,1],[70,2,70,7],[71,0,71,4],[71,5,71,12]]}
[]
[{"$nulls":6},"Commission Administrative"]
[{"$nulls":6},"Paritaire",{"$nulls":5},{"$f":"RECAPITULATIF!D7","v":"Locale"}]
[]
[]
[]
[]
[]
[{"$nulls":12},"Mme, Mr :"]
[]
[{"$nulls":12},"Grade :"]
[]
[{"$nulls":12},"Service :"]
[]
[]
["Votre ou vos représentant-e-s du personnel"]
[]
[{"$f":"RECAPITULATIF!B5","v":"Véronique ERUSSARD, Servanne CORNEE, Sébastien BAYAUT"}]
[]
["SUD Santé Sociaux",{"$nulls":3},{"$f":"RECAPITULATIF!D21","v":35},"du:"]
[]
[{"$f":"RECAPITULATIF!B2","v":"Centre Hospitalier de Saint Malo"}]
[]
["siégeant auprès de la CAP",{"$nulls":4},{"$f":"RECAPITULATIF!D7","v":"Locale"},{"$nulls":3},"du :",{"$f":"RECAPITULATIF!D11","v":"2019-04-16"},null,null,"vous informe de votre :"]
[]
[]
[{"$nulls":5},"AVANCEMENT D’ECHELON"]
[]
[]
[]
[]
[]
["Vous passez à l’échelon :",{"$nulls":4},{"$f":"'GRILLE C1'!B14","v":2},null,"Indice Majoré :",{"$nulls":3},{"$f":"'GRILLE C1'!D14","v":327},{"$nulls":5},{"$f":"'GRILLE C1'!B2","v":"Catégorie C\nGrade C1\nAncienne Echelle 3"}]
[]
[]
["Date d'effet :",{"$nulls":4},"/",null,"/",{"$f":"RECAPITULATIF!D9","v":2019}]
[{"$nulls":17},{"$f":"'GRILLE C1'!B6","v":"Adjoint Administratifs\nAgent d'Entretien Qualifié\nAgent de Service Hospitalier Qualifié Classe Normale\nAide d'Electroradiologie Classe Normale (extinction)\nAide de Laboratoire Classe Normale (extinction)\nAide de Pharmacie Classe Normale(extinction)"}]
[]
[]
["Ce qui représente un gain mensuel de :",{"$nulls":7},{"$f":"'GRILLE C1'!D14-'GRILLE C1'!D12","v":1},null,"points d'indice."]
[{"$nulls":17},{"$f":"'GRILLE C1'!B10","v":"Echelon"},{"$f":"'GRILLE C1'!C10","v":"Durée\n(en mois)"},{"$f":"'GRILLE C1'!D10","v":"Indice\nMajoré"}]
[]
["Pour information, la valeur brute du point d'indice",{"$nulls":16},{"$f":"'GRILLE C1'!B12","v":1},{"$f":"'GRILLE C1'!C12","v":12},{"$f":"'GRILLE C1'!D12","v":326}]
[]
[{"$nulls":17},{"$f":"'GRILLE C1'!B14","v":2},{"$f":"'GRILLE C1'!C14","v":24},{"$f":"'GRILLE C1'!D14","v":327}]
["est de",null,{"$f":"RECAPITULATIF!D13","v":{"v":4.686,"d":"4.686 €"}},null,"au",{"$f":"RECAPITULATIF!D15","v":"2019-01-01"}]
[{"$nulls":17},{"$f":"'GRILLE C1'!B16","v":3},{"$f":"'GRILLE C1'!C16","v":24},{"$f":"'GRILLE C1'!D16","v":328}]
[]
["Soit un gain net mensuel de :",{"$nulls":5},{"$f":"I40*C46*0.8315","v":{"v":3.8964090000000002,"d":"3.90 €"}},{"$nulls":10},{"$f":"'GRILLE C1'!B18","v":4},{"$f":"'GRILLE C1'!C18","v":24},{"$f":"'GRILLE C1'!D18","v":329}]
[]
[{"$nulls":17},{"$f":"'GRILLE C1'!B20","v":5},{"$f":"'GRILLE C1'!C20","v":24},{"$f":"'GRILLE C1'!D20","v":330}]
[]
[{"$nulls":17},{"$f":"'GRILLE C1'!B22","v":6},{"$f":"'GRILLE C1'!C22","v":24},{"$f":"'GRILLE C1'!D22","v":332}]
["Vos représentant-e-s SUD Santé Sociaux ",{"$nulls":7},{"$f":"RECAPITULATIF!D21","v":35},null,"sont à votre disposition"]
["pour tous renseignements complémentaires au poste :",{"$nulls":11},{"$f":"RECAPITULATIF!D17","v":2886},{"$nulls":4},{"$f":"'GRILLE C1'!B24","v":7},{"$f":"'GRILLE C1'!C24","v":24},{"$f":"'GRILLE C1'!D24","v":335}]
[]
[{"$nulls":17},{"$f":"'GRILLE C1'!B26","v":8},{"$f":"'GRILLE C1'!C26","v":24},{"$f":"'GRILLE C1'!D26","v":339}]
[]
[{"$nulls":17},{"$f":"'GRILLE C1'!B28","v":9},{"$f":"'GRILLE C1'!C28","v":36},{"$f":"'GRILLE C1'!D28","v":343}]
["Recevez toutes nos salutations."]
[{"$nulls":17},{"$f":"'GRILLE C1'!B30","v":10},{"$f":"'GRILLE C1'!C30","v":36},{"$f":"'GRILLE C1'!D30","v":354}]
[]
[{"$f":"RECAPITULATIF!B5","v":"Véronique ERUSSARD, Servanne CORNEE, Sébastien BAYAUT"},{"$nulls":16},{"$f":"'GRILLE C1'!B32","v":11},{"$f":"'GRILLE C1'!C32","v":0},{"$f":"'GRILLE C1'!D32","v":367}]
[]
["SUD Santé Sociaux",{"$nulls":3},{"$f":"RECAPITULATIF!D21","v":35}]
[]
[]
[]
[]
["Tél :",{"$f":"RECAPITULATIF!D19","v":{"v":299212886,"d":"02 99 21 28 86"}}]
["Mél :",null,{"$f":"RECAPITULATIF!C23","v":"sudsante@ch-stmalo.fr"}]
[{"$f":"RECAPITULATIF!B25","v":"Site Départemental Sud"},{"$nulls":4},{"$f":"RECAPITULATIF!D25","v":"http://www.sudsantesociaux35.org"}]

{"sheet":"C1 Echelon 3","index":20,"n_rows":72,"n_cols":20,"rows_kept":72,"merged":[[1,6,1,16],[2,6,2,11],[2,12,2,16],[8,12,9,14],[12,12,12,14],[15,0,15,14],[17,0,17,16],[19,0,19,3],[21,0,21,14],[23,0,23,4],[23,5,23,8],[23,10,23,12],[23,13,23,16],[26,5,27,17],[32,0,32,4],[32,5,32,6],[32,7,32,10],[32,11,32,12],[32,17,35,19],[35,0,35,2],[35,8,35,9],[36,17,39,19],[39,0,39,7],[39,8,39,9],[39,10,39,13],[40,17,41,17],[40,18,41,18],[40,19,41,19],[42,0,42,12],[42,17,43,17],[42,18,43,18],[42,19,43,19],[44,17,45,17],[44,18,45,18],[44,19,45,19],[45,2,45,3],[45,5,45,7],[46,17,47,17],[46,18,47,18],[46,19,47,19],[48,0,48,5],[48,6,48,8],[48,17,49,17],[48,18,49,18],[48,19,49,19],[50,17,51,17],[50,18,51,18],[50,19,51,19],[52,17,53,17],[52,18,53,18],[52,19,53,19],[53,0,53,7],[53,8,53,9],[53,10,53,14],[54,0,54,11],[54,12,54,13],[54,17,55,17],[54,18,55,18],[54,19,55,19],[56,17,57,17],[56,18,57,18],[56,19,57,19],[57,0,57,16],[58,17,59,17],[58,18,59,18],[58,19,59,19],[59,0,59,16],[60,17,61,17],[60,18,61,18],[60,19,61,19],[62,0,62,16],[62,17,63,17],[62,18,63,18],[62,19,63,19],[64,0,64,3],[69,1,69,4],[70,0,70,1],[70,2,70,7],[71,0,71,4],[71,5,71,12]]}
[]
[{"$nulls":6},"Commission Administrative"]
[{"$nulls":6},"Paritaire",{"$nulls":5},{"$f":"RECAPITULATIF!D7","v":"Locale"}]
[]
[]
[]
[]
[]
[{"$nulls":12},"Mme, Mr :"]
[]
[{"$nulls":12},"Grade :"]
[]
[{"$nulls":12},"Service :"]
[]
[]
["Votre ou vos représentant-e-s du personnel"]
[]
[{"$f":"RECAPITULATIF!B5","v":"Véronique ERUSSARD, Servanne CORNEE, Sébastien BAYAUT"}]
[]
["SUD Santé Sociaux",{"$nulls":3},{"$f":"RECAPITULATIF!D21","v":35},"du:"]
[]
[{"$f":"RECAPITULATIF!B2","v":"Centre Hospitalier de Saint Malo"}]
[]
["siégeant auprès de la CAP",{"$nulls":4},{"$f":"RECAPITULATIF!D7","v":"Locale"},{"$nulls":3},"du :",{"$f":"RECAPITULATIF!D11","v":"2019-04-16"},null,null,"vous informe de votre :"]
[]
[]
[{"$nulls":5},"AVANCEMENT D’ECHELON"]
[]
[]
[]
[]
[]
["Vous passez à l’échelon :",{"$nulls":4},{"$f":"'GRILLE C1'!B16","v":3},null,"Indice Majoré :",{"$nulls":3},{"$f":"'GRILLE C1'!D16","v":328},{"$nulls":5},{"$f":"'GRILLE C1'!B2","v":"Catégorie C\nGrade C1\nAncienne Echelle 3"}]
[]
[]
["Date d'effet :",{"$nulls":4},"/",null,"/",{"$f":"RECAPITULATIF!D9","v":2019}]
[{"$nulls":17},{"$f":"'GRILLE C1'!B6","v":"Adjoint Administratifs\nAgent d'Entretien Qualifié\nAgent de Service Hospitalier Qualifié Classe Normale\nAide d'Electroradiologie Classe Normale (extinction)\nAide de Laboratoire Classe Normale (extinction)\nAide de Pharmacie Classe Normale(extinction)"}]
[]
[]
["Ce qui représente un gain mensuel de :",{"$nulls":7},{"$f":"'GRILLE C1'!D16-'GRILLE C1'!D14","v":1},null,"points d'indice."]
[{"$nulls":17},{"$f":"'GRILLE C1'!B10","v":"Echelon"},{"$f":"'GRILLE C1'!C10","v":"Durée\n(en mois)"},{"$f":"'GRILLE C1'!D10","v":"Indice\nMajoré"}]
[]
["Pour information, la valeur brute du point d'indice",{"$nulls":16},{"$f":"'GRILLE C1'!B12","v":1},{"$f":"'GRILLE C1'!C12","v":12},{"$f":"'GRILLE C1'!D12","v":326}]
[]
[{"$nulls":17},{"$f":"'GRILLE C1'!B14","v":2},{"$f":"'GRILLE C1'!C14","v":24},{"$f":"'GRILLE C1'!D14","v":327}]
["est de",null,{"$f":"RECAPITULATIF!D13","v":{"v":4.686,"d":"4.686 €"}},null,"au",{"$f":"RECAPITULATIF!D15","v":"2019-01-01"}]
[{"$nulls":17},{"$f":"'GRILLE C1'!B16","v":3},{"$f":"'GRILLE C1'!C16","v":24},{"$f":"'GRILLE C1'!D16","v":328}]
[]
["Soit un gain net mensuel de :",{"$nulls":5},{"$f":"I40*C46*0.8315","v":{"v":3.8964090000000002,"d":"3.90 €"}},{"$nulls":10},{"$f":"'GRILLE C1'!B18","v":4},{"$f":"'GRILLE C1'!C18","v":24},{"$f":"'GRILLE C1'!D18","v":329}]
[]
[{"$nulls":17},{"$f":"'GRILLE C1'!B20","v":5},{"$f":"'GRILLE C1'!C20","v":24},{"$f":"'GRILLE C1'!D20","v":330}]
[]
[{"$nulls":17},{"$f":"'GRILLE C1'!B22","v":6},{"$f":"'GRILLE C1'!C22","v":24},{"$f":"'GRILLE C1'!D22","v":332}]
["Vos représentant-e-s SUD Santé Sociaux ",{"$nulls":7},{"$f":"RECAPITULATIF!D21","v":35},null,"sont à votre disposition"]
["pour tous renseignements complémentaires au poste :",{"$nulls":11},{"$f":"RECAPITULATIF!D17","v":2886},{"$nulls":4},{"$f":"'GRILLE C1'!B24","v":7},{"$f":"'GRILLE C1'!C24","v":24},{"$f":"'GRILLE C1'!D24","v":335}]
[]
[{"$nulls":17},{"$f":"'GRILLE C1'!B26","v":8},{"$f":"'GRILLE C1'!C26","v":24},{"$f":"'GRILLE C1'!D26","v":339}]
[]
[{"$nulls":17},{"$f":"'GRILLE C1'!B28","v":9},{"$f":"'GRILLE C1'!C28","v":36},{"$f":"'GRILLE C1'!D28","v":343}]
["Recevez toutes nos salutations."]
[{"$nulls":17},{"$f":"'GRILLE C1'!B30","v":10},{"$f":"'GRILLE C1'!C30","v":36},{"$f":"'GRILLE C1'!D30","v":354}]
[]
[{"$f":"RECAPITULATIF!B5","v":"Véronique ERUSSARD, Servanne CORNEE, Sébastien BAYAUT"},{"$nulls":16},{"$f":"'GRILLE C1'!B32","v":11},{"$f":"'GRILLE C1'!C32","v":0},{"$f":"'GRILLE C1'!D32","v":367}]
[]
["SUD Santé Sociaux",{"$nulls":3},{"$f":"RECAPITULATIF!D21","v":35}]
[]
[]
[]
[]
["Tél :",{"$f":"RECAPITULATIF!D19","v":{"v":299212886,"d":"02 99 21 28 86"}}]
["Mél :",null,{"$f":"RECAPITULATIF!C23","v":"sudsante@ch-stmalo.fr"}]
[{"$f":"RECAPITULATIF!B25","v":"Site Départemental Sud"},{"$nulls":4},{"$f":"RECAPITULATIF!D25","v":"http://www.sudsantesociaux35.org"}]

{"sheet":"C1 Echelon 4","index":21,"n_rows":72,"n_cols":20,"rows_kept":72,"merged":[[1,6,1,16],[2,6,2,11],[2,12,2,16],[8,12,9,14],[12,12,12,14],[15,0,15,14],[17,0,17,16],[19,0,19,3],[21,0,21,14],[23,0,23,4],[23,5,23,8],[23,10,23,12],[23,13,23,16],[26,5,27,17],[32,0,32,4],[32,5,32,6],[32,7,32,10],[32,11,32,12],[32,17,35,19],[35,0,35,2],[35,8,35,9],[36,17,39,19],[39,0,39,7],[39,8,39,9],[39,10,39,13],[40,17,41,17],[40,18,41,18],[40,19,41,19],[42,0,42,12],[42,17,43,17],[42,18,43,18],[42,19,43,19],[44,17,45,17],[44,18,45,18],[44,19,45,19],[45,2,45,3],[45,5,45,7],[46,17,47,17],[46,18,47,18],[46,19,47,19],[48,0,48,5],[48,6,48,8],[48,17,49,17],[48,18,49,18],[48,19,49,19],[50,17,51,17],[50,18,51,18],[50,19,51,19],[52,17,53,17],[52,18,53,18],[52,19,53,19],[53,0,53,7],[53,8,53,9],[53,10,53,14],[54,0,54,11],[54,12,54,13],[54,17,55,17],[54,18,55,18],[54,19,55,19],[56,17,57,17],[56,18,57,18],[56,19,57,19],[57,0,57,16],[58,17,59,17],[58,18,59,18],[58,19,59,19],[59,0,59,16],[60,17,61,17],[60,18,61,18],[60,19,61,19],[62,0,62,16],[62,17,63,17],[62,18,63,18],[62,19,63,19],[64,0,64,3],[69,1,69,4],[70,0,70,1],[70,2,70,7],[71,0,71,4],[71,5,71,12]]}
[]
[{"$nulls":6},"Commission Administrative"]
[{"$nulls":6},"Paritaire",{"$nulls":5},{"$f":"RECAPITULATIF!D7","v":"Locale"}]
[]
[]
[]
[]
[]
[{"$nulls":12},"Mme, Mr :"]
[]
[{"$nulls":12},"Grade :"]
[]
[{"$nulls":12},"Service :"]
[]
[]
["Votre ou vos représentant-e-s du personnel"]
[]
[{"$f":"RECAPITULATIF!B5","v":"Véronique ERUSSARD, Servanne CORNEE, Sébastien BAYAUT"}]
[]
["SUD Santé Sociaux",{"$nulls":3},{"$f":"RECAPITULATIF!D21","v":35},"du:"]
[]
[{"$f":"RECAPITULATIF!B2","v":"Centre Hospitalier de Saint Malo"}]
[]
["siégeant auprès de la CAP",{"$nulls":4},{"$f":"RECAPITULATIF!D7","v":"Locale"},{"$nulls":3},"du :",{"$f":"RECAPITULATIF!D11","v":"2019-04-16"},null,null,"vous informe de votre :"]
[]
[]
[{"$nulls":5},"AVANCEMENT D’ECHELON"]
[]
[]
[]
[]
[]
["Vous passez à l’échelon :",{"$nulls":4},{"$f":"'GRILLE C1'!B18","v":4},null,"Indice Majoré :",{"$nulls":3},{"$f":"'GRILLE C1'!D18","v":329},{"$nulls":5},{"$f":"'GRILLE C1'!B2","v":"Catégorie C\nGrade C1\nAncienne Echelle 3"}]
[]
[]
["Date d'effet :",{"$nulls":4},"/",null,"/",{"$f":"RECAPITULATIF!D9","v":2019}]
[{"$nulls":17},{"$f":"'GRILLE C1'!B6","v":"Adjoint Administratifs\nAgent d'Entretien Qualifié\nAgent de Service Hospitalier Qualifié Classe Normale\nAide d'Electroradiologie Classe Normale (extinction)\nAide de Laboratoire Classe Normale (extinction)\nAide de Pharmacie Classe Normale(extinction)"}]
[]
[]
["Ce qui représente un gain mensuel de :",{"$nulls":7},{"$f":"'GRILLE C1'!D18-'GRILLE C1'!D16","v":1},null,"points d'indice."]
[{"$nulls":17},{"$f":"'GRILLE C1'!B10","v":"Echelon"},{"$f":"'GRILLE C1'!C10","v":"Durée\n(en mois)"},{"$f":"'GRILLE C1'!D10","v":"Indice\nMajoré"}]
[]
["Pour information, la valeur brute du point d'indice",{"$nulls":16},{"$f":"'GRILLE C1'!B12","v":1},{"$f":"'GRILLE C1'!C12","v":12},{"$f":"'GRILLE C1'!D12","v":326}]
[]
[{"$nulls":17},{"$f":"'GRILLE C1'!B14","v":2},{"$f":"'GRILLE C1'!C14","v":24},{"$f":"'GRILLE C1'!D14","v":327}]
["est de",null,{"$f":"RECAPITULATIF!D13","v":{"v":4.686,"d":"4.686 €"}},null,"au",{"$f":"RECAPITULATIF!D15","v":"2019-01-01"}]
[{"$nulls":17},{"$f":"'GRILLE C1'!B16","v":3},{"$f":"'GRILLE C1'!C16","v":24},{"$f":"'GRILLE C1'!D16","v":328}]
[]
["Soit un gain net mensuel de :",{"$nulls":5},{"$f":"I40*C46*0.8315","v":{"v":3.8964090000000002,"d":"3.90 €"}},{"$nulls":10},{"$f":"'GRILLE C1'!B18","v":4},{"$f":"'GRILLE C1'!C18","v":24},{"$f":"'GRILLE C1'!D18","v":329}]
[]
[{"$nulls":17},{"$f":"'GRILLE C1'!B20","v":5},{"$f":"'GRILLE C1'!C20","v":24},{"$f":"'GRILLE C1'!D20","v":330}]
[]
[{"$nulls":17},{"$f":"'GRILLE C1'!B22","v":6},{"$f":"'GRILLE C1'!C22","v":24},{"$f":"'GRILLE C1'!D22","v":332}]
["Vos représentant-e-s SUD Santé Sociaux ",{"$nulls":7},{"$f":"RECAPITULATIF!D21","v":35},null,"sont à votre disposition"]
["pour tous renseignements complémentaires au poste :",{"$nulls":11},{"$f":"RECAPITULATIF!D17","v":2886},{"$nulls":4},{"$f":"'GRILLE C1'!B24","v":7},{"$f":"'GRILLE C1'!C24","v":24},{"$f":"'GRILLE C1'!D24","v":335}]
[]
[{"$nulls":17},{"$f":"'GRILLE C1'!B26","v":8},{"$f":"'GRILLE C1'!C26","v":24},{"$f":"'GRILLE C1'!D26","v":339}]
[]
[{"$nulls":17},{"$f":"'GRILLE C1'!B28","v":9},{"$f":"'GRILLE C1'!C28","v":36},{"$f":"'GRILLE C1'!D28","v":343}]
["Recevez toutes nos salutations."]
[{"$nulls":17},{"$f":"'GRILLE C1'!B30","v":10},{"$f":"'GRILLE C1'!C30","v":36},{"$f":"'GRILLE C1'!D30","v":354}]
[]
[{"$f":"RECAPITULATIF!B5","v":"Véronique ERUSSARD, Servanne CORNEE, Sébastien BAYAUT"},{"$nulls":16},{"$f":"'GRILLE C1'!B32","v":11},{"$f":"'GRILLE C1'!C32","v":0},{"$f":"'GRILLE C1'!D32","v":367}]
[]
["SUD Santé Sociaux",{"$nulls":3},{"$f":"RECAPITULATIF!D21","v":35}]
[]
[]
[]
[]
["Tél :",{"$f":"RECAPITULATIF!D19","v":{"v":299212886,"d":"02 99 21 28 86"}}]
["Mél :",null,{"$f":"RECAPITULATIF!C23","v":"sudsante@ch-stmalo.fr"}]
[{"$f":"RECAPITULATIF!B25","v":"Site Départemental Sud"},{"$nulls":4},{"$f":"RECAPITULATIF!D25","v":"http://www.sudsantesociaux35.org"}]

{"sheet":"C1 Echelon 5","index":22,"n_rows":72,"n_cols":20,"rows_kept":72,"merged":[[1,6,1,16],[2,6,2,11],[2,12,2,16],[8,12,9,14],[12,12,12,14],[15,0,15,14],[17,0,17,16],[19,0,19,3],[21,0,21,14],[23,0,23,4],[23,5,23,8],[23,10,23,12],[23,13,23,16],[26,5,27,17],[32,0,32,4],[32,5,32,6],[32,7,32,10],[32,11,32,12],[32,17,35,19],[35,0,35,2],[35,8,35,9],[36,17,39,19],[39,0,39,7],[39,8,39,9],[39,10,39,13],[40,17,41,17],[40,18,41,18],[40,19,41,19],[42,0,42,12],[42,17,43,17],[42,18,43,18],[42,19,43,19],[44,17,45,17],[44,18,45,18],[44,19,45,19],[45,2,45,3],[45,5,45,7],[46,17,47,17],[46,18,47,18],[46,19,47,19],[48,0,48,5],[48,6,48,8],[48,17,49,17],[48,18,49,18],[48,19,49,19],[50,17,51,17],[50,18,51,18],[50,19,51,19],[52,17,53,17],[52,18,53,18],[52,19,53,19],[53,0,53,7],[53,8,53,9],[53,10,53,14],[54,0,54,11],[54,12,54,13],[54,17,55,17],[54,18,55,18],[54,19,55,19],[56,17,57,17],[56,18,57,18],[56,19,57,19],[57,0,57,16],[58,17,59,17],[58,18,59,18],[58,19,59,19],[59,0,59,16],[60,17,61,17],[60,18,61,18],[60,19,61,19],[62,0,62,16],[62,17,63,17],[62,18,63,18],[62,19,63,19],[64,0,64,3],[69,1,69,4],[70,0,70,1],[70,2,70,7],[71,0,71,4],[71,5,71,12]]}
[]
[{"$nulls":6},"Commission Administrative"]
[{"$nulls":6},"Paritaire",{"$nulls":5},{"$f":"RECAPITULATIF!D7","v":"Locale"}]
[]
[]
[]
[]
[]
[{"$nulls":12},"Mme, Mr :"]
[]
[{"$nulls":12},"Grade :"]
[]
[{"$nulls":12},"Service :"]
[]
[]
["Votre ou vos représentant-e-s du personnel"]
[]
[{"$f":"RECAPITULATIF!B5","v":"Véronique ERUSSARD, Servanne CORNEE, Sébastien BAYAUT"}]
[]
["SUD Santé Sociaux",{"$nulls":3},{"$f":"RECAPITULATIF!D21","v":35},"du:"]
[]
[{"$f":"RECAPITULATIF!B2","v":"Centre Hospitalier de Saint Malo"}]
[]
["siégeant auprès de la CAP",{"$nulls":4},{"$f":"RECAPITULATIF!D7","v":"Locale"},{"$nulls":3},"du :",{"$f":"RECAPITULATIF!D11","v":"2019-04-16"},null,null,"vous informe de votre :"]
[]
[]
[{"$nulls":5},"AVANCEMENT D’ECHELON"]
[]
[]
[]
[]
[]
["Vous passez à l’échelon :",{"$nulls":4},{"$f":"'GRILLE C1'!B20","v":5},null,"Indice Majoré :",{"$nulls":3},{"$f":"'GRILLE C1'!D20","v":330},{"$nulls":5},{"$f":"'GRILLE C1'!B2","v":"Catégorie C\nGrade C1\nAncienne Echelle 3"}]
[]
[]
["Date d'effet :",{"$nulls":4},"/",null,"/",{"$f":"RECAPITULATIF!D9","v":2019}]
[{"$nulls":17},{"$f":"'GRILLE C1'!B6","v":"Adjoint Administratifs\nAgent d'Entretien Qualifié\nAgent de Service Hospitalier Qualifié Classe Normale\nAide d'Electroradiologie Classe Normale (extinction)\nAide de Laboratoire Classe Normale (extinction)\nAide de Pharmacie Classe Normale(extinction)"}]
[]
[]
["Ce qui représente un gain mensuel de :",{"$nulls":7},{"$f":"'GRILLE C1'!D20-'GRILLE C1'!D18","v":1},null,"points d'indice."]
[{"$nulls":17},{"$f":"'GRILLE C1'!B10","v":"Echelon"},{"$f":"'GRILLE C1'!C10","v":"Durée\n(en mois)"},{"$f":"'GRILLE C1'!D10","v":"Indice\nMajoré"}]
[]
["Pour information, la valeur brute du point d'indice",{"$nulls":16},{"$f":"'GRILLE C1'!B12","v":1},{"$f":"'GRILLE C1'!C12","v":12},{"$f":"'GRILLE C1'!D12","v":326}]
[]
[{"$nulls":17},{"$f":"'GRILLE C1'!B14","v":2},{"$f":"'GRILLE C1'!C14","v":24},{"$f":"'GRILLE C1'!D14","v":327}]
["est de",null,{"$f":"RECAPITULATIF!D13","v":{"v":4.686,"d":"4.686 €"}},null,"au",{"$f":"RECAPITULATIF!D15","v":"2019-01-01"}]
[{"$nulls":17},{"$f":"'GRILLE C1'!B16","v":3},{"$f":"'GRILLE C1'!C16","v":24},{"$f":"'GRILLE C1'!D16","v":328}]
[]
["Soit un gain net mensuel de :",{"$nulls":5},{"$f":"I40*C46*0.8315","v":{"v":3.8964090000000002,"d":"3.90 €"}},{"$nulls":10},{"$f":"'GRILLE C1'!B18","v":4},{"$f":"'GRILLE C1'!C18","v":24},{"$f":"'GRILLE C1'!D18","v":329}]
[]
[{"$nulls":17},{"$f":"'GRILLE C1'!B20","v":5},{"$f":"'GRILLE C1'!C20","v":24},{"$f":"'GRILLE C1'!D20","v":330}]
[]
[{"$nulls":17},{"$f":"'GRILLE C1'!B22","v":6},{"$f":"'GRILLE C1'!C22","v":24},{"$f":"'GRILLE C1'!D22","v":332}]
["Vos représentant-e-s SUD Santé Sociaux ",{"$nulls":7},{"$f":"RECAPITULATIF!D21","v":35},null,"sont à votre disposition"]
["pour tous renseignements complémentaires au poste :",{"$nulls":11},{"$f":"RECAPITULATIF!D17","v":2886},{"$nulls":4},{"$f":"'GRILLE C1'!B24","v":7},{"$f":"'GRILLE C1'!C24","v":24},{"$f":"'GRILLE C1'!D24","v":335}]
[]
[{"$nulls":17},{"$f":"'GRILLE C1'!B26","v":8},{"$f":"'GRILLE C1'!C26","v":24},{"$f":"'GRILLE C1'!D26","v":339}]
[]
[{"$nulls":17},{"$f":"'GRILLE C1'!B28","v":9},{"$f":"'GRILLE C1'!C28","v":36},{"$f":"'GRILLE C1'!D28","v":343}]
["Recevez toutes nos salutations."]
[{"$nulls":17},{"$f":"'GRILLE C1'!B30","v":10},{"$f":"'GRILLE C1'!C30","v":36},{"$f":"'GRILLE C1'!D30","v":354}]
[]
[{"$f":"RECAPITULATIF!B5","v":"Véronique ERUSSARD, Servanne CORNEE, Sébastien BAYAUT"},{"$nulls":16},{"$f":"'GRILLE C1'!B32","v":11},{"$f":"'GRILLE C1'!C32","v":0},{"$f":"'GRILLE C1'!D32","v":367}]
[]
["SUD Santé Sociaux",{"$nulls":3},{"$f":"RECAPITULATIF!D21","v":35}]
[]
[]
[]
[]
["Tél :",{"$f":"RECAPITULATIF!D19","v":{"v":299212886,"d":"02 99 21 28 86"}}]
["Mél :",null,{"$f":"RECAPITULATIF!C23","v":"sudsante@ch-stmalo.fr"}]
[{"$f":"RECAPITULATIF!B25","v":"Site Départemental Sud"},{"$nulls":4},{"$f":"RECAPITULATIF!D25","v":"http://www.sudsantesociaux35.org"}]

{"sheet":"C1 Echelon 6","index":23,"n_rows":72,"n_cols":20,"rows_kept":72,"merged":[[1,6,1,16],[2,6,2,11],[2,12,2,16],[8,12,9,14],[12,12,12,14],[15,0,15,14],[17,0,17,16],[19,0,19,3],[21,0,21,14],[23,0,23,4],[23,5,23,8],[23,10,23,12],[23,13,23,16],[26,5,27,17],[32,0,32,4],[32,5,32,6],[32,7,32,10],[32,11,32,12],[32,17,35,19],[35,0,35,2],[35,8,35,9],[36,17,39,19],[39,0,39,7],[39,8,39,9],[39,10,39,13],[40,17,41,17],[40,18,41,18],[40,19,41,19],[42,0,42,12],[42,17,43,17],[42,18,43,18],[42,19,43,19],[44,17,45,17],[44,18,45,18],[44,19,45,19],[45,2,45,3],[45,5,45,7],[46,17,47,17],[46,18,47,18],[46,19,47,19],[48,0,48,5],[48,6,48,8],[48,17,49,17],[48,18,49,18],[48,19,49,19],[50,17,51,17],[50,18,51,18],[50,19,51,19],[52,17,53,17],[52,18,53,18],[52,19,53,19],[53,0,53,7],[53,8,53,9],[53,10,53,14],[54,0,54,11],[54,12,54,13],[54,17,55,17],[54,18,55,18],[54,19,55,19],[56,17,57,17],[56,18,57,18],[56,19,57,19],[57,0,57,16],[58,17,59,17],[58,18,59,18],[58,19,59,19],[59,0,59,16],[60,17,61,17],[60,18,61,18],[60,19,61,19],[62,0,62,16],[62,17,63,17],[62,18,63,18],[62,19,63,19],[64,0,64,3],[69,1,69,4],[70,0,70,1],[70,2,70,7],[71,0,71,4],[71,5,71,12]]}
[]
[{"$nulls":6},"Commission Administrative"]
[{"$nulls":6},"Paritaire",{"$nulls":5},{"$f":"RECAPITULATIF!D7","v":"Locale"}]
[]
[]
[]
[]
[]
[{"$nulls":12},"Mme, Mr :"]
[]
[{"$nulls":12},"Grade :"]
[]
[{"$nulls":12},"Service :"]
[]
[]
["Votre ou vos représentant-e-s du personnel"]
[]
[{"$f":"RECAPITULATIF!B5","v":"Véronique ERUSSARD, Servanne CORNEE, Sébastien BAYAUT"}]
[]
["SUD Santé Sociaux",{"$nulls":3},{"$f":"RECAPITULATIF!D21","v":35},"du:"]
[]
[{"$f":"RECAPITULATIF!B2","v":"Centre Hospitalier de Saint Malo"}]
[]
["siégeant auprès de la CAP",{"$nulls":4},{"$f":"RECAPITULATIF!D7","v":"Locale"},{"$nulls":3},"du :",{"$f":"RECAPITULATIF!D11","v":"2019-04-16"},null,null,"vous informe de votre :"]
[]
[]
[{"$nulls":5},"AVANCEMENT D’ECHELON"]
[]
[]
[]
[]
[]
["Vous passez à l’échelon :",{"$nulls":4},{"$f":"'GRILLE C1'!B22","v":6},null,"Indice Majoré :",{"$nulls":3},{"$f":"'GRILLE C1'!D22","v":332},{"$nulls":5},{"$f":"'GRILLE C1'!B2","v":"Catégorie C\nGrade C1\nAncienne Echelle 3"}]
[]
[]
["Date d'effet :",{"$nulls":4},"/",null,"/",{"$f":"RECAPITULATIF!D9","v":2019}]
[{"$nulls":17},{"$f":"'GRILLE C1'!B6","v":"Adjoint Administratifs\nAgent d'Entretien Qualifié\nAgent de Service Hospitalier Qualifié Classe Normale\nAide d'Electroradiologie Classe Normale (extinction)\nAide de Laboratoire Classe Normale (extinction)\nAide de Pharmacie Classe Normale(extinction)"}]
[]
[]
["Ce qui représente un gain mensuel de :",{"$nulls":7},{"$f":"'GRILLE C1'!D22-'GRILLE C1'!D20","v":2},null,"points d'indice."]
[{"$nulls":17},{"$f":"'GRILLE C1'!B10","v":"Echelon"},{"$f":"'GRILLE C1'!C10","v":"Durée\n(en mois)"},{"$f":"'GRILLE C1'!D10","v":"Indice\nMajoré"}]
[]
["Pour information, la valeur brute du point d'indice",{"$nulls":16},{"$f":"'GRILLE C1'!B12","v":1},{"$f":"'GRILLE C1'!C12","v":12},{"$f":"'GRILLE C1'!D12","v":326}]
[]
[{"$nulls":17},{"$f":"'GRILLE C1'!B14","v":2},{"$f":"'GRILLE C1'!C14","v":24},{"$f":"'GRILLE C1'!D14","v":327}]
["est de",null,{"$f":"RECAPITULATIF!D13","v":{"v":4.686,"d":"4.686 €"}},null,"au",{"$f":"RECAPITULATIF!D15","v":"2019-01-01"}]
[{"$nulls":17},{"$f":"'GRILLE C1'!B16","v":3},{"$f":"'GRILLE C1'!C16","v":24},{"$f":"'GRILLE C1'!D16","v":328}]
[]
["Soit un gain net mensuel de :",{"$nulls":5},{"$f":"I40*C46*0.8315","v":{"v":7.7928180000000005,"d":"7.79 €"}},{"$nulls":10},{"$f":"'GRILLE C1'!B18","v":4},{"$f":"'GRILLE C1'!C18","v":24},{"$f":"'GRILLE C1'!D18","v":329}]
[]
[{"$nulls":17},{"$f":"'GRILLE C1'!B20","v":5},{"$f":"'GRILLE C1'!C20","v":24},{"$f":"'GRILLE C1'!D20","v":330}]
[]
[{"$nulls":17},{"$f":"'GRILLE C1'!B22","v":6},{"$f":"'GRILLE C1'!C22","v":24},{"$f":"'GRILLE C1'!D22","v":332}]
["Vos représentant-e-s SUD Santé Sociaux ",{"$nulls":7},{"$f":"RECAPITULATIF!D21","v":35},null,"sont à votre disposition"]
["pour tous renseignements complémentaires au poste :",{"$nulls":11},{"$f":"RECAPITULATIF!D17","v":2886},{"$nulls":4},{"$f":"'GRILLE C1'!B24","v":7},{"$f":"'GRILLE C1'!C24","v":24},{"$f":"'GRILLE C1'!D24","v":335}]
[]
[{"$nulls":17},{"$f":"'GRILLE C1'!B26","v":8},{"$f":"'GRILLE C1'!C26","v":24},{"$f":"'GRILLE C1'!D26","v":339}]
[]
[{"$nulls":17},{"$f":"'GRILLE C1'!B28","v":9},{"$f":"'GRILLE C1'!C28","v":36},{"$f":"'GRILLE C1'!D28","v":343}]
["Recevez toutes nos salutations."]
[{"$nulls":17},{"$f":"'GRILLE C1'!B30","v":10},{"$f":"'GRILLE C1'!C30","v":36},{"$f":"'GRILLE C1'!D30","v":354}]
[]
[{"$f":"RECAPITULATIF!B5","v":"Véronique ERUSSARD, Servanne CORNEE, Sébastien BAYAUT"},{"$nulls":16},{"$f":"'GRILLE C1'!B32","v":11},{"$f":"'GRILLE C1'!C32","v":0},{"$f":"'GRILLE C1'!D32","v":367}]
[]
["SUD Santé Sociaux",{"$nulls":3},{"$f":"RECAPITULATIF!D21","v":35}]
[]
[]
[]
[]
["Tél :",{"$f":"RECAPITULATIF!D19","v":{"v":299212886,"d":"02 99 21 28 86"}}]
["Mél :",null,{"$f":"RECAPITULATIF!C23","v":"sudsante@ch-stmalo.fr"}]
[{"$f":"RECAPITULATIF!B25","v":"Site Départemental Sud"},{"$nulls":4},{"$f":"RECAPITULATIF!D25","v":"http://www.sudsantesociaux35.org"}]

{"sheet":"C1 Echelon 7","index":24,"n_rows":72,"n_cols":20,"rows_kept":72,"merged":[[1,6,1,16],[2,6,2,11],[2,12,2,16],[8,12,9,14],[12,12,12,14],[15,0,15,14],[17,0,17,16],[19,0,19,3],[21,0,21,14],[23,0,23,4],[23,5,23,8],[23,10,23,12],[23,13,23,16],[26,5,27,17],[32,0,32,4],[32,5,32,6],[32,7,32,10],[32,11,32,12],[32,17,35,19],[35,0,35,2],[35,8,35,9],[36,17,39,19],[39,0,39,7],[39,8,39,9],[39,10,39,13],[40,17,41,17],[40,18,41,18],[40,19,41,19],[42,0,42,12],[42,17,43,17],[42,18,43,18],[42,19,43,19],[44,17,45,17],[44,18,45,18],[44,19,45,19],[45,2,45,3],[45,5,45,7],[46,17,47,17],[46,18,47,18],[46,19,47,19],[48,0,48,5],[48,6,48,8],[48,17,49,17],[48,18,49,18],[48,19,49,19],[50,17,51,17],[50,18,51,18],[50,19,51,19],[52,17,53,17],[52,18,53,18],[52,19,53,19],[53,0,53,7],[53,8,53,9],[53,10,53,14],[54,0,54,11],[54,12,54,13],[54,17,55,17],[54,18,55,18],[54,19,55,19],[56,17,57,17],[56,18,57,18],[56,19,57,19],[57,0,57,16],[58,17,59,17],[58,18,59,18],[58,19,59,19],[59,0,59,16],[60,17,61,17],[60,18,61,18],[60,19,61,19],[62,0,62,16],[62,17,63,17],[62,18,63,18],[62,19,63,19],[64,0,64,3],[69,1,69,4],[70,0,70,1],[70,2,70,7],[71,0,71,4],[71,5,71,12]]}
[]
[{"$nulls":6},"Commission Administrative"]
[{"$nulls":6},"Paritaire",{"$nulls":5},{"$f":"RECAPITULATIF!D7","v":"Locale"}]
[]
[]
[]
[]
[]
[{"$nulls":12},"Mme, Mr :"]
[]
[{"$nulls":12},"Grade :"]
[]
[{"$nulls":12},"Service :"]
[]
[]
["Votre ou vos représentant-e-s du personnel"]
[]
[{"$f":"RECAPITULATIF!B5","v":"Véronique ERUSSARD, Servanne CORNEE, Sébastien BAYAUT"}]
[]
["SUD Santé Sociaux",{"$nulls":3},{"$f":"RECAPITULATIF!D21","v":35},"du:"]
[]
[{"$f":"RECAPITULATIF!B2","v":"Centre Hospitalier de Saint Malo"}]
[]
["siégeant auprès de la CAP",{"$nulls":4},{"$f":"RECAPITULATIF!D7","v":"Locale"},{"$nulls":3},"du :",{"$f":"RECAPITULATIF!D11","v":"2019-04-16"},null,null,"vous informe de votre :"]
[]
[]
[{"$nulls":5},"AVANCEMENT D’ECHELON"]
[]
[]
[]
[]
[]
["Vous passez à l’échelon :",{"$nulls":4},{"$f":"'GRILLE C1'!B24","v":7},null,"Indice Majoré :",{"$nulls":3},{"$f":"'GRILLE C1'!D24","v":335},{"$nulls":5},{"$f":"'GRILLE C1'!B2","v":"Catégorie C\nGrade C1\nAncienne Echelle 3"}]
[]
[]
["Date d'effet :",{"$nulls":4},"/",null,"/",{"$f":"RECAPITULATIF!D9","v":2019}]
[{"$nulls":17},{"$f":"'GRILLE C1'!B6","v":"Adjoint Administratifs\nAgent d'Entretien Qualifié\nAgent de Service Hospitalier Qualifié Classe Normale\nAide d'Electroradiologie Classe Normale (extinction)\nAide de Laboratoire Classe Normale (extinction)\nAide de Pharmacie Classe Normale(extinction)"}]
[]
[]
["Ce qui représente un gain mensuel de :",{"$nulls":7},{"$f":"'GRILLE C1'!D24-'GRILLE C1'!D22","v":3},null,"points d'indice."]
[{"$nulls":17},{"$f":"'GRILLE C1'!B10","v":"Echelon"},{"$f":"'GRILLE C1'!C10","v":"Durée\n(en mois)"},{"$f":"'GRILLE C1'!D10","v":"Indice\nMajoré"}]
[]
["Pour information, la valeur brute du point d'indice",{"$nulls":16},{"$f":"'GRILLE C1'!B12","v":1},{"$f":"'GRILLE C1'!C12","v":12},{"$f":"'GRILLE C1'!D12","v":326}]
[]
[{"$nulls":17},{"$f":"'GRILLE C1'!B14","v":2},{"$f":"'GRILLE C1'!C14","v":24},{"$f":"'GRILLE C1'!D14","v":327}]
["est de",null,{"$f":"RECAPITULATIF!D13","v":{"v":4.686,"d":"4.686 €"}},null,"au",{"$f":"RECAPITULATIF!D15","v":"2019-01-01"}]
[{"$nulls":17},{"$f":"'GRILLE C1'!B16","v":3},{"$f":"'GRILLE C1'!C16","v":24},{"$f":"'GRILLE C1'!D16","v":328}]
[]
["Soit un gain net mensuel de :",{"$nulls":5},{"$f":"I40*C46*0.8315","v":{"v":11.689227,"d":"11.69 €"}},{"$nulls":10},{"$f":"'GRILLE C1'!B18","v":4},{"$f":"'GRILLE C1'!C18","v":24},{"$f":"'GRILLE C1'!D18","v":329}]
[]
[{"$nulls":17},{"$f":"'GRILLE C1'!B20","v":5},{"$f":"'GRILLE C1'!C20","v":24},{"$f":"'GRILLE C1'!D20","v":330}]
[]
[{"$nulls":17},{"$f":"'GRILLE C1'!B22","v":6},{"$f":"'GRILLE C1'!C22","v":24},{"$f":"'GRILLE C1'!D22","v":332}]
["Vos représentant-e-s SUD Santé Sociaux ",{"$nulls":7},{"$f":"RECAPITULATIF!D21","v":35},null,"sont à votre disposition"]
["pour tous renseignements complémentaires au poste :",{"$nulls":11},{"$f":"RECAPITULATIF!D17","v":2886},{"$nulls":4},{"$f":"'GRILLE C1'!B24","v":7},{"$f":"'GRILLE C1'!C24","v":24},{"$f":"'GRILLE C1'!D24","v":335}]
[]
[{"$nulls":17},{"$f":"'GRILLE C1'!B26","v":8},{"$f":"'GRILLE C1'!C26","v":24},{"$f":"'GRILLE C1'!D26","v":339}]
[]
[{"$nulls":17},{"$f":"'GRILLE C1'!B28","v":9},{"$f":"'GRILLE C1'!C28","v":36},{"$f":"'GRILLE C1'!D28","v":343}]
["Recevez toutes nos salutations."]
[{"$nulls":17},{"$f":"'GRILLE C1'!B30","v":10},{"$f":"'GRILLE C1'!C30","v":36},{"$f":"'GRILLE C1'!D30","v":354}]
[]
[{"$f":"RECAPITULATIF!B5","v":"Véronique ERUSSARD, Servanne CORNEE, Sébastien BAYAUT"},{"$nulls":16},{"$f":"'GRILLE C1'!B32","v":11},{"$f":"'GRILLE C1'!C32","v":0},{"$f":"'GRILLE C1'!D32","v":367}]
[]
["SUD Santé Sociaux",{"$nulls":3},{"$f":"RECAPITULATIF!D21","v":35}]
[]
[]
[]
[]
["Tél :",{"$f":"RECAPITULATIF!D19","v":{"v":299212886,"d":"02 99 21 28 86"}}]
["Mél :",null,{"$f":"RECAPITULATIF!C23","v":"sudsante@ch-stmalo.fr"}]
[{"$f":"RECAPITULATIF!B25","v":"Site Départemental Sud"},{"$nulls":4},{"$f":"RECAPITULATIF!D25","v":"http://www.sudsantesociaux35.org"}]

{"sheet":"C1 Echelon 8","index":25,"n_rows":72,"n_cols":20,"rows_kept":72,"merged":[[1,6,1,16],[2,6,2,11],[2,12,2,16],[8,12,9,14],[12,12,12,14],[15,0,15,14],[17,0,17,16],[19,0,19,3],[21,0,21,14],[23,0,23,4],[23,5,23,8],[23,10,23,12],[23,13,23,16],[26,5,27,17],[32,0,32,4],[32,5,32,6],[32,7,32,10],[32,11,32,12],[32,17,35,19],[35,0,35,2],[35,8,35,9],[36,17,39,19],[39,0,39,7],[39,8,39,9],[39,10,39,13],[40,17,41,17],[40,18,41,18],[40,19,41,19],[42,0,42,12],[42,17,43,17],[42,18,43,18],[42,19,43,19],[44,17,45,17],[44,18,45,18],[44,19,45,19],[45,2,45,3],[45,5,45,7],[46,17,47,17],[46,18,47,18],[46,19,47,19],[48,0,48,5],[48,6,48,8],[48,17,49,17],[48,18,49,18],[48,19,49,19],[50,17,51,17],[50,18,51,18],[50,19,51,19],[52,17,53,17],[52,18,53,18],[52,19,53,19],[53,0,53,7],[53,8,53,9],[53,10,53,14],[54,0,54,11],[54,12,54,13],[54,17,55,17],[54,18,55,18],[54,19,55,19],[56,17,57,17],[56,18,57,18],[56,19,57,19],[57,0,57,16],[58,17,59,17],[58,18,59,18],[58,19,59,19],[59,0,59,16],[60,17,61,17],[60,18,61,18],[60,19,61,19],[62,0,62,16],[62,17,63,17],[62,18,63,18],[62,19,63,19],[64,0,64,3],[69,1,69,4],[70,0,70,1],[70,2,70,7],[71,0,71,4],[71,5,71,12]]}
[]
[{"$nulls":6},"Commission Administrative"]
[{"$nulls":6},"Paritaire",{"$nulls":5},{"$f":"RECAPITULATIF!D7","v":"Locale"}]
[]
[]
[]
[]
[]
[{"$nulls":12},"Mme, Mr :"]
[]
[{"$nulls":12},"Grade :"]
[]
[{"$nulls":12},"Service :"]
[]
[]
["Votre ou vos représentant-e-s du personnel"]
[]
[{"$f":"RECAPITULATIF!B5","v":"Véronique ERUSSARD, Servanne CORNEE, Sébastien BAYAUT"}]
[]
["SUD Santé Sociaux",{"$nulls":3},{"$f":"RECAPITULATIF!D21","v":35},"du:"]
[]
[{"$f":"RECAPITULATIF!B2","v":"Centre Hospitalier de Saint Malo"}]
[]
["siégeant auprès de la CAP",{"$nulls":4},{"$f":"RECAPITULATIF!D7","v":"Locale"},{"$nulls":3},"du :",{"$f":"RECAPITULATIF!D11","v":"2019-04-16"},null,null,"vous informe de votre :"]
[]
[]
[{"$nulls":5},"AVANCEMENT D’ECHELON"]
[]
[]
[]
[]
[]
["Vous passez à l’échelon :",{"$nulls":4},{"$f":"'GRILLE C1'!B26","v":8},null,"Indice Majoré :",{"$nulls":3},{"$f":"'GRILLE C1'!D26","v":339},{"$nulls":5},{"$f":"'GRILLE C1'!B2","v":"Catégorie C\nGrade C1\nAncienne Echelle 3"}]
[]
[]
["Date d'effet :",{"$nulls":4},"/",null,"/",{"$f":"RECAPITULATIF!D9","v":2019}]
[{"$nulls":17},{"$f":"'GRILLE C1'!B6","v":"Adjoint Administratifs\nAgent d'Entretien Qualifié\nAgent de Service Hospitalier Qualifié Classe Normale\nAide d'Electroradiologie Classe Normale (extinction)\nAide de Laboratoire Classe Normale (extinction)\nAide de Pharmacie Classe Normale(extinction)"}]
[]
[]
["Ce qui représente un gain mensuel de :",{"$nulls":7},{"$f":"'GRILLE C1'!D26-'GRILLE C1'!D24","v":4},null,"points d'indice."]
[{"$nulls":17},{"$f":"'GRILLE C1'!B10","v":"Echelon"},{"$f":"'GRILLE C1'!C10","v":"Durée\n(en mois)"},{"$f":"'GRILLE C1'!D10","v":"Indice\nMajoré"}]
[]
["Pour information, la valeur brute du point d'indice",{"$nulls":16},{"$f":"'GRILLE C1'!B12","v":1},{"$f":"'GRILLE C1'!C12","v":12},{"$f":"'GRILLE C1'!D12","v":326}]
[]
[{"$nulls":17},{"$f":"'GRILLE C1'!B14","v":2},{"$f":"'GRILLE C1'!C14","v":24},{"$f":"'GRILLE C1'!D14","v":327}]
["est de",null,{"$f":"RECAPITULATIF!D13","v":{"v":4.686,"d":"4.686 €"}},null,"au",{"$f":"RECAPITULATIF!D15","v":"2019-01-01"}]
[{"$nulls":17},{"$f":"'GRILLE C1'!B16","v":3},{"$f":"'GRILLE C1'!C16","v":24},{"$f":"'GRILLE C1'!D16","v":328}]
[]
["Soit un gain net mensuel de :",{"$nulls":5},{"$f":"I40*C46*0.8315","v":{"v":15.585636000000001,"d":"15.59 €"}},{"$nulls":10},{"$f":"'GRILLE C1'!B18","v":4},{"$f":"'GRILLE C1'!C18","v":24},{"$f":"'GRILLE C1'!D18","v":329}]
[]
[{"$nulls":17},{"$f":"'GRILLE C1'!B20","v":5},{"$f":"'GRILLE C1'!C20","v":24},{"$f":"'GRILLE C1'!D20","v":330}]
[]
[{"$nulls":17},{"$f":"'GRILLE C1'!B22","v":6},{"$f":"'GRILLE C1'!C22","v":24},{"$f":"'GRILLE C1'!D22","v":332}]
["Vos représentant-e-s SUD Santé Sociaux ",{"$nulls":7},{"$f":"RECAPITULATIF!D21","v":35},null,"sont à votre disposition"]
["pour tous renseignements complémentaires au poste :",{"$nulls":11},{"$f":"RECAPITULATIF!D17","v":2886},{"$nulls":4},{"$f":"'GRILLE C1'!B24","v":7},{"$f":"'GRILLE C1'!C24","v":24},{"$f":"'GRILLE C1'!D24","v":335}]
[]
[{"$nulls":17},{"$f":"'GRILLE C1'!B26","v":8},{"$f":"'GRILLE C1'!C26","v":24},{"$f":"'GRILLE C1'!D26","v":339}]
[]
[{"$nulls":17},{"$f":"'GRILLE C1'!B28","v":9},{"$f":"'GRILLE C1'!C28","v":36},{"$f":"'GRILLE C1'!D28","v":343}]
["Recevez toutes nos salutations."]
[{"$nulls":17},{"$f":"'GRILLE C1'!B30","v":10},{"$f":"'GRILLE C1'!C30","v":36},{"$f":"'GRILLE C1'!D30","v":354}]
[]
[{"$f":"RECAPITULATIF!B5","v":"Véronique ERUSSARD, Servanne CORNEE, Sébastien BAYAUT"},{"$nulls":16},{"$f":"'GRILLE C1'!B32","v":11},{"$f":"'GRILLE C1'!C32","v":0},{"$f":"'GRILLE C1'!D32","v":367}]
[]
["SUD Santé Sociaux",{"$nulls":3},{"$f":"RECAPITULATIF!D21","v":35}]
[]
[]
[]
[]
["Tél :",{"$f":"RECAPITULATIF!D19","v":{"v":299212886,"d":"02 99 21 28 86"}}]
["Mél :",null,{"$f":"RECAPITULATIF!C23","v":"sudsante@ch-stmalo.fr"}]
[{"$f":"RECAPITULATIF!B25","v":"Site Départemental Sud"},{"$nulls":4},{"$f":"RECAPITULATIF!D25","v":"http://www.sudsantesociaux35.org"}]

{"sheet":"C1 Echelon 9","index":26,"n_rows":72,"n_cols":20,"rows_kept":72,"merged":[[1,6,1,16],[2,6,2,11],[2,12,2,16],[8,12,9,14],[12,12,12,14],[15,0,15,14],[17,0,17,16],[19,0,19,3],[21,0,21,14],[23,0,23,4],[23,5,23,8],[23,10,23,12],[23,13,23,16],[26,5,27,17],[32,0,32,4],[32,5,32,6],[32,7,32,10],[32,11,32,12],[32,17,35,19],[35,0,35,2],[35,8,35,9],[36,17,39,19],[39,0,39,7],[39,8,39,9],[39,10,39,13],[40,17,41,17],[40,18,41,18],[40,19,41,19],[42,0,42,12],[42,17,43,17],[42,18,43,18],[42,19,43,19],[44,17,45,17],[44,18,45,18],[44,19,45,19],[45,2,45,3],[45,5,45,7],[46,17,47,17],[46,18,47,18],[46,19,47,19],[48,0,48,5],[48,6,48,8],[48,17,49,17],[48,18,49,18],[48,19,49,19],[50,17,51,17],[50,18,51,18],[50,19,51,19],[52,17,53,17],[52,18,53,18],[52,19,53,19],[53,0,53,7],[53,8,53,9],[53,10,53,14],[54,0,54,11],[54,12,54,13],[54,17,55,17],[54,18,55,18],[54,19,55,19],[56,17,57,17],[56,18,57,18],[56,19,57,19],[57,0,57,16],[58,17,59,17],[58,18,59,18],[58,19,59,19],[59,0,59,16],[60,17,61,17],[60,18,61,18],[60,19,61,19],[62,0,62,16],[62,17,63,17],[62,18,63,18],[62,19,63,19],[64,0,64,3],[69,1,69,4],[70,0,70,1],[70,2,70,7],[71,0,71,4],[71,5,71,12]]}
[]
[{"$nulls":6},"Commission Administrative"]
[{"$nulls":6},"Paritaire",{"$nulls":5},{"$f":"RECAPITULATIF!D7","v":"Locale"}]
[]
[]
[]
[]
[]
[{"$nulls":12},"Mme, Mr :"]
[]
[{"$nulls":12},"Grade :"]
[]
[{"$nulls":12},"Service :"]
[]
[]
["Votre ou vos représentant-e-s du personnel"]
[]
[{"$f":"RECAPITULATIF!B5","v":"Véronique ERUSSARD, Servanne CORNEE, Sébastien BAYAUT"}]
[]
["SUD Santé Sociaux",{"$nulls":3},{"$f":"RECAPITULATIF!D21","v":35},"du:"]
[]
[{"$f":"RECAPITULATIF!B2","v":"Centre Hospitalier de Saint Malo"}]
[]
["siégeant auprès de la CAP",{"$nulls":4},{"$f":"RECAPITULATIF!D7","v":"Locale"},{"$nulls":3},"du :",{"$f":"RECAPITULATIF!D11","v":"2019-04-16"},null,null,"vous informe de votre :"]
[]
[]
[{"$nulls":5},"AVANCEMENT D’ECHELON"]
[]
[]
[]
[]
[]
["Vous passez à l’échelon :",{"$nulls":4},{"$f":"'GRILLE C1'!B28","v":9},null,"Indice Majoré :",{"$nulls":3},{"$f":"'GRILLE C1'!D28","v":343},{"$nulls":5},{"$f":"'GRILLE C1'!B2","v":"Catégorie C\nGrade C1\nAncienne Echelle 3"}]
[]
[]
["Date d'effet :",{"$nulls":4},"/",null,"/",{"$f":"RECAPITULATIF!D9","v":2019}]
[{"$nulls":17},{"$f":"'GRILLE C1'!B6","v":"Adjoint Administratifs\nAgent d'Entretien Qualifié\nAgent de Service Hospitalier Qualifié Classe Normale\nAide d'Electroradiologie Classe Normale (extinction)\nAide de Laboratoire Classe Normale (extinction)\nAide de Pharmacie Classe Normale(extinction)"}]
[]
[]
["Ce qui représente un gain mensuel de :",{"$nulls":7},{"$f":"'GRILLE C1'!D28-'GRILLE C1'!D26","v":4},null,"points d'indice."]
[{"$nulls":17},{"$f":"'GRILLE C1'!B10","v":"Echelon"},{"$f":"'GRILLE C1'!C10","v":"Durée\n(en mois)"},{"$f":"'GRILLE C1'!D10","v":"Indice\nMajoré"}]
[]
["Pour information, la valeur brute du point d'indice",{"$nulls":16},{"$f":"'GRILLE C1'!B12","v":1},{"$f":"'GRILLE C1'!C12","v":12},{"$f":"'GRILLE C1'!D12","v":326}]
[]
[{"$nulls":17},{"$f":"'GRILLE C1'!B14","v":2},{"$f":"'GRILLE C1'!C14","v":24},{"$f":"'GRILLE C1'!D14","v":327}]
["est de",null,{"$f":"RECAPITULATIF!D13","v":{"v":4.686,"d":"4.686 €"}},null,"au",{"$f":"RECAPITULATIF!D15","v":"2019-01-01"}]
[{"$nulls":17},{"$f":"'GRILLE C1'!B16","v":3},{"$f":"'GRILLE C1'!C16","v":24},{"$f":"'GRILLE C1'!D16","v":328}]
[]
["Soit un gain net mensuel de :",{"$nulls":5},{"$f":"I40*C46*0.8315","v":{"v":15.585636000000001,"d":"15.59 €"}},{"$nulls":10},{"$f":"'GRILLE C1'!B18","v":4},{"$f":"'GRILLE C1'!C18","v":24},{"$f":"'GRILLE C1'!D18","v":329}]
[]
[{"$nulls":17},{"$f":"'GRILLE C1'!B20","v":5},{"$f":"'GRILLE C1'!C20","v":24},{"$f":"'GRILLE C1'!D20","v":330}]
[]
[{"$nulls":17},{"$f":"'GRILLE C1'!B22","v":6},{"$f":"'GRILLE C1'!C22","v":24},{"$f":"'GRILLE C1'!D22","v":332}]
["Vos représentant-e-s SUD Santé Sociaux ",{"$nulls":7},{"$f":"RECAPITULATIF!D21","v":35},null,"sont à votre disposition"]
["pour tous renseignements complémentaires au poste :",{"$nulls":11},{"$f":"RECAPITULATIF!D17","v":2886},{"$nulls":4},{"$f":"'GRILLE C1'!B24","v":7},{"$f":"'GRILLE C1'!C24","v":24},{"$f":"'GRILLE C1'!D24","v":335}]
[]
[{"$nulls":17},{"$f":"'GRILLE C1'!B26","v":8},{"$f":"'GRILLE C1'!C26","v":24},{"$f":"'GRILLE C1'!D26","v":339}]
[]
[{"$nulls":17},{"$f":"'GRILLE C1'!B28","v":9},{"$f":"'GRILLE C1'!C28","v":36},{"$f":"'GRILLE C1'!D28","v":343}]
["Recevez toutes nos salutations."]
[{"$nulls":17},{"$f":"'GRILLE C1'!B30","v":10},{"$f":"'GRILLE C1'!C30","v":36},{"$f":"'GRILLE C1'!D30","v":354}]
[]
[{"$f":"RECAPITULATIF!B5","v":"Véronique ERUSSARD, Servanne CORNEE, Sébastien BAYAUT"},{"$nulls":16},{"$f":"'GRILLE C1'!B32","v":11},{"$f":"'GRILLE C1'!C32","v":0},{"$f":"'GRILLE C1'!D32","v":367}]
[]
["SUD Santé Sociaux",{"$nulls":3},{"$f":"RECAPITULATIF!D21","v":35}]
[]
[]
[]
[]
["Tél :",{"$f":"RECAPITULATIF!D19","v":{"v":299212886,"d":"02 99 21 28 86"}}]
["Mél :",null,{"$f":"RECAPITULATIF!C23","v":"sudsante@ch-stmalo.fr"}]
[{"$f":"RECAPITULATIF!B25","v":"Site Départemental Sud"},{"$nulls":4},{"$f":"RECAPITULATIF!D25","v":"http://www.sudsantesociaux35.org"}]

{"sheet":"C1 Echelon 10","index":27,"n_rows":72,"n_cols":20,"rows_kept":72,"merged":[[1,6,1,16],[2,6,2,11],[2,12,2,16],[8,12,9,14],[12,12,12,14],[15,0,15,14],[17,0,17,16],[19,0,19,3],[21,0,21,14],[23,0,23,4],[23,5,23,8],[23,10,23,12],[23,13,23,16],[26,5,27,17],[32,0,32,4],[32,5,32,6],[32,7,32,10],[32,11,32,12],[32,17,35,19],[35,0,35,2],[35,8,35,9],[36,17,39,19],[39,0,39,7],[39,8,39,9],[39,10,39,13],[40,17,41,17],[40,18,41,18],[40,19,41,19],[42,0,42,12],[42,17,43,17],[42,18,43,18],[42,19,43,19],[44,17,45,17],[44,18,45,18],[44,19,45,19],[45,2,45,3],[45,5,45,7],[46,17,47,17],[46,18,47,18],[46,19,47,19],[48,0,48,5],[48,6,48,8],[48,17,49,17],[48,18,49,18],[48,19,49,19],[50,17,51,17],[50,18,51,18],[50,19,51,19],[52,17,53,17],[52,18,53,18],[52,19,53,19],[53,0,53,7],[53,8,53,9],[53,10,53,14],[54,0,54,11],[54,12,54,13],[54,17,55,17],[54,18,55,18],[54,19,55,19],[56,17,57,17],[56,18,57,18],[56,19,57,19],[57,0,57,16],[58,17,59,17],[58,18,59,18],[58,19,59,19],[59,0,59,16],[60,17,61,17],[60,18,61,18],[60,19,61,19],[62,0,62,16],[62,17,63,17],[62,18,63,18],[62,19,63,19],[64,0,64,3],[69,1,69,4],[70,0,70,1],[70,2,70,7],[71,0,71,4],[71,5,71,12]]}
[]
[{"$nulls":6},"Commission Administrative"]
[{"$nulls":6},"Paritaire",{"$nulls":5},{"$f":"RECAPITULATIF!D7","v":"Locale"}]
[]
[]
[]
[]
[]
[{"$nulls":12},"Mme, Mr :"]
[]
[{"$nulls":12},"Grade :"]
[]
[{"$nulls":12},"Service :"]
[]
[]
["Votre ou vos représentant-e-s du personnel"]
[]
[{"$f":"RECAPITULATIF!B5","v":"Véronique ERUSSARD, Servanne CORNEE, Sébastien BAYAUT"}]
[]
["SUD Santé Sociaux",{"$nulls":3},{"$f":"RECAPITULATIF!D21","v":35},"du:"]
[]
[{"$f":"RECAPITULATIF!B2","v":"Centre Hospitalier de Saint Malo"}]
[]
["siégeant auprès de la CAP",{"$nulls":4},{"$f":"RECAPITULATIF!D7","v":"Locale"},{"$nulls":3},"du :",{"$f":"RECAPITULATIF!D11","v":"2019-04-16"},null,null,"vous informe de votre :"]
[]
[]
[{"$nulls":5},"AVANCEMENT D’ECHELON"]
[]
[]
[]
[]
[]
["Vous passez à l’échelon :",{"$nulls":4},{"$f":"'GRILLE C1'!B30","v":10},null,"Indice Majoré :",{"$nulls":3},{"$f":"'GRILLE C1'!D30","v":354},{"$nulls":5},{"$f":"'GRILLE C1'!B2","v":"Catégorie C\nGrade C1\nAncienne Echelle 3"}]
[]
[]
["Date d'effet :",{"$nulls":4},"/",null,"/",{"$f":"RECAPITULATIF!D9","v":2019}]
[{"$nulls":17},{"$f":"'GRILLE C1'!B6","v":"Adjoint Administratifs\nAgent d'Entretien Qualifié\nAgent de Service Hospitalier Qualifié Classe Normale\nAide d'Electroradiologie Classe Normale (extinction)\nAide de Laboratoire Classe Normale (extinction)\nAide de Pharmacie Classe Normale(extinction)"}]
[]
[]
["Ce qui représente un gain mensuel de :",{"$nulls":7},{"$f":"'GRILLE C1'!D30-'GRILLE C1'!D28","v":11},null,"points d'indice."]
[{"$nulls":17},{"$f":"'GRILLE C1'!B10","v":"Echelon"},{"$f":"'GRILLE C1'!C10","v":"Durée\n(en mois)"},{"$f":"'GRILLE C1'!D10","v":"Indice\nMajoré"}]
[]
["Pour information, la valeur brute du point d'indice",{"$nulls":16},{"$f":"'GRILLE C1'!B12","v":1},{"$f":"'GRILLE C1'!C12","v":12},{"$f":"'GRILLE C1'!D12","v":326}]
[]
[{"$nulls":17},{"$f":"'GRILLE C1'!B14","v":2},{"$f":"'GRILLE C1'!C14","v":24},{"$f":"'GRILLE C1'!D14","v":327}]
["est de",null,{"$f":"RECAPITULATIF!D13","v":{"v":4.686,"d":"4.686 €"}},null,"au",{"$f":"RECAPITULATIF!D15","v":"2019-01-01"}]
[{"$nulls":17},{"$f":"'GRILLE C1'!B16","v":3},{"$f":"'GRILLE C1'!C16","v":24},{"$f":"'GRILLE C1'!D16","v":328}]
[]
["Soit un gain net mensuel de :",{"$nulls":5},{"$f":"I40*C46*0.8315","v":{"v":42.860499,"d":"42.86 €"}},{"$nulls":10},{"$f":"'GRILLE C1'!B18","v":4},{"$f":"'GRILLE C1'!C18","v":24},{"$f":"'GRILLE C1'!D18","v":329}]
[]
[{"$nulls":17},{"$f":"'GRILLE C1'!B20","v":5},{"$f":"'GRILLE C1'!C20","v":24},{"$f":"'GRILLE C1'!D20","v":330}]
[]
[{"$nulls":17},{"$f":"'GRILLE C1'!B22","v":6},{"$f":"'GRILLE C1'!C22","v":24},{"$f":"'GRILLE C1'!D22","v":332}]
["Vos représentant-e-s SUD Santé Sociaux ",{"$nulls":7},{"$f":"RECAPITULATIF!D21","v":35},null,"sont à votre disposition"]
["pour tous renseignements complémentaires au poste :",{"$nulls":11},{"$f":"RECAPITULATIF!D17","v":2886},{"$nulls":4},{"$f":"'GRILLE C1'!B24","v":7},{"$f":"'GRILLE C1'!C24","v":24},{"$f":"'GRILLE C1'!D24","v":335}]
[]
[{"$nulls":17},{"$f":"'GRILLE C1'!B26","v":8},{"$f":"'GRILLE C1'!C26","v":24},{"$f":"'GRILLE C1'!D26","v":339}]
[]
[{"$nulls":17},{"$f":"'GRILLE C1'!B28","v":9},{"$f":"'GRILLE C1'!C28","v":36},{"$f":"'GRILLE C1'!D28","v":343}]
["Recevez toutes nos salutations."]
[{"$nulls":17},{"$f":"'GRILLE C1'!B30","v":10},{"$f":"'GRILLE C1'!C30","v":36},{"$f":"'GRILLE C1'!D30","v":354}]
[]
[{"$f":"RECAPITULATIF!B5","v":"Véronique ERUSSARD, Servanne CORNEE, Sébastien BAYAUT"},{"$nulls":16},{"$f":"'GRILLE C1'!B32","v":11},{"$f":"'GRILLE C1'!C32","v":0},{"$f":"'GRILLE C1'!D32","v":367}]
[]
["SUD Santé Sociaux",{"$nulls":3},{"$f":"RECAPITULATIF!D21","v":35}]
[]
[]
[]
[]
["Tél :",{"$f":"RECAPITULATIF!D19","v":{"v":299212886,"d":"02 99 21 28 86"}}]
["Mél :",null,{"$f":"RECAPITULATIF!C23","v":"sudsante@ch-stmalo.fr"}]
[{"$f":"RECAPITULATIF!B25","v":"Site Départemental Sud"},{"$nulls":4},{"$f":"RECAPITULATIF!D25","v":"http://www.sudsantesociaux35.org"}]

{"sheet":"C1 Echelon 11","index":28,"n_rows":72,"n_cols":20,"rows_kept":72,"merged":[[1,6,1,16],[2,6,2,11],[2,12,2,16],[8,12,9,14],[12,12,12,14],[15,0,15,14],[17,0,17,16],[19,0,19,3],[21,0,21,14],[23,0,23,4],[23,5,23,8],[23,10,23,12],[23,13,23,16],[26,5,27,17],[32,0,32,4],[32,5,32,6],[32,7,32,10],[32,11,32,12],[32,17,35,19],[35,0,35,2],[35,8,35,9],[36,17,39,19],[39,0,39,7],[39,8,39,9],[39,10,39,13],[40,17,41,17],[40,18,41,18],[40,19,41,19],[42,0,42,12],[42,17,43,17],[42,18,43,18],[42,19,43,19],[44,17,45,17],[44,18,45,18],[44,19,45,19],[45,2,45,3],[45,5,45,7],[46,17,47,17],[46,18,47,18],[46,19,47,19],[48,0,48,5],[48,6,48,8],[48,17,49,17],[48,18,49,18],[48,19,49,19],[50,17,51,17],[50,18,51,18],[50,19,51,19],[52,17,53,17],[52,18,53,18],[52,19,53,19],[53,0,53,7],[53,8,53,9],[53,10,53,14],[54,0,54,11],[54,12,54,13],[54,17,55,17],[54,18,55,18],[54,19,55,19],[56,17,57,17],[56,18,57,18],[56,19,57,19],[57,0,57,16],[58,17,59,17],[58,18,59,18],[58,19,59,19],[59,0,59,16],[60,17,61,17],[60,18,61,18],[60,19,61,19],[62,0,62,16],[62,17,63,17],[62,18,63,18],[62,19,63,19],[64,0,64,3],[69,1,69,4],[70,0,70,1],[70,2,70,7],[71,0,71,4],[71,5,71,12]]}
[]
[{"$nulls":6},"Commission Administrative"]
[{"$nulls":6},"Paritaire",{"$nulls":5},{"$f":"RECAPITULATIF!D7","v":"Locale"}]
[]
[]
[]
[]
[]
[{"$nulls":12},"Mme, Mr :"]
[]
[{"$nulls":12},"Grade :"]
[]
[{"$nulls":12},"Service :"]
[]
[]
["Votre ou vos représentant-e-s du personnel"]
[]
[{"$f":"RECAPITULATIF!B5","v":"Véronique ERUSSARD, Servanne CORNEE, Sébastien BAYAUT"}]
[]
["SUD Santé Sociaux",{"$nulls":3},{"$f":"RECAPITULATIF!D21","v":35},"du:"]
[]
[{"$f":"RECAPITULATIF!B2","v":"Centre Hospitalier de Saint Malo"}]
[]
["siégeant auprès de la CAP",{"$nulls":4},{"$f":"RECAPITULATIF!D7","v":"Locale"},{"$nulls":3},"du :",{"$f":"RECAPITULATIF!D11","v":"2019-04-16"},null,null,"vous informe de votre :"]
[]
[]
[{"$nulls":5},"AVANCEMENT D’ECHELON"]
[]
[]
[]
[]
[]
["Vous passez à l’échelon :",{"$nulls":4},{"$f":"'GRILLE C1'!B32","v":11},null,"Indice Majoré :",{"$nulls":3},{"$f":"'GRILLE C1'!D32","v":367},{"$nulls":5},{"$f":"'GRILLE C1'!B2","v":"Catégorie C\nGrade C1\nAncienne Echelle 3"}]
[]
[]
["Date d'effet :",{"$nulls":4},"/",null,"/",{"$f":"RECAPITULATIF!D9","v":2019}]
[{"$nulls":17},{"$f":"'GRILLE C1'!B6","v":"Adjoint Administratifs\nAgent d'Entretien Qualifié\nAgent de Service Hospitalier Qualifié Classe Normale\nAide d'Electroradiologie Classe Normale (extinction)\nAide de Laboratoire Classe Normale (extinction)\nAide de Pharmacie Classe Normale(extinction)"}]
[]
[]
["Ce qui représente un gain mensuel de :",{"$nulls":7},{"$f":"'GRILLE C1'!D32-'GRILLE C1'!D30","v":13},null,"points d'indice."]
[{"$nulls":17},{"$f":"'GRILLE C1'!B10","v":"Echelon"},{"$f":"'GRILLE C1'!C10","v":"Durée\n(en mois)"},{"$f":"'GRILLE C1'!D10","v":"Indice\nMajoré"}]
[]
["Pour information, la valeur brute du point d'indice",{"$nulls":16},{"$f":"'GRILLE C1'!B12","v":1},{"$f":"'GRILLE C1'!C12","v":12},{"$f":"'GRILLE C1'!D12","v":326}]
[]
[{"$nulls":17},{"$f":"'GRILLE C1'!B14","v":2},{"$f":"'GRILLE C1'!C14","v":24},{"$f":"'GRILLE C1'!D14","v":327}]
["est de",null,{"$f":"RECAPITULATIF!D13","v":{"v":4.686,"d":"4.686 €"}},null,"au",{"$f":"RECAPITULATIF!D15","v":"2019-01-01"}]
[{"$nulls":17},{"$f":"'GRILLE C1'!B16","v":3},{"$f":"'GRILLE C1'!C16","v":24},{"$f":"'GRILLE C1'!D16","v":328}]
[]
["Soit un gain net mensuel de :",{"$nulls":5},{"$f":"I40*C46*0.8315","v":{"v":50.653317,"d":"50.65 €"}},{"$nulls":10},{"$f":"'GRILLE C1'!B18","v":4},{"$f":"'GRILLE C1'!C18","v":24},{"$f":"'GRILLE C1'!D18","v":329}]
[]
[{"$nulls":17},{"$f":"'GRILLE C1'!B20","v":5},{"$f":"'GRILLE C1'!C20","v":24},{"$f":"'GRILLE C1'!D20","v":330}]
[]
[{"$nulls":17},{"$f":"'GRILLE C1'!B22","v":6},{"$f":"'GRILLE C1'!C22","v":24},{"$f":"'GRILLE C1'!D22","v":332}]
["Vos représentant-e-s SUD Santé Sociaux ",{"$nulls":7},{"$f":"RECAPITULATIF!D21","v":35},null,"sont à votre disposition"]
["pour tous renseignements complémentaires au poste :",{"$nulls":11},{"$f":"RECAPITULATIF!D17","v":2886},{"$nulls":4},{"$f":"'GRILLE C1'!B24","v":7},{"$f":"'GRILLE C1'!C24","v":24},{"$f":"'GRILLE C1'!D24","v":335}]
[]
[{"$nulls":17},{"$f":"'GRILLE C1'!B26","v":8},{"$f":"'GRILLE C1'!C26","v":24},{"$f":"'GRILLE C1'!D26","v":339}]
[]
[{"$nulls":17},{"$f":"'GRILLE C1'!B28","v":9},{"$f":"'GRILLE C1'!C28","v":36},{"$f":"'GRILLE C1'!D28","v":343}]
["Recevez toutes nos salutations."]
[{"$nulls":17},{"$f":"'GRILLE C1'!B30","v":10},{"$f":"'GRILLE C1'!C30","v":36},{"$f":"'GRILLE C1'!D30","v":354}]
[]
[{"$f":"RECAPITULATIF!B5","v":"Véronique ERUSSARD, Servanne CORNEE, Sébastien BAYAUT"},{"$nulls":16},{"$f":"'GRILLE C1'!B32","v":11},{"$f":"'GRILLE C1'!C32","v":0},{"$f":"'GRILLE C1'!D32","v":367}]
[]
["SUD Santé Sociaux",{"$nulls":3},{"$f":"RECAPITULATIF!D21","v":35}]
[]
[]
[]
[]
["Tél :",{"$f":"RECAPITULATIF!D19","v":{"v":299212886,"d":"02 99 21 28 86"}}]
["Mél :",null,{"$f":"RECAPITULATIF!C23","v":"sudsante@ch-stmalo.fr"}]
[{"$f":"RECAPITULATIF!B25","v":"Site Départemental Sud"},{"$nulls":4},{"$f":"RECAPITULATIF!D25","v":"http://www.sudsantesociaux35.org"}]

{"sheet":"GRILLE C2","index":29,"n_rows":38,"n_cols":4,"rows_kept":38,"merged":[[1,1,4,3],[5,1,8,3],[9,1,12,3],[13,1,14,1],[13,2,14,2],[13,3,14,3],[15,1,16,1],[15,2,16,2],[15,3,16,3],[17,1,18,1],[17,2,18,2],[17,3,18,3],[19,1,20,1],[19,2,20,2],[19,3,20,3],[21,1,22,1],[21,2,22,2],[21,3,22,3],[23,1,24,1],[23,2,24,2],[23,3,24,3],[25,1,26,1],[25,2,26,2],[25,3,26,3],[27,1,28,1],[27,2,28,2],[27,3,28,3],[29,1,30,1],[29,2,30,2],[29,3,30,3],[31,1,32,1],[31,2,32,2],[31,3,32,3],[33,1,34,1],[33,2,34,2],[33,3,34,3],[35,1,36,1],[35,2,36,2],[35,3,36,3],[37,1,38,1],[37,2,38,2],[37,3,38,3]]}
[]
[null,"Catégorie C\nGrade C2\nAncienne Echelle 4 et 5"]
[]
[]
[]
[null,"Aide Medico-Psychologique (Ex Classe Normale)\nAide Soignant  (Ex Classe Normale)\nAuxilliaire de Puériculture (Ex Classe Normale)\nOuvrier Principal 2ème Classe\nAgent des Services Hospitaliers Qualifiés Classe Sup.\nAide d'Electroradiologie Classe Supérieure (extinction)\nAide de Laboratoire Classe Supérieure (extinction)\nAide de Pharmacie Classe Supérieure (extinction)\nAgent de Service Mortuaire et Désinfection (extinction)\nAgent de Désinfection 1ère Catégorie (extinction)\nConducteur Ambulancier, Déssinateur (extinction)"]
[]
[]
[]
[null,"Adjoint Administratifs Principal 2ème Classe\n Aide Medico-Psychologique (Ex Classe Supérieure)\nAide Soignant (Ex Classe Supérieure),  Aumônier\nAuxilliaire de Puériculture (Ex Classe Supérieure)\nConducteur Ambulancier, Ouvrier Principal 2ème Cl.\nAgent de Maîtrise, Aide Préparateur (extinction)\nAide Technique d'Electroradiologie (extinction)\nP A R M  2ème Classe, Déssinateur  (extinction)"]
[]
[]
[]
[null,"Echelon","Durée\n(en mois)","Indice\nMajoré"]
[]
[null,1,12,328]
[]
[null,2,24,330]
[]
[null,3,24,333]
[]
[null,4,24,336]
[]
[null,5,24,345]
[]
[null,6,24,351]
[]
[null,7,24,364]
[]
[null,8,24,380]
[]
[null,9,36,390]
[]
[null,10,36,402]
[]
[null,11,48,411]
[]
[null,12,null,418]

{"sheet":"IMP GRILLE C2","index":30,"n_rows":6,"n_cols":2,"rows_kept":6,"merged":[[1,1,1,9],[3,1,3,9],[5,1,5,9]]}
[]
[null,"1) Imprimez autant de feuilles que d'agents concernés."]
[]
[null,"2) Pliez en 3 au niveau du repère, deux petits traits noirs."]
[]
[null,"3) Inserrez ce courrier dans une enveloppe 110 X 220 à fenêtre."]

{"sheet":"C2 Echelon 2","index":31,"n_rows":73,"n_cols":20,"rows_kept":73,"merged":[[1,6,1,16],[2,6,2,11],[2,12,2,16],[8,12,9,14],[12,12,12,14],[15,0,15,14],[17,0,17,16],[19,0,19,3],[21,0,21,14],[23,0,23,4],[23,5,23,8],[23,10,23,12],[23,13,23,16],[26,5,27,17],[32,0,32,4],[32,5,32,6],[32,7,32,10],[32,11,32,12],[32,17,35,19],[35,0,35,2],[35,8,35,9],[36,17,39,19],[39,0,39,7],[39,8,39,9],[39,10,39,13],[40,17,43,19],[42,0,42,12],[44,17,45,17],[44,18,45,18],[44,19,45,19],[45,2,45,3],[45,5,45,7],[46,17,47,17],[46,18,47,18],[46,19,47,19],[48,0,48,5],[48,6,48,8],[48,17,49,17],[48,18,49,18],[48,19,49,19],[50,17,51,17],[50,18,51,18],[50,19,51,19],[52,17,53,17],[52,18,53,18],[52,19,53,19],[53,0,53,7],[53,8,53,9],[53,10,53,14],[54,0,54,11],[54,12,54,13],[54,17,55,17],[54,18,55,18],[54,19,55,19],[56,17,57,17],[56,18,57,18],[56,19,57,19],[57,0,57,16],[58,17,59,17],[58,18,59,18],[58,19,59,19],[59,0,59,16],[60,17,61,17],[60,18,61,18],[60,19,61,19],[62,0,62,16],[62,17,63,17],[62,18,63,18],[62,19,63,19],[64,0,64,3],[64,17,65,17],[64,18,65,18],[64,19,65,19],[66,17,67,17],[66,18,67,18],[66,19,67,19],[68,17,69,17],[68,18,69,18],[68,19,69,19],[70,1,70,4],[71,0,71,1],[71,2,71,7],[72,0,72,4],[72,5,72,12]]}
[]
[{"$nulls":6},"Commission Administrative"]
[{"$nulls":6},"Paritaire",{"$nulls":5},{"$f":"RECAPITULATIF!D7","v":"Locale"}]
[]
[]
[]
[]
[]
[{"$nulls":12},"Mme, Mr :"]
[]
[{"$nulls":12},"Grade :"]
[]
[{"$nulls":12},"Service :"]
[]
[]
["Votre ou vos représentant-e-s du personnel"]
[]
[{"$f":"RECAPITULATIF!B5","v":"Véronique ERUSSARD, Servanne CORNEE, Sébastien BAYAUT"}]
[]
["SUD Santé Sociaux",{"$nulls":3},{"$f":"RECAPITULATIF!D21","v":35},"du:"]
[]
[{"$f":"RECAPITULATIF!B2","v":"Centre Hospitalier de Saint Malo"}]
[]
["siégeant auprès de la CAP",{"$nulls":4},{"$f":"RECAPITULATIF!D7","v":"Locale"},{"$nulls":3},"du :",{"$f":"RECAPITULATIF!D11","v":"2019-04-16"},null,null,"vous informe de votre :"]
[]
[]
[{"$nulls":5},"AVANCEMENT D’ECHELON"]
[]
[]
[]
[]
[]
["Vous passez à l’échelon :",{"$nulls":4},{"$f":"'GRILLE C2'!B18","v":2},null,"Indice Majoré :",{"$nulls":3},{"$f":"'GRILLE C2'!D18","v":330},{"$nulls":5},{"$f":"'GRILLE C2'!B2","v":"Catégorie C\nGrade C2\nAncienne Echelle 4 et 5"}]
[]
[]
["Date d'effet :",{"$nulls":4},"/",null,"/",{"$f":"RECAPITULATIF!D9","v":2019}]
[{"$nulls":17},{"$f":"'GRILLE C2'!B6","v":"Aide Medico-Psychologique (Ex Classe Normale)\nAide Soignant  (Ex Classe Normale)\nAuxilliaire de Puériculture (Ex Classe Normale)\nOuvrier Principal 2ème Classe\nAgent des Services Hospitaliers Qualifiés Classe Sup.\nAide d'Electroradiologie Classe Supérieure (extinction)\nAide de Laboratoire Classe Supérieure (extinction)\nAide de Pharmacie Classe Supérieure (extinction)\nAgent de Service Mortuaire et Désinfection (extinction)\nAgent de Désinfection 1ère Catégorie (extinction)\nConducteur Ambulancier, Déssinateur (extinction)"}]
[]
[]
["Ce qui représente un gain mensuel de :",{"$nulls":7},{"$f":"'GRILLE C2'!D18-'GRILLE C2'!D16","v":2},null,"points d'indice."]
[{"$nulls":17},{"$f":"'GRILLE C2'!B10","v":"Adjoint Administratifs Principal 2ème Classe\n Aide Medico-Psychologique (Ex Classe Supérieure)\nAide Soignant (Ex Classe Supérieure),  Aumônier\nAuxilliaire de Puériculture (Ex Classe Supérieure)\nConducteur Ambulancier, Ouvrier Principal 2ème Cl.\nAgent de Maîtrise, Aide Préparateur (extinction)\nAide Technique d'Electroradiologie (extinction)\nP A R M  2ème Classe, Déssinateur  (extinction)"}]
[]
["Pour information, la valeur brute du point d'indice"]
[]
[{"$nulls":17},{"$f":"'GRILLE C2'!B14","v":"Echelon"},{"$f":"'GRILLE C2'!C14","v":"Durée\n(en mois)"},{"$f":"'GRILLE C2'!D14","v":"Indice\nMajoré"}]
["est de",null,{"$f":"RECAPITULATIF!D13","v":{"v":4.686,"d":"4.686 €"}},null,"au",{"$f":"RECAPITULATIF!D15","v":"2019-01-01"}]
[{"$nulls":17},{"$f":"'GRILLE C2'!B16","v":1},{"$f":"'GRILLE C2'!C16","v":12},{"$f":"'GRILLE C2'!D16","v":328}]
[]
["Soit un gain net mensuel de :",{"$nulls":5},{"$f":"I40*C46*0.8315","v":{"v":7.7928180000000005,"d":"7.79 €"}},{"$nulls":10},{"$f":"'GRILLE C2'!B18","v":2},{"$f":"'GRILLE C2'!C18","v":24},{"$f":"'GRILLE C2'!D18","v":330}]
[]
[{"$nulls":17},{"$f":"'GRILLE C2'!B20","v":3},{"$f":"'GRILLE C2'!C20","v":24},{"$f":"'GRILLE C2'!D20","v":333}]
[]
[{"$nulls":17},{"$f":"'GRILLE C2'!B22","v":4},{"$f":"'GRILLE C2'!C22","v":24},{"$f":"'GRILLE C2'!D22","v":336}]
["Vos représentant-e-s SUD Santé Sociaux ",{"$nulls":7},{"$f":"RECAPITULATIF!D21","v":35},null,"sont à votre disposition"]
["pour tous renseignements complémentaires au poste :",{"$nulls":11},{"$f":"RECAPITULATIF!D17","v":2886},{"$nulls":4},{"$f":"'GRILLE C2'!B24","v":5},{"$f":"'GRILLE C2'!C24","v":24},{"$f":"'GRILLE C2'!D24","v":345}]
[]
[{"$nulls":17},{"$f":"'GRILLE C2'!B26","v":6},{"$f":"'GRILLE C2'!C26","v":24},{"$f":"'GRILLE C2'!D26","v":351}]
[]
[{"$nulls":17},{"$f":"'GRILLE C2'!B28","v":7},{"$f":"'GRILLE C2'!C28","v":24},{"$f":"'GRILLE C2'!D28","v":364}]
["Recevez toutes nos salutations."]
[{"$nulls":17},{"$f":"'GRILLE C2'!B30","v":8},{"$f":"'GRILLE C2'!C30","v":24},{"$f":"'GRILLE C2'!D30","v":380}]
[]
[{"$f":"RECAPITULATIF!B5","v":"Véronique ERUSSARD, Servanne CORNEE, Sébastien BAYAUT"},{"$nulls":16},{"$f":"'GRILLE C2'!B32","v":9},{"$f":"'GRILLE C2'!C32","v":36},{"$f":"'GRILLE C2'!D32","v":390}]
[]
["SUD Santé Sociaux",{"$nulls":3},{"$f":"RECAPITULATIF!D21","v":35},{"$nulls":12},{"$f":"'GRILLE C2'!B34","v":10},{"$f":"'GRILLE C2'!C34","v":36},{"$f":"'GRILLE C2'!D34","v":402}]
[]
[{"$nulls":17},{"$f":"'GRILLE C2'!B36","v":11},{"$f":"'GRILLE C2'!C36","v":48},{"$f":"'GRILLE C2'!D36","v":411}]
[]
[{"$nulls":17},{"$f":"'GRILLE C2'!B38","v":12},{"$f":"'GRILLE C2'!C38","v":0},{"$f":"'GRILLE C2'!D38","v":418}]
[]
["Tél :",{"$f":"RECAPITULATIF!D19","v":{"v":299212886,"d":"02 99 21 28 86"}}]
["Mél :",null,{"$f":"RECAPITULATIF!C23","v":"sudsante@ch-stmalo.fr"}]
[{"$f":"RECAPITULATIF!B25","v":"Site Départemental Sud"},{"$nulls":4},{"$f":"RECAPITULATIF!D25","v":"http://www.sudsantesociaux35.org"}]

{"sheet":"C2 Echelon 3","index":32,"n_rows":73,"n_cols":20,"rows_kept":73,"merged":[[1,6,1,16],[2,6,2,11],[2,12,2,16],[8,12,9,14],[12,12,12,14],[15,0,15,14],[17,0,17,16],[19,0,19,3],[21,0,21,14],[23,0,23,4],[23,5,23,8],[23,10,23,12],[23,13,23,16],[26,5,27,17],[32,0,32,4],[32,5,32,6],[32,7,32,10],[32,11,32,12],[32,17,35,19],[35,0,35,2],[35,8,35,9],[36,17,39,19],[39,0,39,7],[39,8,39,9],[39,10,39,13],[40,17,43,19],[42,0,42,12],[44,17,45,17],[44,18,45,18],[44,19,45,19],[45,2,45,3],[45,5,45,7],[46,17,47,17],[46,18,47,18],[46,19,47,19],[48,0,48,5],[48,6,48,8],[48,17,49,17],[48,18,49,18],[48,19,49,19],[50,17,51,17],[50,18,51,18],[50,19,51,19],[52,17,53,17],[52,18,53,18],[52,19,53,19],[53,0,53,7],[53,8,53,9],[53,10,53,14],[54,0,54,11],[54,12,54,13],[54,17,55,17],[54,18,55,18],[54,19,55,19],[56,17,57,17],[56,18,57,18],[56,19,57,19],[57,0,57,16],[58,17,59,17],[58,18,59,18],[58,19,59,19],[59,0,59,16],[60,17,61,17],[60,18,61,18],[60,19,61,19],[62,0,62,16],[62,17,63,17],[62,18,63,18],[62,19,63,19],[64,0,64,3],[64,17,65,17],[64,18,65,18],[64,19,65,19],[66,17,67,17],[66,18,67,18],[66,19,67,19],[68,17,69,17],[68,18,69,18],[68,19,69,19],[70,1,70,4],[71,0,71,1],[71,2,71,7],[72,0,72,4],[72,5,72,12]]}
[]
[{"$nulls":6},"Commission Administrative"]
[{"$nulls":6},"Paritaire",{"$nulls":5},{"$f":"RECAPITULATIF!D7","v":"Locale"}]
[]
[]
[]
[]
[]
[{"$nulls":12},"Mme, Mr :"]
[]
[{"$nulls":12},"Grade :"]
[]
[{"$nulls":12},"Service :"]
[]
[]
["Votre ou vos représentant-e-s du personnel"]
[]
[{"$f":"RECAPITULATIF!B5","v":"Véronique ERUSSARD, Servanne CORNEE, Sébastien BAYAUT"}]
[]
["SUD Santé Sociaux",{"$nulls":3},{"$f":"RECAPITULATIF!D21","v":35},"du:"]
[]
[{"$f":"RECAPITULATIF!B2","v":"Centre Hospitalier de Saint Malo"}]
[]
["siégeant auprès de la CAP",{"$nulls":4},{"$f":"RECAPITULATIF!D7","v":"Locale"},{"$nulls":3},"du :",{"$f":"RECAPITULATIF!D11","v":"2019-04-16"},null,null,"vous informe de votre :"]
[]
[]
[{"$nulls":5},"AVANCEMENT D’ECHELON"]
[]
[]
[]
[]
[]
["Vous passez à l’échelon :",{"$nulls":4},{"$f":"'GRILLE C2'!B20","v":3},null,"Indice Majoré :",{"$nulls":3},{"$f":"'GRILLE C2'!D20","v":333},{"$nulls":5},{"$f":"'GRILLE C2'!B2","v":"Catégorie C\nGrade C2\nAncienne Echelle 4 et 5"}]
[]
[]
["Date d'effet :",{"$nulls":4},"/",null,"/",{"$f":"RECAPITULATIF!D9","v":2019}]
[{"$nulls":17},{"$f":"'GRILLE C2'!B6","v":"Aide Medico-Psychologique (Ex Classe Normale)\nAide Soignant  (Ex Classe Normale)\nAuxilliaire de Puériculture (Ex Classe Normale)\nOuvrier Principal 2ème Classe\nAgent des Services Hospitaliers Qualifiés Classe Sup.\nAide d'Electroradiologie Classe Supérieure (extinction)\nAide de Laboratoire Classe Supérieure (extinction)\nAide de Pharmacie Classe Supérieure (extinction)\nAgent de Service Mortuaire et Désinfection (extinction)\nAgent de Désinfection 1ère Catégorie (extinction)\nConducteur Ambulancier, Déssinateur (extinction)"}]
[]
[]
["Ce qui représente un gain mensuel de :",{"$nulls":7},{"$f":"'GRILLE C2'!D20-'GRILLE C2'!D18","v":3},null,"points d'indice."]
[{"$nulls":17},{"$f":"'GRILLE C2'!B10","v":"Adjoint Administratifs Principal 2ème Classe\n Aide Medico-Psychologique (Ex Classe Supérieure)\nAide Soignant (Ex Classe Supérieure),  Aumônier\nAuxilliaire de Puériculture (Ex Classe Supérieure)\nConducteur Ambulancier, Ouvrier Principal 2ème Cl.\nAgent de Maîtrise, Aide Préparateur (extinction)\nAide Technique d'Electroradiologie (extinction)\nP A R M  2ème Classe, Déssinateur  (extinction)"}]
[]
["Pour information, la valeur brute du point d'indice"]
[]
[{"$nulls":17},{"$f":"'GRILLE C2'!B14","v":"Echelon"},{"$f":"'GRILLE C2'!C14","v":"Durée\n(en mois)"},{"$f":"'GRILLE C2'!D14","v":"Indice\nMajoré"}]
["est de",null,{"$f":"RECAPITULATIF!D13","v":{"v":4.686,"d":"4.686 €"}},null,"au",{"$f":"RECAPITULATIF!D15","v":"2019-01-01"}]
[{"$nulls":17},{"$f":"'GRILLE C2'!B16","v":1},{"$f":"'GRILLE C2'!C16","v":12},{"$f":"'GRILLE C2'!D16","v":328}]
[]
["Soit un gain net mensuel de :",{"$nulls":5},{"$f":"I40*C46*0.8315","v":{"v":11.689227,"d":"11.69 €"}},{"$nulls":10},{"$f":"'GRILLE C2'!B18","v":2},{"$f":"'GRILLE C2'!C18","v":24},{"$f":"'GRILLE C2'!D18","v":330}]
[]
[{"$nulls":17},{"$f":"'GRILLE C2'!B20","v":3},{"$f":"'GRILLE C2'!C20","v":24},{"$f":"'GRILLE C2'!D20","v":333}]
[]
[{"$nulls":17},{"$f":"'GRILLE C2'!B22","v":4},{"$f":"'GRILLE C2'!C22","v":24},{"$f":"'GRILLE C2'!D22","v":336}]
["Vos représentant-e-s SUD Santé Sociaux ",{"$nulls":7},{"$f":"RECAPITULATIF!D21","v":35},null,"sont à votre disposition"]
["pour tous renseignements complémentaires au poste :",{"$nulls":11},{"$f":"RECAPITULATIF!D17","v":2886},{"$nulls":4},{"$f":"'GRILLE C2'!B24","v":5},{"$f":"'GRILLE C2'!C24","v":24},{"$f":"'GRILLE C2'!D24","v":345}]
[]
[{"$nulls":17},{"$f":"'GRILLE C2'!B26","v":6},{"$f":"'GRILLE C2'!C26","v":24},{"$f":"'GRILLE C2'!D26","v":351}]
[]
[{"$nulls":17},{"$f":"'GRILLE C2'!B28","v":7},{"$f":"'GRILLE C2'!C28","v":24},{"$f":"'GRILLE C2'!D28","v":364}]
["Recevez toutes nos salutations."]
[{"$nulls":17},{"$f":"'GRILLE C2'!B30","v":8},{"$f":"'GRILLE C2'!C30","v":24},{"$f":"'GRILLE C2'!D30","v":380}]
[]
[{"$f":"RECAPITULATIF!B5","v":"Véronique ERUSSARD, Servanne CORNEE, Sébastien BAYAUT"},{"$nulls":16},{"$f":"'GRILLE C2'!B32","v":9},{"$f":"'GRILLE C2'!C32","v":36},{"$f":"'GRILLE C2'!D32","v":390}]
[]
["SUD Santé Sociaux",{"$nulls":3},{"$f":"RECAPITULATIF!D21","v":35},{"$nulls":12},{"$f":"'GRILLE C2'!B34","v":10},{"$f":"'GRILLE C2'!C34","v":36},{"$f":"'GRILLE C2'!D34","v":402}]
[]
[{"$nulls":17},{"$f":"'GRILLE C2'!B36","v":11},{"$f":"'GRILLE C2'!C36","v":48},{"$f":"'GRILLE C2'!D36","v":411}]
[]
[{"$nulls":17},{"$f":"'GRILLE C2'!B38","v":12},{"$f":"'GRILLE C2'!C38","v":0},{"$f":"'GRILLE C2'!D38","v":418}]
[]
["Tél :",{"$f":"RECAPITULATIF!D19","v":{"v":299212886,"d":"02 99 21 28 86"}}]
["Mél :",null,{"$f":"RECAPITULATIF!C23","v":"sudsante@ch-stmalo.fr"}]
[{"$f":"RECAPITULATIF!B25","v":"Site Départemental Sud"},{"$nulls":4},{"$f":"RECAPITULATIF!D25","v":"http://www.sudsantesociaux35.org"}]

{"sheet":"C2 Echelon 4","index":33,"n_rows":73,"n_cols":20,"rows_kept":73,"merged":[[1,6,1,16],[2,6,2,11],[2,12,2,16],[8,12,9,14],[12,12,12,14],[15,0,15,14],[17,0,17,16],[19,0,19,3],[21,0,21,14],[23,0,23,4],[23,5,23,8],[23,10,23,12],[23,13,23,16],[26,5,27,17],[32,0,32,4],[32,5,32,6],[32,7,32,10],[32,11,32,12],[32,17,35,19],[35,0,35,2],[35,8,35,9],[36,17,39,19],[39,0,39,7],[39,8,39,9],[39,10,39,13],[40,17,43,19],[42,0,42,12],[44,17,45,17],[44,18,45,18],[44,19,45,19],[45,2,45,3],[45,5,45,7],[46,17,47,17],[46,18,47,18],[46,19,47,19],[48,0,48,5],[48,6,48,8],[48,17,49,17],[48,18,49,18],[48,19,49,19],[50,17,51,17],[50,18,51,18],[50,19,51,19],[52,17,53,17],[52,18,53,18],[52,19,53,19],[53,0,53,7],[53,8,53,9],[53,10,53,14],[54,0,54,11],[54,12,54,13],[54,17,55,17],[54,18,55,18],[54,19,55,19],[56,17,57,17],[56,18,57,18],[56,19,57,19],[57,0,57,16],[58,17,59,17],[58,18,59,18],[58,19,59,19],[59,0,59,16],[60,17,61,17],[60,18,61,18],[60,19,61,19],[62,0,62,16],[62,17,63,17],[62,18,63,18],[62,19,63,19],[64,0,64,3],[64,17,65,17],[64,18,65,18],[64,19,65,19],[66,17,67,17],[66,18,67,18],[66,19,67,19],[68,17,69,17],[68,18,69,18],[68,19,69,19],[70,1,70,4],[71,0,71,1],[71,2,71,7],[72,0,72,4],[72,5,72,12]]}
[]
[{"$nulls":6},"Commission Administrative"]
[{"$nulls":6},"Paritaire",{"$nulls":5},{"$f":"RECAPITULATIF!D7","v":"Locale"}]
[]
[]
[]
[]
[]
[{"$nulls":12},"Mme, Mr :"]
[]
[{"$nulls":12},"Grade :"]
[]
[{"$nulls":12},"Service :"]
[]
[]
["Votre ou vos représentant-e-s du personnel"]
[]
[{"$f":"RECAPITULATIF!B5","v":"Véronique ERUSSARD, Servanne CORNEE, Sébastien BAYAUT"}]
[]
["SUD Santé Sociaux",{"$nulls":3},{"$f":"RECAPITULATIF!D21","v":35},"du:"]
[]
[{"$f":"RECAPITULATIF!B2","v":"Centre Hospitalier de Saint Malo"}]
[]
["siégeant auprès de la CAP",{"$nulls":4},{"$f":"RECAPITULATIF!D7","v":"Locale"},{"$nulls":3},"du :",{"$f":"RECAPITULATIF!D11","v":"2019-04-16"},null,null,"vous informe de votre :"]
[]
[]
[{"$nulls":5},"AVANCEMENT D’ECHELON"]
[]
[]
[]
[]
[]
["Vous passez à l’échelon :",{"$nulls":4},{"$f":"'GRILLE C2'!B22","v":4},null,"Indice Majoré :",{"$nulls":3},{"$f":"'GRILLE C2'!D22","v":336},{"$nulls":5},{"$f":"'GRILLE C2'!B2","v":"Catégorie C\nGrade C2\nAncienne Echelle 4 et 5"}]
[]
[]
["Date d'effet :",{"$nulls":4},"/",null,"/",{"$f":"RECAPITULATIF!D9","v":2019}]
[{"$nulls":17},{"$f":"'GRILLE C2'!B6","v":"Aide Medico-Psychologique (Ex Classe Normale)\nAide Soignant  (Ex Classe Normale)\nAuxilliaire de Puériculture (Ex Classe Normale)\nOuvrier Principal 2ème Classe\nAgent des Services Hospitaliers Qualifiés Classe Sup.\nAide d'Electroradiologie Classe Supérieure (extinction)\nAide de Laboratoire Classe Supérieure (extinction)\nAide de Pharmacie Classe Supérieure (extinction)\nAgent de Service Mortuaire et Désinfection (extinction)\nAgent de Désinfection 1ère Catégorie (extinction)\nConducteur Ambulancier, Déssinateur (extinction)"}]
[]
[]
["Ce qui représente un gain mensuel de :",{"$nulls":7},{"$f":"'GRILLE C2'!D22-'GRILLE C2'!D20","v":3},null,"points d'indice."]
[{"$nulls":17},{"$f":"'GRILLE C2'!B10","v":"Adjoint Administratifs Principal 2ème Classe\n Aide Medico-Psychologique (Ex Classe Supérieure)\nAide Soignant (Ex Classe Supérieure),  Aumônier\nAuxilliaire de Puériculture (Ex Classe Supérieure)\nConducteur Ambulancier, Ouvrier Principal 2ème Cl.\nAgent de Maîtrise, Aide Préparateur (extinction)\nAide Technique d'Electroradiologie (extinction)\nP A R M  2ème Classe, Déssinateur  (extinction)"}]
[]
["Pour information, la valeur brute du point d'indice"]
[]
[{"$nulls":17},{"$f":"'GRILLE C2'!B14","v":"Echelon"},{"$f":"'GRILLE C2'!C14","v":"Durée\n(en mois)"},{"$f":"'GRILLE C2'!D14","v":"Indice\nMajoré"}]
["est de",null,{"$f":"RECAPITULATIF!D13","v":{"v":4.686,"d":"4.686 €"}},null,"au",{"$f":"RECAPITULATIF!D15","v":"2019-01-01"}]
[{"$nulls":17},{"$f":"'GRILLE C2'!B16","v":1},{"$f":"'GRILLE C2'!C16","v":12},{"$f":"'GRILLE C2'!D16","v":328}]
[]
["Soit un gain net mensuel de :",{"$nulls":5},{"$f":"I40*C46*0.8315","v":{"v":11.689227,"d":"11.69 €"}},{"$nulls":10},{"$f":"'GRILLE C2'!B18","v":2},{"$f":"'GRILLE C2'!C18","v":24},{"$f":"'GRILLE C2'!D18","v":330}]
[]
[{"$nulls":17},{"$f":"'GRILLE C2'!B20","v":3},{"$f":"'GRILLE C2'!C20","v":24},{"$f":"'GRILLE C2'!D20","v":333}]
[]
[{"$nulls":17},{"$f":"'GRILLE C2'!B22","v":4},{"$f":"'GRILLE C2'!C22","v":24},{"$f":"'GRILLE C2'!D22","v":336}]
["Vos représentant-e-s SUD Santé Sociaux ",{"$nulls":7},{"$f":"RECAPITULATIF!D21","v":35},null,"sont à votre disposition"]
["pour tous renseignements complémentaires au poste :",{"$nulls":11},{"$f":"RECAPITULATIF!D17","v":2886},{"$nulls":4},{"$f":"'GRILLE C2'!B24","v":5},{"$f":"'GRILLE C2'!C24","v":24},{"$f":"'GRILLE C2'!D24","v":345}]
[]
[{"$nulls":17},{"$f":"'GRILLE C2'!B26","v":6},{"$f":"'GRILLE C2'!C26","v":24},{"$f":"'GRILLE C2'!D26","v":351}]
[]
[{"$nulls":17},{"$f":"'GRILLE C2'!B28","v":7},{"$f":"'GRILLE C2'!C28","v":24},{"$f":"'GRILLE C2'!D28","v":364}]
["Recevez toutes nos salutations."]
[{"$nulls":17},{"$f":"'GRILLE C2'!B30","v":8},{"$f":"'GRILLE C2'!C30","v":24},{"$f":"'GRILLE C2'!D30","v":380}]
[]
[{"$f":"RECAPITULATIF!B5","v":"Véronique ERUSSARD, Servanne CORNEE, Sébastien BAYAUT"},{"$nulls":16},{"$f":"'GRILLE C2'!B32","v":9},{"$f":"'GRILLE C2'!C32","v":36},{"$f":"'GRILLE C2'!D32","v":390}]
[]
["SUD Santé Sociaux",{"$nulls":3},{"$f":"RECAPITULATIF!D21","v":35},{"$nulls":12},{"$f":"'GRILLE C2'!B34","v":10},{"$f":"'GRILLE C2'!C34","v":36},{"$f":"'GRILLE C2'!D34","v":402}]
[]
[{"$nulls":17},{"$f":"'GRILLE C2'!B36","v":11},{"$f":"'GRILLE C2'!C36","v":48},{"$f":"'GRILLE C2'!D36","v":411}]
[]
[{"$nulls":17},{"$f":"'GRILLE C2'!B38","v":12},{"$f":"'GRILLE C2'!C38","v":0},{"$f":"'GRILLE C2'!D38","v":418}]
[]
["Tél :",{"$f":"RECAPITULATIF!D19","v":{"v":299212886,"d":"02 99 21 28 86"}}]
["Mél :",null,{"$f":"RECAPITULATIF!C23","v":"sudsante@ch-stmalo.fr"}]
[{"$f":"RECAPITULATIF!B25","v":"Site Départemental Sud"},{"$nulls":4},{"$f":"RECAPITULATIF!D25","v":"http://www.sudsantesociaux35.org"}]

{"sheet":"C2 Echelon 5","index":34,"n_rows":73,"n_cols":20,"rows_kept":73,"merged":[[1,6,1,16],[2,6,2,11],[2,12,2,16],[8,12,9,14],[12,12,12,14],[15,0,15,14],[17,0,17,16],[19,0,19,3],[21,0,21,14],[23,0,23,4],[23,5,23,8],[23,10,23,12],[23,13,23,16],[26,5,27,17],[32,0,32,4],[32,5,32,6],[32,7,32,10],[32,11,32,12],[32,17,35,19],[35,0,35,2],[35,8,35,9],[36,17,39,19],[39,0,39,7],[39,8,39,9],[39,10,39,13],[40,17,43,19],[42,0,42,12],[44,17,45,17],[44,18,45,18],[44,19,45,19],[45,2,45,3],[45,5,45,7],[46,17,47,17],[46,18,47,18],[46,19,47,19],[48,0,48,5],[48,6,48,8],[48,17,49,17],[48,18,49,18],[48,19,49,19],[50,17,51,17],[50,18,51,18],[50,19,51,19],[52,17,53,17],[52,18,53,18],[52,19,53,19],[53,0,53,7],[53,8,53,9],[53,10,53,14],[54,0,54,11],[54,12,54,13],[54,17,55,17],[54,18,55,18],[54,19,55,19],[56,17,57,17],[56,18,57,18],[56,19,57,19],[57,0,57,16],[58,17,59,17],[58,18,59,18],[58,19,59,19],[59,0,59,16],[60,17,61,17],[60,18,61,18],[60,19,61,19],[62,0,62,16],[62,17,63,17],[62,18,63,18],[62,19,63,19],[64,0,64,3],[64,17,65,17],[64,18,65,18],[64,19,65,19],[66,17,67,17],[66,18,67,18],[66,19,67,19],[68,17,69,17],[68,18,69,18],[68,19,69,19],[70,1,70,4],[71,0,71,1],[71,2,71,7],[72,0,72,4],[72,5,72,12]]}
[]
[{"$nulls":6},"Commission Administrative"]
[{"$nulls":6},"Paritaire",{"$nulls":5},{"$f":"RECAPITULATIF!D7","v":"Locale"}]
[]
[]
[]
[]
[]
[{"$nulls":12},"Mme, Mr :"]
[]
[{"$nulls":12},"Grade :"]
[]
[{"$nulls":12},"Service :"]
[]
[]
["Votre ou vos représentant-e-s du personnel"]
[]
[{"$f":"RECAPITULATIF!B5","v":"Véronique ERUSSARD, Servanne CORNEE, Sébastien BAYAUT"}]
[]
["SUD Santé Sociaux",{"$nulls":3},{"$f":"RECAPITULATIF!D21","v":35},"du:"]
[]
[{"$f":"RECAPITULATIF!B2","v":"Centre Hospitalier de Saint Malo"}]
[]
["siégeant auprès de la CAP",{"$nulls":4},{"$f":"RECAPITULATIF!D7","v":"Locale"},{"$nulls":3},"du :",{"$f":"RECAPITULATIF!D11","v":"2019-04-16"},null,null,"vous informe de votre :"]
[]
[]
[{"$nulls":5},"AVANCEMENT D’ECHELON"]
[]
[]
[]
[]
[]
["Vous passez à l’échelon :",{"$nulls":4},{"$f":"'GRILLE C2'!B24","v":5},null,"Indice Majoré :",{"$nulls":3},{"$f":"'GRILLE C2'!D24","v":345},{"$nulls":5},{"$f":"'GRILLE C2'!B2","v":"Catégorie C\nGrade C2\nAncienne Echelle 4 et 5"}]
[]
[]
["Date d'effet :",{"$nulls":4},"/",null,"/",{"$f":"RECAPITULATIF!D9","v":2019}]
[{"$nulls":17},{"$f":"'GRILLE C2'!B6","v":"Aide Medico-Psychologique (Ex Classe Normale)\nAide Soignant  (Ex Classe Normale)\nAuxilliaire de Puériculture (Ex Classe Normale)\nOuvrier Principal 2ème Classe\nAgent des Services Hospitaliers Qualifiés Classe Sup.\nAide d'Electroradiologie Classe Supérieure (extinction)\nAide de Laboratoire Classe Supérieure (extinction)\nAide de Pharmacie Classe Supérieure (extinction)\nAgent de Service Mortuaire et Désinfection (extinction)\nAgent de Désinfection 1ère Catégorie (extinction)\nConducteur Ambulancier, Déssinateur (extinction)"}]
[]
[]
["Ce qui représente un gain mensuel de :",{"$nulls":7},{"$f":"'GRILLE C2'!D24-'GRILLE C2'!D22","v":9},null,"points d'indice."]
[{"$nulls":17},{"$f":"'GRILLE C2'!B10","v":"Adjoint Administratifs Principal 2ème Classe\n Aide Medico-Psychologique (Ex Classe Supérieure)\nAide Soignant (Ex Classe Supérieure),  Aumônier\nAuxilliaire de Puériculture (Ex Classe Supérieure)\nConducteur Ambulancier, Ouvrier Principal 2ème Cl.\nAgent de Maîtrise, Aide Préparateur (extinction)\nAide Technique d'Electroradiologie (extinction)\nP A R M  2ème Classe, Déssinateur  (extinction)"}]
[]
["Pour information, la valeur brute du point d'indice"]
[]
[{"$nulls":17},{"$f":"'GRILLE C2'!B14","v":"Echelon"},{"$f":"'GRILLE C2'!C14","v":"Durée\n(en mois)"},{"$f":"'GRILLE C2'!D14","v":"Indice\nMajoré"}]
["est de",null,{"$f":"RECAPITULATIF!D13","v":{"v":4.686,"d":"4.686 €"}},null,"au",{"$f":"RECAPITULATIF!D15","v":"2019-01-01"}]
[{"$nulls":17},{"$f":"'GRILLE C2'!B16","v":1},{"$f":"'GRILLE C2'!C16","v":12},{"$f":"'GRILLE C2'!D16","v":328}]
[]
["Soit un gain net mensuel de :",{"$nulls":5},{"$f":"I40*C46*0.8315","v":{"v":35.067681,"d":"35.07 €"}},{"$nulls":10},{"$f":"'GRILLE C2'!B18","v":2},{"$f":"'GRILLE C2'!C18","v":24},{"$f":"'GRILLE C2'!D18","v":330}]
[]
[{"$nulls":17},{"$f":"'GRILLE C2'!B20","v":3},{"$f":"'GRILLE C2'!C20","v":24},{"$f":"'GRILLE C2'!D20","v":333}]
[]
[{"$nulls":17},{"$f":"'GRILLE C2'!B22","v":4},{"$f":"'GRILLE C2'!C22","v":24},{"$f":"'GRILLE C2'!D22","v":336}]
["Vos représentant-e-s SUD Santé Sociaux ",{"$nulls":7},{"$f":"RECAPITULATIF!D21","v":35},null,"sont à votre disposition"]
["pour tous renseignements complémentaires au poste :",{"$nulls":11},{"$f":"RECAPITULATIF!D17","v":2886},{"$nulls":4},{"$f":"'GRILLE C2'!B24","v":5},{"$f":"'GRILLE C2'!C24","v":24},{"$f":"'GRILLE C2'!D24","v":345}]
[]
[{"$nulls":17},{"$f":"'GRILLE C2'!B26","v":6},{"$f":"'GRILLE C2'!C26","v":24},{"$f":"'GRILLE C2'!D26","v":351}]
[]
[{"$nulls":17},{"$f":"'GRILLE C2'!B28","v":7},{"$f":"'GRILLE C2'!C28","v":24},{"$f":"'GRILLE C2'!D28","v":364}]
["Recevez toutes nos salutations."]
[{"$nulls":17},{"$f":"'GRILLE C2'!B30","v":8},{"$f":"'GRILLE C2'!C30","v":24},{"$f":"'GRILLE C2'!D30","v":380}]
[]
[{"$f":"RECAPITULATIF!B5","v":"Véronique ERUSSARD, Servanne CORNEE, Sébastien BAYAUT"},{"$nulls":16},{"$f":"'GRILLE C2'!B32","v":9},{"$f":"'GRILLE C2'!C32","v":36},{"$f":"'GRILLE C2'!D32","v":390}]
[]
["SUD Santé Sociaux",{"$nulls":3},{"$f":"RECAPITULATIF!D21","v":35},{"$nulls":12},{"$f":"'GRILLE C2'!B34","v":10},{"$f":"'GRILLE C2'!C34","v":36},{"$f":"'GRILLE C2'!D34","v":402}]
[]
[{"$nulls":17},{"$f":"'GRILLE C2'!B36","v":11},{"$f":"'GRILLE C2'!C36","v":48},{"$f":"'GRILLE C2'!D36","v":411}]
[]
[{"$nulls":17},{"$f":"'GRILLE C2'!B38","v":12},{"$f":"'GRILLE C2'!C38","v":0},{"$f":"'GRILLE C2'!D38","v":418}]
[]
["Tél :",{"$f":"RECAPITULATIF!D19","v":{"v":299212886,"d":"02 99 21 28 86"}}]
["Mél :",null,{"$f":"RECAPITULATIF!C23","v":"sudsante@ch-stmalo.fr"}]
[{"$f":"RECAPITULATIF!B25","v":"Site Départemental Sud"},{"$nulls":4},{"$f":"RECAPITULATIF!D25","v":"http://www.sudsantesociaux35.org"}]

{"sheet":"C2 Echelon 6","index":35,"n_rows":73,"n_cols":20,"rows_kept":73,"merged":[[1,6,1,16],[2,6,2,11],[2,12,2,16],[8,12,9,14],[12,12,12,14],[15,0,15,14],[17,0,17,16],[19,0,19,3],[21,0,21,14],[23,0,23,4],[23,5,23,8],[23,10,23,12],[23,13,23,16],[26,5,27,17],[32,0,32,4],[32,5,32,6],[32,7,32,10],[32,11,32,12],[32,17,35,19],[35,0,35,2],[35,8,35,9],[36,17,39,19],[39,0,39,7],[39,8,39,9],[39,10,39,13],[40,17,43,19],[42,0,42,12],[44,17,45,17],[44,18,45,18],[44,19,45,19],[45,2,45,3],[45,5,45,7],[46,17,47,17],[46,18,47,18],[46,19,47,19],[48,0,48,5],[48,6,48,8],[48,17,49,17],[48,18,49,18],[48,19,49,19],[50,17,51,17],[50,18,51,18],[50,19,51,19],[52,17,53,17],[52,18,53,18],[52,19,53,19],[53,0,53,7],[53,8,53,9],[53,10,53,14],[54,0,54,11],[54,12,54,13],[54,17,55,17],[54,18,55,18],[54,19,55,19],[56,17,57,17],[56,18,57,18],[56,19,57,19],[57,0,57,16],[58,17,59,17],[58,18,59,18],[58,19,59,19],[59,0,59,16],[60,17,61,17],[60,18,61,18],[60,19,61,19],[62,0,62,16],[62,17,63,17],[62,18,63,18],[62,19,63,19],[64,0,64,3],[64,17,65,17],[64,18,65,18],[64,19,65,19],[66,17,67,17],[66,18,67,18],[66,19,67,19],[68,17,69,17],[68,18,69,18],[68,19,69,19],[70,1,70,4],[71,0,71,1],[71,2,71,7],[72,0,72,4],[72,5,72,12]]}
[]
[{"$nulls":6},"Commission Administrative"]
[{"$nulls":6},"Paritaire",{"$nulls":5},{"$f":"RECAPITULATIF!D7","v":"Locale"}]
[]
[]
[]
[]
[]
[{"$nulls":12},"Mme, Mr :"]
[]
[{"$nulls":12},"Grade :"]
[]
[{"$nulls":12},"Service :"]
[]
[]
["Votre ou vos représentant-e-s du personnel"]
[]
[{"$f":"RECAPITULATIF!B5","v":"Véronique ERUSSARD, Servanne CORNEE, Sébastien BAYAUT"}]
[]
["SUD Santé Sociaux",{"$nulls":3},{"$f":"RECAPITULATIF!D21","v":35},"du:"]
[]
[{"$f":"RECAPITULATIF!B2","v":"Centre Hospitalier de Saint Malo"}]
[]
["siégeant auprès de la CAP",{"$nulls":4},{"$f":"RECAPITULATIF!D7","v":"Locale"},{"$nulls":3},"du :",{"$f":"RECAPITULATIF!D11","v":"2019-04-16"},null,null,"vous informe de votre :"]
[]
[]
[{"$nulls":5},"AVANCEMENT D’ECHELON"]
[]
[]
[]
[]
[]
["Vous passez à l’échelon :",{"$nulls":4},{"$f":"'GRILLE C2'!B26","v":6},null,"Indice Majoré :",{"$nulls":3},{"$f":"'GRILLE C2'!D26","v":351},{"$nulls":5},{"$f":"'GRILLE C2'!B2","v":"Catégorie C\nGrade C2\nAncienne Echelle 4 et 5"}]
[]
[]
["Date d'effet :",{"$nulls":4},"/",null,"/",{"$f":"RECAPITULATIF!D9","v":2019}]
[{"$nulls":17},{"$f":"'GRILLE C2'!B6","v":"Aide Medico-Psychologique (Ex Classe Normale)\nAide Soignant  (Ex Classe Normale)\nAuxilliaire de Puériculture (Ex Classe Normale)\nOuvrier Principal 2ème Classe\nAgent des Services Hospitaliers Qualifiés Classe Sup.\nAide d'Electroradiologie Classe Supérieure (extinction)\nAide de Laboratoire Classe Supérieure (extinction)\nAide de Pharmacie Classe Supérieure (extinction)\nAgent de Service Mortuaire et Désinfection (extinction)\nAgent de Désinfection 1ère Catégorie (extinction)\nConducteur Ambulancier, Déssinateur (extinction)"}]
[]
[]
["Ce qui représente un gain mensuel de :",{"$nulls":7},{"$f":"'GRILLE C2'!D26-'GRILLE C2'!D24","v":6},null,"points d'indice."]
[{"$nulls":17},{"$f":"'GRILLE C2'!B10","v":"Adjoint Administratifs Principal 2ème Classe\n Aide Medico-Psychologique (Ex Classe Supérieure)\nAide Soignant (Ex Classe Supérieure),  Aumônier\nAuxilliaire de Puériculture (Ex Classe Supérieure)\nConducteur Ambulancier, Ouvrier Principal 2ème Cl.\nAgent de Maîtrise, Aide Préparateur (extinction)\nAide Technique d'Electroradiologie (extinction)\nP A R M  2ème Classe, Déssinateur  (extinction)"}]
[]
["Pour information, la valeur brute du point d'indice"]
[]
[{"$nulls":17},{"$f":"'GRILLE C2'!B14","v":"Echelon"},{"$f":"'GRILLE C2'!C14","v":"Durée\n(en mois)"},{"$f":"'GRILLE C2'!D14","v":"Indice\nMajoré"}]
["est de",null,{"$f":"RECAPITULATIF!D13","v":{"v":4.686,"d":"4.686 €"}},null,"au",{"$f":"RECAPITULATIF!D15","v":"2019-01-01"}]
[{"$nulls":17},{"$f":"'GRILLE C2'!B16","v":1},{"$f":"'GRILLE C2'!C16","v":12},{"$f":"'GRILLE C2'!D16","v":328}]
[]
["Soit un gain net mensuel de :",{"$nulls":5},{"$f":"I40*C46*0.8315","v":{"v":23.378454,"d":"23.38 €"}},{"$nulls":10},{"$f":"'GRILLE C2'!B18","v":2},{"$f":"'GRILLE C2'!C18","v":24},{"$f":"'GRILLE C2'!D18","v":330}]
[]
[{"$nulls":17},{"$f":"'GRILLE C2'!B20","v":3},{"$f":"'GRILLE C2'!C20","v":24},{"$f":"'GRILLE C2'!D20","v":333}]
[]
[{"$nulls":17},{"$f":"'GRILLE C2'!B22","v":4},{"$f":"'GRILLE C2'!C22","v":24},{"$f":"'GRILLE C2'!D22","v":336}]
["Vos représentant-e-s SUD Santé Sociaux ",{"$nulls":7},{"$f":"RECAPITULATIF!D21","v":35},null,"sont à votre disposition"]
["pour tous renseignements complémentaires au poste :",{"$nulls":11},{"$f":"RECAPITULATIF!D17","v":2886},{"$nulls":4},{"$f":"'GRILLE C2'!B24","v":5},{"$f":"'GRILLE C2'!C24","v":24},{"$f":"'GRILLE C2'!D24","v":345}]
[]
[{"$nulls":17},{"$f":"'GRILLE C2'!B26","v":6},{"$f":"'GRILLE C2'!C26","v":24},{"$f":"'GRILLE C2'!D26","v":351}]
[]
[{"$nulls":17},{"$f":"'GRILLE C2'!B28","v":7},{"$f":"'GRILLE C2'!C28","v":24},{"$f":"'GRILLE C2'!D28","v":364}]
["Recevez toutes nos salutations."]
[{"$nulls":17},{"$f":"'GRILLE C2'!B30","v":8},{"$f":"'GRILLE C2'!C30","v":24},{"$f":"'GRILLE C2'!D30","v":380}]
[]
[{"$f":"RECAPITULATIF!B5","v":"Véronique ERUSSARD, Servanne CORNEE, Sébastien BAYAUT"},{"$nulls":16},{"$f":"'GRILLE C2'!B32","v":9},{"$f":"'GRILLE C2'!C32","v":36},{"$f":"'GRILLE C2'!D32","v":390}]
[]
["SUD Santé Sociaux",{"$nulls":3},{"$f":"RECAPITULATIF!D21","v":35},{"$nulls":12},{"$f":"'GRILLE C2'!B34","v":10},{"$f":"'GRILLE C2'!C34","v":36},{"$f":"'GRILLE C2'!D34","v":402}]
[]
[{"$nulls":17},{"$f":"'GRILLE C2'!B36","v":11},{"$f":"'GRILLE C2'!C36","v":48},{"$f":"'GRILLE C2'!D36","v":411}]
[]
[{"$nulls":17},{"$f":"'GRILLE C2'!B38","v":12},{"$f":"'GRILLE C2'!C38","v":0},{"$f":"'GRILLE C2'!D38","v":418}]
[]
["Tél :",{"$f":"RECAPITULATIF!D19","v":{"v":299212886,"d":"02 99 21 28 86"}}]
["Mél :",null,{"$f":"RECAPITULATIF!C23","v":"sudsante@ch-stmalo.fr"}]
[{"$f":"RECAPITULATIF!B25","v":"Site Départemental Sud"},{"$nulls":4},{"$f":"RECAPITULATIF!D25","v":"http://www.sudsantesociaux35.org"}]

{"sheet":"C2 Echelon 7","index":36,"n_rows":73,"n_cols":20,"rows_kept":73,"merged":[[1,6,1,16],[2,6,2,11],[2,12,2,16],[8,12,9,14],[12,12,12,14],[15,0,15,14],[17,0,17,16],[19,0,19,3],[21,0,21,14],[23,0,23,4],[23,5,23,8],[23,10,23,12],[23,13,23,16],[26,5,27,17],[32,0,32,4],[32,5,32,6],[32,7,32,10],[32,11,32,12],[32,17,35,19],[35,0,35,2],[35,8,35,9],[36,17,39,19],[39,0,39,7],[39,8,39,9],[39,10,39,13],[40,17,43,19],[42,0,42,12],[44,17,45,17],[44,18,45,18],[44,19,45,19],[45,2,45,3],[45,5,45,7],[46,17,47,17],[46,18,47,18],[46,19,47,19],[48,0,48,5],[48,6,48,8],[48,17,49,17],[48,18,49,18],[48,19,49,19],[50,17,51,17],[50,18,51,18],[50,19,51,19],[52,17,53,17],[52,18,53,18],[52,19,53,19],[53,0,53,7],[53,8,53,9],[53,10,53,14],[54,0,54,11],[54,12,54,13],[54,17,55,17],[54,18,55,18],[54,19,55,19],[56,17,57,17],[56,18,57,18],[56,19,57,19],[57,0,57,16],[58,17,59,17],[58,18,59,18],[58,19,59,19],[59,0,59,16],[60,17,61,17],[60,18,61,18],[60,19,61,19],[62,0,62,16],[62,17,63,17],[62,18,63,18],[62,19,63,19],[64,0,64,3],[64,17,65,17],[64,18,65,18],[64,19,65,19],[66,17,67,17],[66,18,67,18],[66,19,67,19],[68,17,69,17],[68,18,69,18],[68,19,69,19],[70,1,70,4],[71,0,71,1],[71,2,71,7],[72,0,72,4],[72,5,72,12]]}
[]
[{"$nulls":6},"Commission Administrative"]
[{"$nulls":6},"Paritaire",{"$nulls":5},{"$f":"RECAPITULATIF!D7","v":"Locale"}]
[]
[]
[]
[]
[]
[{"$nulls":12},"Mme, Mr :"]
[]
[{"$nulls":12},"Grade :"]
[]
[{"$nulls":12},"Service :"]
[]
[]
["Votre ou vos représentant-e-s du personnel"]
[]
[{"$f":"RECAPITULATIF!B5","v":"Véronique ERUSSARD, Servanne CORNEE, Sébastien BAYAUT"}]
[]
["SUD Santé Sociaux",{"$nulls":3},{"$f":"RECAPITULATIF!D21","v":35},"du:"]
[]
[{"$f":"RECAPITULATIF!B2","v":"Centre Hospitalier de Saint Malo"}]
[]
["siégeant auprès de la CAP",{"$nulls":4},{"$f":"RECAPITULATIF!D7","v":"Locale"},{"$nulls":3},"du :",{"$f":"RECAPITULATIF!D11","v":"2019-04-16"},null,null,"vous informe de votre :"]
[]
[]
[{"$nulls":5},"AVANCEMENT D’ECHELON"]
[]
[]
[]
[]
[]
["Vous passez à l’échelon :",{"$nulls":4},{"$f":"'GRILLE C2'!B28","v":7},null,"Indice Majoré :",{"$nulls":3},{"$f":"'GRILLE C2'!D28","v":364},{"$nulls":5},{"$f":"'GRILLE C2'!B2","v":"Catégorie C\nGrade C2\nAncienne Echelle 4 et 5"}]
[]
[]
["Date d'effet :",{"$nulls":4},"/",null,"/",{"$f":"RECAPITULATIF!D9","v":2019}]
[{"$nulls":17},{"$f":"'GRILLE C2'!B6","v":"Aide Medico-Psychologique (Ex Classe Normale)\nAide Soignant  (Ex Classe Normale)\nAuxilliaire de Puériculture (Ex Classe Normale)\nOuvrier Principal 2ème Classe\nAgent des Services Hospitaliers Qualifiés Classe Sup.\nAide d'Electroradiologie Classe Supérieure (extinction)\nAide de Laboratoire Classe Supérieure (extinction)\nAide de Pharmacie Classe Supérieure (extinction)\nAgent de Service Mortuaire et Désinfection (extinction)\nAgent de Désinfection 1ère Catégorie (extinction)\nConducteur Ambulancier, Déssinateur (extinction)"}]
[]
[]
["Ce qui représente un gain mensuel de :",{"$nulls":7},{"$f":"'GRILLE C2'!D28-'GRILLE C2'!D26","v":13},null,"points d'indice."]
[{"$nulls":17},{"$f":"'GRILLE C2'!B10","v":"Adjoint Administratifs Principal 2ème Classe\n Aide Medico-Psychologique (Ex Classe Supérieure)\nAide Soignant (Ex Classe Supérieure),  Aumônier\nAuxilliaire de Puériculture (Ex Classe Supérieure)\nConducteur Ambulancier, Ouvrier Principal 2ème Cl.\nAgent de Maîtrise, Aide Préparateur (extinction)\nAide Technique d'Electroradiologie (extinction)\nP A R M  2ème Classe, Déssinateur  (extinction)"}]
[]
["Pour information, la valeur brute du point d'indice"]
[]
[{"$nulls":17},{"$f":"'GRILLE C2'!B14","v":"Echelon"},{"$f":"'GRILLE C2'!C14","v":"Durée\n(en mois)"},{"$f":"'GRILLE C2'!D14","v":"Indice\nMajoré"}]
["est de",null,{"$f":"RECAPITULATIF!D13","v":{"v":4.686,"d":"4.686 €"}},null,"au",{"$f":"RECAPITULATIF!D15","v":"2019-01-01"}]
[{"$nulls":17},{"$f":"'GRILLE C2'!B16","v":1},{"$f":"'GRILLE C2'!C16","v":12},{"$f":"'GRILLE C2'!D16","v":328}]
[]
["Soit un gain net mensuel de :",{"$nulls":5},{"$f":"I40*C46*0.8315","v":{"v":50.653317,"d":"50.65 €"}},{"$nulls":10},{"$f":"'GRILLE C2'!B18","v":2},{"$f":"'GRILLE C2'!C18","v":24},{"$f":"'GRILLE C2'!D18","v":330}]
[]
[{"$nulls":17},{"$f":"'GRILLE C2'!B20","v":3},{"$f":"'GRILLE C2'!C20","v":24},{"$f":"'GRILLE C2'!D20","v":333}]
[]
[{"$nulls":17},{"$f":"'GRILLE C2'!B22","v":4},{"$f":"'GRILLE C2'!C22","v":24},{"$f":"'GRILLE C2'!D22","v":336}]
["Vos représentant-e-s SUD Santé Sociaux ",{"$nulls":7},{"$f":"RECAPITULATIF!D21","v":35},null,"sont à votre disposition"]
["pour tous renseignements complémentaires au poste :",{"$nulls":11},{"$f":"RECAPITULATIF!D17","v":2886},{"$nulls":4},{"$f":"'GRILLE C2'!B24","v":5},{"$f":"'GRILLE C2'!C24","v":24},{"$f":"'GRILLE C2'!D24","v":345}]
[]
[{"$nulls":17},{"$f":"'GRILLE C2'!B26","v":6},{"$f":"'GRILLE C2'!C26","v":24},{"$f":"'GRILLE C2'!D26","v":351}]
[]
[{"$nulls":17},{"$f":"'GRILLE C2'!B28","v":7},{"$f":"'GRILLE C2'!C28","v":24},{"$f":"'GRILLE C2'!D28","v":364}]
["Recevez toutes nos salutations."]
[{"$nulls":17},{"$f":"'GRILLE C2'!B30","v":8},{"$f":"'GRILLE C2'!C30","v":24},{"$f":"'GRILLE C2'!D30","v":380}]
[]
[{"$f":"RECAPITULATIF!B5","v":"Véronique ERUSSARD, Servanne CORNEE, Sébastien BAYAUT"},{"$nulls":16},{"$f":"'GRILLE C2'!B32","v":9},{"$f":"'GRILLE C2'!C32","v":36},{"$f":"'GRILLE C2'!D32","v":390}]
[]
["SUD Santé Sociaux",{"$nulls":3},{"$f":"RECAPITULATIF!D21","v":35},{"$nulls":12},{"$f":"'GRILLE C2'!B34","v":10},{"$f":"'GRILLE C2'!C34","v":36},{"$f":"'GRILLE C2'!D34","v":402}]
[]
[{"$nulls":17},{"$f":"'GRILLE C2'!B36","v":11},{"$f":"'GRILLE C2'!C36","v":48},{"$f":"'GRILLE C2'!D36","v":411}]
[]
[{"$nulls":17},{"$f":"'GRILLE C2'!B38","v":12},{"$f":"'GRILLE C2'!C38","v":0},{"$f":"'GRILLE C2'!D38","v":418}]
[]
["Tél :",{"$f":"RECAPITULATIF!D19","v":{"v":299212886,"d":"02 99 21 28 86"}}]
["Mél :",null,{"$f":"RECAPITULATIF!C23","v":"sudsante@ch-stmalo.fr"}]
[{"$f":"RECAPITULATIF!B25","v":"Site Départemental Sud"},{"$nulls":4},{"$f":"RECAPITULATIF!D25","v":"http://www.sudsantesociaux35.org"}]

{"sheet":"C2 Echelon 8","index":37,"n_rows":73,"n_cols":20,"rows_kept":73,"merged":[[1,6,1,16],[2,6,2,11],[2,12,2,16],[8,12,9,14],[12,12,12,14],[15,0,15,14],[17,0,17,16],[19,0,19,3],[21,0,21,14],[23,0,23,4],[23,5,23,8],[23,10,23,12],[23,13,23,16],[26,5,27,17],[32,0,32,4],[32,5,32,6],[32,7,32,10],[32,11,32,12],[32,17,35,19],[35,0,35,2],[35,8,35,9],[36,17,39,19],[39,0,39,7],[39,8,39,9],[39,10,39,13],[40,17,43,19],[42,0,42,12],[44,17,45,17],[44,18,45,18],[44,19,45,19],[45,2,45,3],[45,5,45,7],[46,17,47,17],[46,18,47,18],[46,19,47,19],[48,0,48,5],[48,6,48,8],[48,17,49,17],[48,18,49,18],[48,19,49,19],[50,17,51,17],[50,18,51,18],[50,19,51,19],[52,17,53,17],[52,18,53,18],[52,19,53,19],[53,0,53,7],[53,8,53,9],[53,10,53,14],[54,0,54,11],[54,12,54,13],[54,17,55,17],[54,18,55,18],[54,19,55,19],[56,17,57,17],[56,18,57,18],[56,19,57,19],[57,0,57,16],[58,17,59,17],[58,18,59,18],[58,19,59,19],[59,0,59,16],[60,17,61,17],[60,18,61,18],[60,19,61,19],[62,0,62,16],[62,17,63,17],[62,18,63,18],[62,19,63,19],[64,0,64,3],[64,17,65,17],[64,18,65,18],[64,19,65,19],[66,17,67,17],[66,18,67,18],[66,19,67,19],[68,17,69,17],[68,18,69,18],[68,19,69,19],[70,1,70,4],[71,0,71,1],[71,2,71,7],[72,0,72,4],[72,5,72,12]]}
[]
[{"$nulls":6},"Commission Administrative"]
[{"$nulls":6},"Paritaire",{"$nulls":5},{"$f":"RECAPITULATIF!D7","v":"Locale"}]
[]
[]
[]
[]
[]
[{"$nulls":12},"Mme, Mr :"]
[]
[{"$nulls":12},"Grade :"]
[]
[{"$nulls":12},"Service :"]
[]
[]
["Votre ou vos représentant-e-s du personnel"]
[]
[{"$f":"RECAPITULATIF!B5","v":"Véronique ERUSSARD, Servanne CORNEE, Sébastien BAYAUT"}]
[]
["SUD Santé Sociaux",{"$nulls":3},{"$f":"RECAPITULATIF!D21","v":35},"du:"]
[]
[{"$f":"RECAPITULATIF!B2","v":"Centre Hospitalier de Saint Malo"}]
[]
["siégeant auprès de la CAP",{"$nulls":4},{"$f":"RECAPITULATIF!D7","v":"Locale"},{"$nulls":3},"du :",{"$f":"RECAPITULATIF!D11","v":"2019-04-16"},null,null,"vous informe de votre :"]
[]
[]
[{"$nulls":5},"AVANCEMENT D’ECHELON"]
[]
[]
[]
[]
[]
["Vous passez à l’échelon :",{"$nulls":4},{"$f":"'GRILLE C2'!B30","v":8},null,"Indice Majoré :",{"$nulls":3},{"$f":"'GRILLE C2'!D30","v":380},{"$nulls":5},{"$f":"'GRILLE C2'!B2","v":"Catégorie C\nGrade C2\nAncienne Echelle 4 et 5"}]
[]
[]
["Date d'effet :",{"$nulls":4},"/",null,"/",{"$f":"RECAPITULATIF!D9","v":2019}]
[{"$nulls":17},{"$f":"'GRILLE C2'!B6","v":"Aide Medico-Psychologique (Ex Classe Normale)\nAide Soignant  (Ex Classe Normale)\nAuxilliaire de Puériculture (Ex Classe Normale)\nOuvrier Principal 2ème Classe\nAgent des Services Hospitaliers Qualifiés Classe Sup.\nAide d'Electroradiologie Classe Supérieure (extinction)\nAide de Laboratoire Classe Supérieure (extinction)\nAide de Pharmacie Classe Supérieure (extinction)\nAgent de Service Mortuaire et Désinfection (extinction)\nAgent de Désinfection 1ère Catégorie (extinction)\nConducteur Ambulancier, Déssinateur (extinction)"}]
[]
[]
["Ce qui représente un gain mensuel de :",{"$nulls":7},{"$f":"'GRILLE C2'!D30-'GRILLE C2'!D28","v":16},null,"points d'indice."]
[{"$nulls":17},{"$f":"'GRILLE C2'!B10","v":"Adjoint Administratifs Principal 2ème Classe\n Aide Medico-Psychologique (Ex Classe Supérieure)\nAide Soignant (Ex Classe Supérieure),  Aumônier\nAuxilliaire de Puériculture (Ex Classe Supérieure)\nConducteur Ambulancier, Ouvrier Principal 2ème Cl.\nAgent de Maîtrise, Aide Préparateur (extinction)\nAide Technique d'Electroradiologie (extinction)\nP A R M  2ème Classe, Déssinateur  (extinction)"}]
[]
["Pour information, la valeur brute du point d'indice"]
[]
[{"$nulls":17},{"$f":"'GRILLE C2'!B14","v":"Echelon"},{"$f":"'GRILLE C2'!C14","v":"Durée\n(en mois)"},{"$f":"'GRILLE C2'!D14","v":"Indice\nMajoré"}]
["est de",null,{"$f":"RECAPITULATIF!D13","v":{"v":4.686,"d":"4.686 €"}},null,"au",{"$f":"RECAPITULATIF!D15","v":"2019-01-01"}]
[{"$nulls":17},{"$f":"'GRILLE C2'!B16","v":1},{"$f":"'GRILLE C2'!C16","v":12},{"$f":"'GRILLE C2'!D16","v":328}]
[]
["Soit un gain net mensuel de :",{"$nulls":5},{"$f":"I40*C46*0.8315","v":{"v":62.342544000000004,"d":"62.34 €"}},{"$nulls":10},{"$f":"'GRILLE C2'!B18","v":2},{"$f":"'GRILLE C2'!C18","v":24},{"$f":"'GRILLE C2'!D18","v":330}]
[]
[{"$nulls":17},{"$f":"'GRILLE C2'!B20","v":3},{"$f":"'GRILLE C2'!C20","v":24},{"$f":"'GRILLE C2'!D20","v":333}]
[]
[{"$nulls":17},{"$f":"'GRILLE C2'!B22","v":4},{"$f":"'GRILLE C2'!C22","v":24},{"$f":"'GRILLE C2'!D22","v":336}]
["Vos représentant-e-s SUD Santé Sociaux ",{"$nulls":7},{"$f":"RECAPITULATIF!D21","v":35},null,"sont à votre disposition"]
["pour tous renseignements complémentaires au poste :",{"$nulls":11},{"$f":"RECAPITULATIF!D17","v":2886},{"$nulls":4},{"$f":"'GRILLE C2'!B24","v":5},{"$f":"'GRILLE C2'!C24","v":24},{"$f":"'GRILLE C2'!D24","v":345}]
[]
[{"$nulls":17},{"$f":"'GRILLE C2'!B26","v":6},{"$f":"'GRILLE C2'!C26","v":24},{"$f":"'GRILLE C2'!D26","v":351}]
[]
[{"$nulls":17},{"$f":"'GRILLE C2'!B28","v":7},{"$f":"'GRILLE C2'!C28","v":24},{"$f":"'GRILLE C2'!D28","v":364}]
["Recevez toutes nos salutations."]
[{"$nulls":17},{"$f":"'GRILLE C2'!B30","v":8},{"$f":"'GRILLE C2'!C30","v":24},{"$f":"'GRILLE C2'!D30","v":380}]
[]
[{"$f":"RECAPITULATIF!B5","v":"Véronique ERUSSARD, Servanne CORNEE, Sébastien BAYAUT"},{"$nulls":16},{"$f":"'GRILLE C2'!B32","v":9},{"$f":"'GRILLE C2'!C32","v":36},{"$f":"'GRILLE C2'!D32","v":390}]
[]
["SUD Santé Sociaux",{"$nulls":3},{"$f":"RECAPITULATIF!D21","v":35},{"$nulls":12},{"$f":"'GRILLE C2'!B34","v":10},{"$f":"'GRILLE C2'!C34","v":36},{"$f":"'GRILLE C2'!D34","v":402}]
[]
[{"$nulls":17},{"$f":"'GRILLE C2'!B36","v":11},{"$f":"'GRILLE C2'!C36","v":48},{"$f":"'GRILLE C2'!D36","v":411}]
[]
[{"$nulls":17},{"$f":"'GRILLE C2'!B38","v":12},{"$f":"'GRILLE C2'!C38","v":0},{"$f":"'GRILLE C2'!D38","v":418}]
[]
["Tél :",{"$f":"RECAPITULATIF!D19","v":{"v":299212886,"d":"02 99 21 28 86"}}]
["Mél :",null,{"$f":"RECAPITULATIF!C23","v":"sudsante@ch-stmalo.fr"}]
[{"$f":"RECAPITULATIF!B25","v":"Site Départemental Sud"},{"$nulls":4},{"$f":"RECAPITULATIF!D25","v":"http://www.sudsantesociaux35.org"}]

{"sheet":"C2 Echelon 9","index":38,"n_rows":73,"n_cols":20,"rows_kept":73,"merged":[[1,6,1,16],[2,6,2,11],[2,12,2,16],[8,12,9,14],[12,12,12,14],[15,0,15,14],[17,0,17,16],[19,0,19,3],[21,0,21,14],[23,0,23,4],[23,5,23,8],[23,10,23,12],[23,13,23,16],[26,5,27,17],[32,0,32,4],[32,5,32,6],[32,7,32,10],[32,11,32,12],[32,17,35,19],[35,0,35,2],[35,8,35,9],[36,17,39,19],[39,0,39,7],[39,8,39,9],[39,10,39,13],[40,17,43,19],[42,0,42,12],[44,17,45,17],[44,18,45,18],[44,19,45,19],[45,2,45,3],[45,5,45,7],[46,17,47,17],[46,18,47,18],[46,19,47,19],[48,0,48,5],[48,6,48,8],[48,17,49,17],[48,18,49,18],[48,19,49,19],[50,17,51,17],[50,18,51,18],[50,19,51,19],[52,17,53,17],[52,18,53,18],[52,19,53,19],[53,0,53,7],[53,8,53,9],[53,10,53,14],[54,0,54,11],[54,12,54,13],[54,17,55,17],[54,18,55,18],[54,19,55,19],[56,17,57,17],[56,18,57,18],[56,19,57,19],[57,0,57,16],[58,17,59,17],[58,18,59,18],[58,19,59,19],[59,0,59,16],[60,17,61,17],[60,18,61,18],[60,19,61,19],[62,0,62,16],[62,17,63,17],[62,18,63,18],[62,19,63,19],[64,0,64,3],[64,17,65,17],[64,18,65,18],[64,19,65,19],[66,17,67,17],[66,18,67,18],[66,19,67,19],[68,17,69,17],[68,18,69,18],[68,19,69,19],[70,1,70,4],[71,0,71,1],[71,2,71,7],[72,0,72,4],[72,5,72,12]]}
[]
[{"$nulls":6},"Commission Administrative"]
[{"$nulls":6},"Paritaire",{"$nulls":5},{"$f":"RECAPITULATIF!D7","v":"Locale"}]
[]
[]
[]
[]
[]
[{"$nulls":12},"Mme, Mr :"]
[]
[{"$nulls":12},"Grade :"]
[]
[{"$nulls":12},"Service :"]
[]
[]
["Votre ou vos représentant-e-s du personnel"]
[]
[{"$f":"RECAPITULATIF!B5","v":"Véronique ERUSSARD, Servanne CORNEE, Sébastien BAYAUT"}]
[]
["SUD Santé Sociaux",{"$nulls":3},{"$f":"RECAPITULATIF!D21","v":35},"du:"]
[]
[{"$f":"RECAPITULATIF!B2","v":"Centre Hospitalier de Saint Malo"}]
[]
["siégeant auprès de la CAP",{"$nulls":4},{"$f":"RECAPITULATIF!D7","v":"Locale"},{"$nulls":3},"du :",{"$f":"RECAPITULATIF!D11","v":"2019-04-16"},null,null,"vous informe de votre :"]
[]
[]
[{"$nulls":5},"AVANCEMENT D’ECHELON"]
[]
[]
[]
[]
[]
["Vous passez à l’échelon :",{"$nulls":4},{"$f":"'GRILLE C2'!B32","v":9},null,"Indice Majoré :",{"$nulls":3},{"$f":"'GRILLE C2'!D32","v":390},{"$nulls":5},{"$f":"'GRILLE C2'!B2","v":"Catégorie C\nGrade C2\nAncienne Echelle 4 et 5"}]
[]
[]
["Date d'effet :",{"$nulls":4},"/",null,"/",{"$f":"RECAPITULATIF!D9","v":2019}]
[{"$nulls":17},{"$f":"'GRILLE C2'!B6","v":"Aide Medico-Psychologique (Ex Classe Normale)\nAide Soignant  (Ex Classe Normale)\nAuxilliaire de Puériculture (Ex Classe Normale)\nOuvrier Principal 2ème Classe\nAgent des Services Hospitaliers Qualifiés Classe Sup.\nAide d'Electroradiologie Classe Supérieure (extinction)\nAide de Laboratoire Classe Supérieure (extinction)\nAide de Pharmacie Classe Supérieure (extinction)\nAgent de Service Mortuaire et Désinfection (extinction)\nAgent de Désinfection 1ère Catégorie (extinction)\nConducteur Ambulancier, Déssinateur (extinction)"}]
[]
[]
["Ce qui représente un gain mensuel de :",{"$nulls":7},{"$f":"'GRILLE C2'!D32-'GRILLE C2'!D30","v":10},null,"points d'indice."]
[{"$nulls":17},{"$f":"'GRILLE C2'!B10","v":"Adjoint Administratifs Principal 2ème Classe\n Aide Medico-Psychologique (Ex Classe Supérieure)\nAide Soignant (Ex Classe Supérieure),  Aumônier\nAuxilliaire de Puériculture (Ex Classe Supérieure)\nConducteur Ambulancier, Ouvrier Principal 2ème Cl.\nAgent de Maîtrise, Aide Préparateur (extinction)\nAide Technique d'Electroradiologie (extinction)\nP A R M  2ème Classe, Déssinateur  (extinction)"}]
[]
["Pour information, la valeur brute du point d'indice"]
[]
[{"$nulls":17},{"$f":"'GRILLE C2'!B14","v":"Echelon"},{"$f":"'GRILLE C2'!C14","v":"Durée\n(en mois)"},{"$f":"'GRILLE C2'!D14","v":"Indice\nMajoré"}]
["est de",null,{"$f":"RECAPITULATIF!D13","v":{"v":4.686,"d":"4.686 €"}},null,"au",{"$f":"RECAPITULATIF!D15","v":"2019-01-01"}]
[{"$nulls":17},{"$f":"'GRILLE C2'!B16","v":1},{"$f":"'GRILLE C2'!C16","v":12},{"$f":"'GRILLE C2'!D16","v":328}]
[]
["Soit un gain net mensuel de :",{"$nulls":5},{"$f":"I40*C46*0.8315","v":{"v":38.96409,"d":"38.96 €"}},{"$nulls":10},{"$f":"'GRILLE C2'!B18","v":2},{"$f":"'GRILLE C2'!C18","v":24},{"$f":"'GRILLE C2'!D18","v":330}]
[]
[{"$nulls":17},{"$f":"'GRILLE C2'!B20","v":3},{"$f":"'GRILLE C2'!C20","v":24},{"$f":"'GRILLE C2'!D20","v":333}]
[]
[{"$nulls":17},{"$f":"'GRILLE C2'!B22","v":4},{"$f":"'GRILLE C2'!C22","v":24},{"$f":"'GRILLE C2'!D22","v":336}]
["Vos représentant-e-s SUD Santé Sociaux ",{"$nulls":7},{"$f":"RECAPITULATIF!D21","v":35},null,"sont à votre disposition"]
["pour tous renseignements complémentaires au poste :",{"$nulls":11},{"$f":"RECAPITULATIF!D17","v":2886},{"$nulls":4},{"$f":"'GRILLE C2'!B24","v":5},{"$f":"'GRILLE C2'!C24","v":24},{"$f":"'GRILLE C2'!D24","v":345}]
[]
[{"$nulls":17},{"$f":"'GRILLE C2'!B26","v":6},{"$f":"'GRILLE C2'!C26","v":24},{"$f":"'GRILLE C2'!D26","v":351}]
[]
[{"$nulls":17},{"$f":"'GRILLE C2'!B28","v":7},{"$f":"'GRILLE C2'!C28","v":24},{"$f":"'GRILLE C2'!D28","v":364}]
["Recevez toutes nos salutations."]
[{"$nulls":17},{"$f":"'GRILLE C2'!B30","v":8},{"$f":"'GRILLE C2'!C30","v":24},{"$f":"'GRILLE C2'!D30","v":380}]
[]
[{"$f":"RECAPITULATIF!B5","v":"Véronique ERUSSARD, Servanne CORNEE, Sébastien BAYAUT"},{"$nulls":16},{"$f":"'GRILLE C2'!B32","v":9},{"$f":"'GRILLE C2'!C32","v":36},{"$f":"'GRILLE C2'!D32","v":390}]
[]
["SUD Santé Sociaux",{"$nulls":3},{"$f":"RECAPITULATIF!D21","v":35},{"$nulls":12},{"$f":"'GRILLE C2'!B34","v":10},{"$f":"'GRILLE C2'!C34","v":36},{"$f":"'GRILLE C2'!D34","v":402}]
[]
[{"$nulls":17},{"$f":"'GRILLE C2'!B36","v":11},{"$f":"'GRILLE C2'!C36","v":48},{"$f":"'GRILLE C2'!D36","v":411}]
[]
[{"$nulls":17},{"$f":"'GRILLE C2'!B38","v":12},{"$f":"'GRILLE C2'!C38","v":0},{"$f":"'GRILLE C2'!D38","v":418}]
[]
["Tél :",{"$f":"RECAPITULATIF!D19","v":{"v":299212886,"d":"02 99 21 28 86"}}]
["Mél :",null,{"$f":"RECAPITULATIF!C23","v":"sudsante@ch-stmalo.fr"}]
[{"$f":"RECAPITULATIF!B25","v":"Site Départemental Sud"},{"$nulls":4},{"$f":"RECAPITULATIF!D25","v":"http://www.sudsantesociaux35.org"}]

{"sheet":"C2 Echelon 10","index":39,"n_rows":73,"n_cols":20,"rows_kept":73,"merged":[[1,6,1,16],[2,6,2,11],[2,12,2,16],[8,12,9,14],[12,12,12,14],[15,0,15,14],[17,0,17,16],[19,0,19,3],[21,0,21,14],[23,0,23,4],[23,5,23,8],[23,10,23,12],[23,13,23,16],[26,5,27,17],[32,0,32,4],[32,5,32,6],[32,7,32,10],[32,11,32,12],[32,17,35,19],[35,0,35,2],[35,8,35,9],[36,17,39,19],[39,0,39,7],[39,8,39,9],[39,10,39,13],[40,17,43,19],[42,0,42,12],[44,17,45,17],[44,18,45,18],[44,19,45,19],[45,2,45,3],[45,5,45,7],[46,17,47,17],[46,18,47,18],[46,19,47,19],[48,0,48,5],[48,6,48,8],[48,17,49,17],[48,18,49,18],[48,19,49,19],[50,17,51,17],[50,18,51,18],[50,19,51,19],[52,17,53,17],[52,18,53,18],[52,19,53,19],[53,0,53,7],[53,8,53,9],[53,10,53,14],[54,0,54,11],[54,12,54,13],[54,17,55,17],[54,18,55,18],[54,19,55,19],[56,17,57,17],[56,18,57,18],[56,19,57,19],[57,0,57,16],[58,17,59,17],[58,18,59,18],[58,19,59,19],[59,0,59,16],[60,17,61,17],[60,18,61,18],[60,19,61,19],[62,0,62,16],[62,17,63,17],[62,18,63,18],[62,19,63,19],[64,0,64,3],[64,17,65,17],[64,18,65,18],[64,19,65,19],[66,17,67,17],[66,18,67,18],[66,19,67,19],[68,17,69,17],[68,18,69,18],[68,19,69,19],[70,1,70,4],[71,0,71,1],[71,2,71,7],[72,0,72,4],[72,5,72,12]]}
[]
[{"$nulls":6},"Commission Administrative"]
[{"$nulls":6},"Paritaire",{"$nulls":5},{"$f":"RECAPITULATIF!D7","v":"Locale"}]
[]
[]
[]
[]
[]
[{"$nulls":12},"Mme, Mr :"]
[]
[{"$nulls":12},"Grade :"]
[]
[{"$nulls":12},"Service :"]
[]
[]
["Votre ou vos représentant-e-s du personnel"]
[]
[{"$f":"RECAPITULATIF!B5","v":"Véronique ERUSSARD, Servanne CORNEE, Sébastien BAYAUT"}]
[]
["SUD Santé Sociaux",{"$nulls":3},{"$f":"RECAPITULATIF!D21","v":35},"du:"]
[]
[{"$f":"RECAPITULATIF!B2","v":"Centre Hospitalier de Saint Malo"}]
[]
["siégeant auprès de la CAP",{"$nulls":4},{"$f":"RECAPITULATIF!D7","v":"Locale"},{"$nulls":3},"du :",{"$f":"RECAPITULATIF!D11","v":"2019-04-16"},null,null,"vous informe de votre :"]
[]
[]
[{"$nulls":5},"AVANCEMENT D’ECHELON"]
[]
[]
[]
[]
[]
["Vous passez à l’échelon :",{"$nulls":4},{"$f":"'GRILLE C2'!B34","v":10},null,"Indice Majoré :",{"$nulls":3},{"$f":"'GRILLE C2'!D34","v":402},{"$nulls":5},{"$f":"'GRILLE C2'!B2","v":"Catégorie C\nGrade C2\nAncienne Echelle 4 et 5"}]
[]
[]
["Date d'effet :",{"$nulls":4},"/",null,"/",{"$f":"RECAPITULATIF!D9","v":2019}]
[{"$nulls":17},{"$f":"'GRILLE C2'!B6","v":"Aide Medico-Psychologique (Ex Classe Normale)\nAide Soignant  (Ex Classe Normale)\nAuxilliaire de Puériculture (Ex Classe Normale)\nOuvrier Principal 2ème Classe\nAgent des Services Hospitaliers Qualifiés Classe Sup.\nAide d'Electroradiologie Classe Supérieure (extinction)\nAide de Laboratoire Classe Supérieure (extinction)\nAide de Pharmacie Classe Supérieure (extinction)\nAgent de Service Mortuaire et Désinfection (extinction)\nAgent de Désinfection 1ère Catégorie (extinction)\nConducteur Ambulancier, Déssinateur (extinction)"}]
[]
[]
["Ce qui représente un gain mensuel de :",{"$nulls":7},{"$f":"'GRILLE C2'!D34-'GRILLE C2'!D32","v":12},null,"points d'indice."]
[{"$nulls":17},{"$f":"'GRILLE C2'!B10","v":"Adjoint Administratifs Principal 2ème Classe\n Aide Medico-Psychologique (Ex Classe Supérieure)\nAide Soignant (Ex Classe Supérieure),  Aumônier\nAuxilliaire de Puériculture (Ex Classe Supérieure)\nConducteur Ambulancier, Ouvrier Principal 2ème Cl.\nAgent de Maîtrise, Aide Préparateur (extinction)\nAide Technique d'Electroradiologie (extinction)\nP A R M  2ème Classe, Déssinateur  (extinction)"}]
[]
["Pour information, la valeur brute du point d'indice"]
[]
[{"$nulls":17},{"$f":"'GRILLE C2'!B14","v":"Echelon"},{"$f":"'GRILLE C2'!C14","v":"Durée\n(en mois)"},{"$f":"'GRILLE C2'!D14","v":"Indice\nMajoré"}]
["est de",null,{"$f":"RECAPITULATIF!D13","v":{"v":4.686,"d":"4.686 €"}},null,"au",{"$f":"RECAPITULATIF!D15","v":"2019-01-01"}]
[{"$nulls":17},{"$f":"'GRILLE C2'!B16","v":1},{"$f":"'GRILLE C2'!C16","v":12},{"$f":"'GRILLE C2'!D16","v":328}]
[]
["Soit un gain net mensuel de :",{"$nulls":5},{"$f":"I40*C46*0.8315","v":{"v":46.756908,"d":"46.76 €"}},{"$nulls":10},{"$f":"'GRILLE C2'!B18","v":2},{"$f":"'GRILLE C2'!C18","v":24},{"$f":"'GRILLE C2'!D18","v":330}]
[]
[{"$nulls":17},{"$f":"'GRILLE C2'!B20","v":3},{"$f":"'GRILLE C2'!C20","v":24},{"$f":"'GRILLE C2'!D20","v":333}]
[]
[{"$nulls":17},{"$f":"'GRILLE C2'!B22","v":4},{"$f":"'GRILLE C2'!C22","v":24},{"$f":"'GRILLE C2'!D22","v":336}]
["Vos représentant-e-s SUD Santé Sociaux ",{"$nulls":7},{"$f":"RECAPITULATIF!D21","v":35},null,"sont à votre disposition"]
["pour tous renseignements complémentaires au poste :",{"$nulls":11},{"$f":"RECAPITULATIF!D17","v":2886},{"$nulls":4},{"$f":"'GRILLE C2'!B24","v":5},{"$f":"'GRILLE C2'!C24","v":24},{"$f":"'GRILLE C2'!D24","v":345}]
[]
[{"$nulls":17},{"$f":"'GRILLE C2'!B26","v":6},{"$f":"'GRILLE C2'!C26","v":24},{"$f":"'GRILLE C2'!D26","v":351}]
[]
[{"$nulls":17},{"$f":"'GRILLE C2'!B28","v":7},{"$f":"'GRILLE C2'!C28","v":24},{"$f":"'GRILLE C2'!D28","v":364}]
["Recevez toutes nos salutations."]
[{"$nulls":17},{"$f":"'GRILLE C2'!B30","v":8},{"$f":"'GRILLE C2'!C30","v":24},{"$f":"'GRILLE C2'!D30","v":380}]
[]
[{"$f":"RECAPITULATIF!B5","v":"Véronique ERUSSARD, Servanne CORNEE, Sébastien BAYAUT"},{"$nulls":16},{"$f":"'GRILLE C2'!B32","v":9},{"$f":"'GRILLE C2'!C32","v":36},{"$f":"'GRILLE C2'!D32","v":390}]
[]
["SUD Santé Sociaux",{"$nulls":3},{"$f":"RECAPITULATIF!D21","v":35},{"$nulls":12},{"$f":"'GRILLE C2'!B34","v":10},{"$f":"'GRILLE C2'!C34","v":36},{"$f":"'GRILLE C2'!D34","v":402}]
[]
[{"$nulls":17},{"$f":"'GRILLE C2'!B36","v":11},{"$f":"'GRILLE C2'!C36","v":48},{"$f":"'GRILLE C2'!D36","v":411}]
[]
[{"$nulls":17},{"$f":"'GRILLE C2'!B38","v":12},{"$f":"'GRILLE C2'!C38","v":0},{"$f":"'GRILLE C2'!D38","v":418}]
[]
["Tél :",{"$f":"RECAPITULATIF!D19","v":{"v":299212886,"d":"02 99 21 28 86"}}]
["Mél :",null,{"$f":"RECAPITULATIF!C23","v":"sudsante@ch-stmalo.fr"}]
[{"$f":"RECAPITULATIF!B25","v":"Site Départemental Sud"},{"$nulls":4},{"$f":"RECAPITULATIF!D25","v":"http://www.sudsantesociaux35.org"}]

{"sheet":"C2 Echelon 11","index":40,"n_rows":73,"n_cols":20,"rows_kept":73,"merged":[[1,6,1,16],[2,6,2,11],[2,12,2,16],[8,12,9,14],[12,12,12,14],[15,0,15,14],[17,0,17,16],[19,0,19,3],[21,0,21,14],[23,0,23,4],[23,5,23,8],[23,10,23,12],[23,13,23,16],[26,5,27,17],[32,0,32,4],[32,5,32,6],[32,7,32,10],[32,11,32,12],[32,17,35,19],[35,0,35,2],[35,8,35,9],[36,17,39,19],[39,0,39,7],[39,8,39,9],[39,10,39,13],[40,17,43,19],[42,0,42,12],[44,17,45,17],[44,18,45,18],[44,19,45,19],[45,2,45,3],[45,5,45,7],[46,17,47,17],[46,18,47,18],[46,19,47,19],[48,0,48,5],[48,6,48,8],[48,17,49,17],[48,18,49,18],[48,19,49,19],[50,17,51,17],[50,18,51,18],[50,19,51,19],[52,17,53,17],[52,18,53,18],[52,19,53,19],[53,0,53,7],[53,8,53,9],[53,10,53,14],[54,0,54,11],[54,12,54,13],[54,17,55,17],[54,18,55,18],[54,19,55,19],[56,17,57,17],[56,18,57,18],[56,19,57,19],[57,0,57,16],[58,17,59,17],[58,18,59,18],[58,19,59,19],[59,0,59,16],[60,17,61,17],[60,18,61,18],[60,19,61,19],[62,0,62,16],[62,17,63,17],[62,18,63,18],[62,19,63,19],[64,0,64,3],[64,17,65,17],[64,18,65,18],[64,19,65,19],[66,17,67,17],[66,18,67,18],[66,19,67,19],[68,17,69,17],[68,18,69,18],[68,19,69,19],[70,1,70,4],[71,0,71,1],[71,2,71,7],[72,0,72,4],[72,5,72,12]]}
[]
[{"$nulls":6},"Commission Administrative"]
[{"$nulls":6},"Paritaire",{"$nulls":5},{"$f":"RECAPITULATIF!D7","v":"Locale"}]
[]
[]
[]
[]
[]
[{"$nulls":12},"Mme, Mr :"]
[]
[{"$nulls":12},"Grade :"]
[]
[{"$nulls":12},"Service :"]
[]
[]
["Votre ou vos représentant-e-s du personnel"]
[]
[{"$f":"RECAPITULATIF!B5","v":"Véronique ERUSSARD, Servanne CORNEE, Sébastien BAYAUT"}]
[]
["SUD Santé Sociaux",{"$nulls":3},{"$f":"RECAPITULATIF!D21","v":35},"du:"]
[]
[{"$f":"RECAPITULATIF!B2","v":"Centre Hospitalier de Saint Malo"}]
[]
["siégeant auprès de la CAP",{"$nulls":4},{"$f":"RECAPITULATIF!D7","v":"Locale"},{"$nulls":3},"du :",{"$f":"RECAPITULATIF!D11","v":"2019-04-16"},null,null,"vous informe de votre :"]
[]
[]
[{"$nulls":5},"AVANCEMENT D’ECHELON"]
[]
[]
[]
[]
[]
["Vous passez à l’échelon :",{"$nulls":4},{"$f":"'GRILLE C2'!B36","v":11},null,"Indice Majoré :",{"$nulls":3},{"$f":"'GRILLE C2'!D36","v":411},{"$nulls":5},{"$f":"'GRILLE C2'!B2","v":"Catégorie C\nGrade C2\nAncienne Echelle 4 et 5"}]
[]
[]
["Date d'effet :",{"$nulls":4},"/",null,"/",{"$f":"RECAPITULATIF!D9","v":2019}]
[{"$nulls":17},{"$f":"'GRILLE C2'!B6","v":"Aide Medico-Psychologique (Ex Classe Normale)\nAide Soignant  (Ex Classe Normale)\nAuxilliaire de Puériculture (Ex Classe Normale)\nOuvrier Principal 2ème Classe\nAgent des Services Hospitaliers Qualifiés Classe Sup.\nAide d'Electroradiologie Classe Supérieure (extinction)\nAide de Laboratoire Classe Supérieure (extinction)\nAide de Pharmacie Classe Supérieure (extinction)\nAgent de Service Mortuaire et Désinfection (extinction)\nAgent de Désinfection 1ère Catégorie (extinction)\nConducteur Ambulancier, Déssinateur (extinction)"}]
[]
[]
["Ce qui représente un gain mensuel de :",{"$nulls":7},{"$f":"'GRILLE C2'!D36-'GRILLE C2'!D34","v":9},null,"points d'indice."]
[{"$nulls":17},{"$f":"'GRILLE C2'!B10","v":"Adjoint Administratifs Principal 2ème Classe\n Aide Medico-Psychologique (Ex Classe Supérieure)\nAide Soignant (Ex Classe Supérieure),  Aumônier\nAuxilliaire de Puériculture (Ex Classe Supérieure)\nConducteur Ambulancier, Ouvrier Principal 2ème Cl.\nAgent de Maîtrise, Aide Préparateur (extinction)\nAide Technique d'Electroradiologie (extinction)\nP A R M  2ème Classe, Déssinateur  (extinction)"}]
[]
["Pour information, la valeur brute du point d'indice"]
[]
[{"$nulls":17},{"$f":"'GRILLE C2'!B14","v":"Echelon"},{"$f":"'GRILLE C2'!C14","v":"Durée\n(en mois)"},{"$f":"'GRILLE C2'!D14","v":"Indice\nMajoré"}]
["est de",null,{"$f":"RECAPITULATIF!D13","v":{"v":4.686,"d":"4.686 €"}},null,"au",{"$f":"RECAPITULATIF!D15","v":"2019-01-01"}]
[{"$nulls":17},{"$f":"'GRILLE C2'!B16","v":1},{"$f":"'GRILLE C2'!C16","v":12},{"$f":"'GRILLE C2'!D16","v":328}]
[]
["Soit un gain net mensuel de :",{"$nulls":5},{"$f":"I40*C46*0.8315","v":{"v":35.067681,"d":"35.07 €"}},{"$nulls":10},{"$f":"'GRILLE C2'!B18","v":2},{"$f":"'GRILLE C2'!C18","v":24},{"$f":"'GRILLE C2'!D18","v":330}]
[]
[{"$nulls":17},{"$f":"'GRILLE C2'!B20","v":3},{"$f":"'GRILLE C2'!C20","v":24},{"$f":"'GRILLE C2'!D20","v":333}]
[]
[{"$nulls":17},{"$f":"'GRILLE C2'!B22","v":4},{"$f":"'GRILLE C2'!C22","v":24},{"$f":"'GRILLE C2'!D22","v":336}]
["Vos représentant-e-s SUD Santé Sociaux ",{"$nulls":7},{"$f":"RECAPITULATIF!D21","v":35},null,"sont à votre disposition"]
["pour tous renseignements complémentaires au poste :",{"$nulls":11},{"$f":"RECAPITULATIF!D17","v":2886},{"$nulls":4},{"$f":"'GRILLE C2'!B24","v":5},{"$f":"'GRILLE C2'!C24","v":24},{"$f":"'GRILLE C2'!D24","v":345}]
[]
[{"$nulls":17},{"$f":"'GRILLE C2'!B26","v":6},{"$f":"'GRILLE C2'!C26","v":24},{"$f":"'GRILLE C2'!D26","v":351}]
[]
[{"$nulls":17},{"$f":"'GRILLE C2'!B28","v":7},{"$f":"'GRILLE C2'!C28","v":24},{"$f":"'GRILLE C2'!D28","v":364}]
["Recevez toutes nos salutations."]
[{"$nulls":17},{"$f":"'GRILLE C2'!B30","v":8},{"$f":"'GRILLE C2'!C30","v":24},{"$f":"'GRILLE C2'!D30","v":380}]
[]
[{"$f":"RECAPITULATIF!B5","v":"Véronique ERUSSARD, Servanne CORNEE, Sébastien BAYAUT"},{"$nulls":16},{"$f":"'GRILLE C2'!B32","v":9},{"$f":"'GRILLE C2'!C32","v":36},{"$f":"'GRILLE C2'!D32","v":390}]
[]
["SUD Santé Sociaux",{"$nulls":3},{"$f":"RECAPITULATIF!D21","v":35},{"$nulls":12},{"$f":"'GRILLE C2'!B34","v":10},{"$f":"'GRILLE C2'!C34","v":36},{"$f":"'GRILLE C2'!D34","v":402}]
[]
[{"$nulls":17},{"$f":"'GRILLE C2'!B36","v":11},{"$f":"'GRILLE C2'!C36","v":48},{"$f":"'GRILLE C2'!D36","v":411}]
[]
[{"$nulls":17},{"$f":"'GRILLE C2'!B38","v":12},{"$f":"'GRILLE C2'!C38","v":0},{"$f":"'GRILLE C2'!D38","v":418}]
[]
["Tél :",{"$f":"RECAPITULATIF!D19","v":{"v":299212886,"d":"02 99 21 28 86"}}]
["Mél :",null,{"$f":"RECAPITULATIF!C23","v":"sudsante@ch-stmalo.fr"}]
[{"$f":"RECAPITULATIF!B25","v":"Site Départemental Sud"},{"$nulls":4},{"$f":"RECAPITULATIF!D25","v":"http://www.sudsantesociaux35.org"}]

{"sheet":"C2 Echelon 12","index":41,"n_rows":73,"n_cols":20,"rows_kept":73,"merged":[[1,6,1,16],[2,6,2,11],[2,12,2,16],[8,12,9,14],[12,12,12,14],[15,0,15,14],[17,0,17,16],[19,0,19,3],[21,0,21,14],[23,0,23,4],[23,5,23,8],[23,10,23,12],[23,13,23,16],[26,5,27,17],[32,0,32,4],[32,5,32,6],[32,7,32,10],[32,11,32,12],[32,17,35,19],[35,0,35,2],[35,8,35,9],[36,17,39,19],[39,0,39,7],[39,8,39,9],[39,10,39,13],[40,17,43,19],[42,0,42,12],[44,17,45,17],[44,18,45,18],[44,19,45,19],[45,2,45,3],[45,5,45,7],[46,17,47,17],[46,18,47,18],[46,19,47,19],[48,0,48,5],[48,6,48,8],[48,17,49,17],[48,18,49,18],[48,19,49,19],[50,17,51,17],[50,18,51,18],[50,19,51,19],[52,17,53,17],[52,18,53,18],[52,19,53,19],[53,0,53,7],[53,8,53,9],[53,10,53,14],[54,0,54,11],[54,12,54,13],[54,17,55,17],[54,18,55,18],[54,19,55,19],[56,17,57,17],[56,18,57,18],[56,19,57,19],[57,0,57,16],[58,17,59,17],[58,18,59,18],[58,19,59,19],[59,0,59,16],[60,17,61,17],[60,18,61,18],[60,19,61,19],[62,0,62,16],[62,17,63,17],[62,18,63,18],[62,19,63,19],[64,0,64,3],[64,17,65,17],[64,18,65,18],[64,19,65,19],[66,17,67,17],[66,18,67,18],[66,19,67,19],[68,17,69,17],[68,18,69,18],[68,19,69,19],[70,1,70,4],[71,0,71,1],[71,2,71,7],[72,0,72,4],[72,5,72,12]]}
[]
[{"$nulls":6},"Commission Administrative"]
[{"$nulls":6},"Paritaire",{"$nulls":5},{"$f":"RECAPITULATIF!D7","v":"Locale"}]
[]
[]
[]
[]
[]
[{"$nulls":12},"Mme, Mr :"]
[]
[{"$nulls":12},"Grade :"]
[]
[{"$nulls":12},"Service :"]
[]
[]
["Votre ou vos représentant-e-s du personnel"]
[]
[{"$f":"RECAPITULATIF!B5","v":"Véronique ERUSSARD, Servanne CORNEE, Sébastien BAYAUT"}]
[]
["SUD Santé Sociaux",{"$nulls":3},{"$f":"RECAPITULATIF!D21","v":35},"du:"]
[]
[{"$f":"RECAPITULATIF!B2","v":"Centre Hospitalier de Saint Malo"}]
[]
["siégeant auprès de la CAP",{"$nulls":4},{"$f":"RECAPITULATIF!D7","v":"Locale"},{"$nulls":3},"du :",{"$f":"RECAPITULATIF!D11","v":"2019-04-16"},null,null,"vous informe de votre :"]
[]
[]
[{"$nulls":5},"AVANCEMENT D’ECHELON"]
[]
[]
[]
[]
[]
["Vous passez à l’échelon :",{"$nulls":4},{"$f":"'GRILLE C2'!B38","v":12},null,"Indice Majoré :",{"$nulls":3},{"$f":"'GRILLE C2'!D38","v":418},{"$nulls":5},{"$f":"'GRILLE C2'!B2","v":"Catégorie C\nGrade C2\nAncienne Echelle 4 et 5"}]
[]
[]
["Date d'effet :",{"$nulls":4},"/",null,"/",{"$f":"RECAPITULATIF!D9","v":2019}]
[{"$nulls":17},{"$f":"'GRILLE C2'!B6","v":"Aide Medico-Psychologique (Ex Classe Normale)\nAide Soignant  (Ex Classe Normale)\nAuxilliaire de Puériculture (Ex Classe Normale)\nOuvrier Principal 2ème Classe\nAgent des Services Hospitaliers Qualifiés Classe Sup.\nAide d'Electroradiologie Classe Supérieure (extinction)\nAide de Laboratoire Classe Supérieure (extinction)\nAide de Pharmacie Classe Supérieure (extinction)\nAgent de Service Mortuaire et Désinfection (extinction)\nAgent de Désinfection 1ère Catégorie (extinction)\nConducteur Ambulancier, Déssinateur (extinction)"}]
[]
[]
["Ce qui représente un gain mensuel de :",{"$nulls":7},{"$f":"'GRILLE C2'!D38-'GRILLE C2'!D36","v":7},null,"points d'indice."]
[{"$nulls":17},{"$f":"'GRILLE C2'!B10","v":"Adjoint Administratifs Principal 2ème Classe\n Aide Medico-Psychologique (Ex Classe Supérieure)\nAide Soignant (Ex Classe Supérieure),  Aumônier\nAuxilliaire de Puériculture (Ex Classe Supérieure)\nConducteur Ambulancier, Ouvrier Principal 2ème Cl.\nAgent de Maîtrise, Aide Préparateur (extinction)\nAide Technique d'Electroradiologie (extinction)\nP A R M  2ème Classe, Déssinateur  (extinction)"}]
[]
["Pour information, la valeur brute du point d'indice"]
[]
[{"$nulls":17},{"$f":"'GRILLE C2'!B14","v":"Echelon"},{"$f":"'GRILLE C2'!C14","v":"Durée\n(en mois)"},{"$f":"'GRILLE C2'!D14","v":"Indice\nMajoré"}]
["est de",null,{"$f":"RECAPITULATIF!D13","v":{"v":4.686,"d":"4.686 €"}},null,"au",{"$f":"RECAPITULATIF!D15","v":"2019-01-01"}]
[{"$nulls":17},{"$f":"'GRILLE C2'!B16","v":1},{"$f":"'GRILLE C2'!C16","v":12},{"$f":"'GRILLE C2'!D16","v":328}]
[]
["Soit un gain net mensuel de :",{"$nulls":5},{"$f":"I40*C46*0.8315","v":{"v":27.274863,"d":"27.27 €"}},{"$nulls":10},{"$f":"'GRILLE C2'!B18","v":2},{"$f":"'GRILLE C2'!C18","v":24},{"$f":"'GRILLE C2'!D18","v":330}]
[]
[{"$nulls":17},{"$f":"'GRILLE C2'!B20","v":3},{"$f":"'GRILLE C2'!C20","v":24},{"$f":"'GRILLE C2'!D20","v":333}]
[]
[{"$nulls":17},{"$f":"'GRILLE C2'!B22","v":4},{"$f":"'GRILLE C2'!C22","v":24},{"$f":"'GRILLE C2'!D22","v":336}]
["Vos représentant-e-s SUD Santé Sociaux ",{"$nulls":7},{"$f":"RECAPITULATIF!D21","v":35},null,"sont à votre disposition"]
["pour tous renseignements complémentaires au poste :",{"$nulls":11},{"$f":"RECAPITULATIF!D17","v":2886},{"$nulls":4},{"$f":"'GRILLE C2'!B24","v":5},{"$f":"'GRILLE C2'!C24","v":24},{"$f":"'GRILLE C2'!D24","v":345}]
[]
[{"$nulls":17},{"$f":"'GRILLE C2'!B26","v":6},{"$f":"'GRILLE C2'!C26","v":24},{"$f":"'GRILLE C2'!D26","v":351}]
[]
[{"$nulls":17},{"$f":"'GRILLE C2'!B28","v":7},{"$f":"'GRILLE C2'!C28","v":24},{"$f":"'GRILLE C2'!D28","v":364}]
["Recevez toutes nos salutations."]
[{"$nulls":17},{"$f":"'GRILLE C2'!B30","v":8},{"$f":"'GRILLE C2'!C30","v":24},{"$f":"'GRILLE C2'!D30","v":380}]
[]
[{"$f":"RECAPITULATIF!B5","v":"Véronique ERUSSARD, Servanne CORNEE, Sébastien BAYAUT"},{"$nulls":16},{"$f":"'GRILLE C2'!B32","v":9},{"$f":"'GRILLE C2'!C32","v":36},{"$f":"'GRILLE C2'!D32","v":390}]
[]
["SUD Santé Sociaux",{"$nulls":3},{"$f":"RECAPITULATIF!D21","v":35},{"$nulls":12},{"$f":"'GRILLE C2'!B34","v":10},{"$f":"'GRILLE C2'!C34","v":36},{"$f":"'GRILLE C2'!D34","v":402}]
[]
[{"$nulls":17},{"$f":"'GRILLE C2'!B36","v":11},{"$f":"'GRILLE C2'!C36","v":48},{"$f":"'GRILLE C2'!D36","v":411}]
[]
[{"$nulls":17},{"$f":"'GRILLE C2'!B38","v":12},{"$f":"'GRILLE C2'!C38","v":0},{"$f":"'GRILLE C2'!D38","v":418}]
[]
["Tél :",{"$f":"RECAPITULATIF!D19","v":{"v":299212886,"d":"02 99 21 28 86"}}]
["Mél :",null,{"$f":"RECAPITULATIF!C23","v":"sudsante@ch-stmalo.fr"}]
[{"$f":"RECAPITULATIF!B25","v":"Site Départemental Sud"},{"$nulls":4},{"$f":"RECAPITULATIF!D25","v":"http://www.sudsantesociaux35.org"}]

{"sheet":"GRILLE C3","index":42,"n_rows":30,"n_cols":4,"rows_kept":30,"merged":[[1,1,4,3],[5,1,8,3],[9,1,10,1],[9,2,10,2],[9,3,10,3],[11,1,12,1],[11,2,12,2],[11,3,12,3],[13,1,14,1],[13,2,14,2],[13,3,14,3],[15,1,16,1],[15,2,16,2],[15,3,16,3],[17,1,18,1],[17,2,18,2],[17,3,18,3],[19,1,20,1],[19,2,20,2],[19,3,20,3],[21,1,22,1],[21,2,22,2],[21,3,22,3],[23,1,24,1],[23,2,24,2],[23,3,24,3],[25,1,26,1],[25,2,26,2],[25,3,26,3],[27,1,28,1],[27,2,28,2],[27,3,28,3],[29,1,30,1],[29,2,30,2],[29,3,30,3]]}
[]
[null,"Catégorie C\nGrade C3\nAncienne Echelle 6"]
[]
[]
[]
[null,"Adjoint Administratifs Principal 1ère Classe\nOuvrier Principal 1ère Classe\nAgent de Maîtrise Principal\nAide Medico-Psychologique Principal\nAide Soignant Principal\nAuxilliaire de Puériculture Principal\nConducteur Ambulancier Principal\nMaître Ouvrier Principal\nP A R M : Permanencier Auxilliaire de Régulation Médicale  1ère Classe (extinction)\nDéssinateur Principal (extinction)"]
[]
[]
[]
[null,"Echelon","Durée\n(en mois)","Indice\nMajoré"]
[]
[null,1,12,350]
[]
[null,2,12,358]
[]
[null,3,24,368]
[]
[null,4,24,380]
[]
[null,5,24,393]
[]
[null,6,24,403]
[]
[null,7,36,415]
[]
[null,8,36,430]
[]
[null,9,36,450]
[]
[null,10,null,466]

{"sheet":"IMP GRILLE C3","index":43,"n_rows":6,"n_cols":2,"rows_kept":6,"merged":[[1,1,1,9],[3,1,3,9],[5,1,5,9]]}
[]
[null,"1) Imprimez autant de feuilles que d'agents concernés."]
[]
[null,"2) Pliez en 3 au niveau du repère, deux petits traits noirs."]
[]
[null,"3) Inserrez ce courrier dans une enveloppe 110 X 220 à fenêtre."]

{"sheet":"C3 Echelon 2","index":44,"n_rows":72,"n_cols":20,"rows_kept":72,"merged":[[1,6,1,16],[2,6,2,11],[2,12,2,16],[8,12,9,14],[12,12,12,14],[15,0,15,14],[17,0,17,16],[19,0,19,3],[21,0,21,14],[23,0,23,4],[23,5,23,8],[23,10,23,12],[23,13,23,16],[26,5,27,17],[32,0,32,4],[32,5,32,6],[32,7,32,10],[32,11,32,12],[32,17,35,19],[35,0,35,2],[35,8,35,9],[36,17,43,19],[39,0,39,7],[39,8,39,9],[39,10,39,13],[42,0,42,12],[44,17,45,17],[44,18,45,18],[44,19,45,19],[45,2,45,3],[45,5,45,7],[46,17,47,17],[46,18,47,18],[46,19,47,19],[48,0,48,5],[48,6,48,8],[48,17,49,17],[48,18,49,18],[48,19,49,19],[50,17,51,17],[50,18,51,18],[50,19,51,19],[52,17,53,17],[52,18,53,18],[52,19,53,19],[53,0,53,7],[53,8,53,9],[53,10,53,14],[54,0,54,11],[54,12,54,13],[54,17,55,17],[54,18,55,18],[54,19,55,19],[56,17,57,17],[56,18,57,18],[56,19,57,19],[57,0,57,16],[58,17,59,17],[58,18,59,18],[58,19,59,19],[59,0,59,16],[60,17,61,17],[60,18,61,18],[60,19,61,19],[62,0,62,16],[62,17,63,17],[62,18,63,18],[62,19,63,19],[64,0,64,3],[64,17,65,17],[64,18,65,18],[64,19,65,19],[69,1,69,4],[70,0,70,1],[70,2,70,7],[71,0,71,4],[71,5,71,12]]}
[{"$nulls":14},"("]
[{"$nulls":6},"Commission Administrative"]
[{"$nulls":6},"Paritaire",{"$nulls":5},{"$f":"RECAPITULATIF!D7","v":"Locale"}]
[]
[]
[]
[]
[]
[{"$nulls":12},"Mme, Mr :"]
[]
[{"$nulls":12},"Grade :"]
[]
[{"$nulls":12},"Service :"]
[]
[]
["Votre ou vos représentant-e-s du personnel"]
[]
[{"$f":"RECAPITULATIF!B5","v":"Véronique ERUSSARD, Servanne CORNEE, Sébastien BAYAUT"}]
[]
["SUD Santé Sociaux",{"$nulls":3},{"$f":"RECAPITULATIF!D21","v":35},"du:"]
[]
[{"$f":"RECAPITULATIF!B2","v":"Centre Hospitalier de Saint Malo"}]
[]
["siégeant auprès de la CAP",{"$nulls":4},{"$f":"RECAPITULATIF!D7","v":"Locale"},{"$nulls":3},"du :",{"$f":"RECAPITULATIF!D11","v":"2019-04-16"},null,null,"vous informe de votre :"]
[]
[]
[{"$nulls":5},"AVANCEMENT D’ECHELON"]
[]
[]
[]
[]
[]
["Vous passez à l’échelon :",{"$nulls":4},{"$f":"'GRILLE C3'!B14","v":2},null,"Indice Majoré :",{"$nulls":3},{"$f":"'GRILLE C3'!D14","v":358},{"$nulls":5},{"$f":"'GRILLE C3'!B2","v":"Catégorie C\nGrade C3\nAncienne Echelle 6"}]
[]
[]
["Date d'effet :",{"$nulls":4},"/",null,"/",{"$f":"RECAPITULATIF!D9","v":2019}]
[{"$nulls":17},{"$f":"'GRILLE C3'!B6","v":"Adjoint Administratifs Principal 1ère Classe\nOuvrier Principal 1ère Classe\nAgent de Maîtrise Principal\nAide Medico-Psychologique Principal\nAide Soignant Principal\nAuxilliaire de Puériculture Principal\nConducteur Ambulancier Principal\nMaître Ouvrier Principal\nP A R M : Permanencier Auxilliaire de Régulation Médicale  1ère Classe (extinction)\nDéssinateur Principal (extinction)"}]
[]
[]
["Ce qui représente un gain mensuel de :",{"$nulls":7},{"$f":"'GRILLE C3'!D14-'GRILLE C3'!D12","v":8},null,"points d'indice."]
[]
[]
["Pour information, la valeur brute du point d'indice"]
[]
[{"$nulls":17},{"$f":"'GRILLE C3'!B10","v":"Echelon"},{"$f":"'GRILLE C3'!C10","v":"Durée\n(en mois)"},{"$f":"'GRILLE C3'!D10","v":"Indice\nMajoré"}]
["est de",null,{"$f":"RECAPITULATIF!D13","v":{"v":4.686,"d":"4.686 €"}},null,"au",{"$f":"RECAPITULATIF!D15","v":"2019-01-01"}]
[{"$nulls":17},{"$f":"'GRILLE C3'!B12","v":1},{"$f":"'GRILLE C3'!C12","v":12},{"$f":"'GRILLE C3'!D12","v":350}]
[]
["Soit un gain net mensuel de :",{"$nulls":5},{"$f":"I40*C46*0.8315","v":{"v":31.171272000000002,"d":"31.17 €"}},{"$nulls":10},{"$f":"'GRILLE C3'!B14","v":2},{"$f":"'GRILLE C3'!C14","v":12},{"$f":"'GRILLE C3'!D14","v":358}]
[]
[{"$nulls":17},{"$f":"'GRILLE C3'!B16","v":3},{"$f":"'GRILLE C3'!C16","v":24},{"$f":"'GRILLE C3'!D16","v":368}]
[]
[{"$nulls":17},{"$f":"'GRILLE C3'!B18","v":4},{"$f":"'GRILLE C3'!C18","v":24},{"$f":"'GRILLE C3'!D18","v":380}]
["Vos représentant-e-s SUD Santé Sociaux ",{"$nulls":7},{"$f":"RECAPITULATIF!D21","v":35},null,"sont à votre disposition"]
["pour tous renseignements complémentaires au poste :",{"$nulls":11},{"$f":"RECAPITULATIF!D17","v":2886},{"$nulls":4},{"$f":"'GRILLE C3'!B20","v":5},{"$f":"'GRILLE C3'!C20","v":24},{"$f":"'GRILLE C3'!D20","v":393}]
[]
[{"$nulls":17},{"$f":"'GRILLE C3'!B22","v":6},{"$f":"'GRILLE C3'!C22","v":24},{"$f":"'GRILLE C3'!D22","v":403}]
[]
[{"$nulls":17},{"$f":"'GRILLE C3'!B24","v":7},{"$f":"'GRILLE C3'!C24","v":36},{"$f":"'GRILLE C3'!D24","v":415}]
["Recevez toutes nos salutations."]
[{"$nulls":17},{"$f":"'GRILLE C3'!B26","v":8},{"$f":"'GRILLE C3'!C26","v":36},{"$f":"'GRILLE C3'!D26","v":430}]
[]
[{"$f":"RECAPITULATIF!B5","v":"Véronique ERUSSARD, Servanne CORNEE, Sébastien BAYAUT"},{"$nulls":16},{"$f":"'GRILLE C3'!B28","v":9},{"$f":"'GRILLE C3'!C28","v":36},{"$f":"'GRILLE C3'!D28","v":450}]
[]
["SUD Santé Sociaux",{"$nulls":3},{"$f":"RECAPITULATIF!D21","v":35},{"$nulls":12},{"$f":"'GRILLE C3'!B30","v":10},{"$f":"'GRILLE C3'!C30","v":0},{"$f":"'GRILLE C3'!D30","v":466}]
[]
[]
[]
[]
["Tél :",{"$f":"RECAPITULATIF!D19","v":{"v":299212886,"d":"02 99 21 28 86"}}]
["Mél :",null,{"$f":"RECAPITULATIF!C23","v":"sudsante@ch-stmalo.fr"}]
[{"$f":"RECAPITULATIF!B25","v":"Site Départemental Sud"},{"$nulls":4},{"$f":"RECAPITULATIF!D25","v":"http://www.sudsantesociaux35.org"}]

{"sheet":"C3 Echelon 3","index":45,"n_rows":72,"n_cols":20,"rows_kept":72,"merged":[[1,6,1,16],[2,6,2,11],[2,12,2,16],[8,12,9,14],[12,12,12,14],[15,0,15,14],[17,0,17,16],[19,0,19,3],[21,0,21,14],[23,0,23,4],[23,5,23,8],[23,10,23,12],[23,13,23,16],[26,5,27,17],[32,0,32,4],[32,5,32,6],[32,7,32,10],[32,11,32,12],[32,17,35,19],[35,0,35,2],[35,8,35,9],[36,17,43,19],[39,0,39,7],[39,8,39,9],[39,10,39,13],[42,0,42,12],[44,17,45,17],[44,18,45,18],[44,19,45,19],[45,2,45,3],[45,5,45,7],[46,17,47,17],[46,18,47,18],[46,19,47,19],[48,0,48,5],[48,6,48,8],[48,17,49,17],[48,18,49,18],[48,19,49,19],[50,17,51,17],[50,18,51,18],[50,19,51,19],[52,17,53,17],[52,18,53,18],[52,19,53,19],[53,0,53,7],[53,8,53,9],[53,10,53,14],[54,0,54,11],[54,12,54,13],[54,17,55,17],[54,18,55,18],[54,19,55,19],[56,17,57,17],[56,18,57,18],[56,19,57,19],[57,0,57,16],[58,17,59,17],[58,18,59,18],[58,19,59,19],[59,0,59,16],[60,17,61,17],[60,18,61,18],[60,19,61,19],[62,0,62,16],[62,17,63,17],[62,18,63,18],[62,19,63,19],[64,0,64,3],[64,17,65,17],[64,18,65,18],[64,19,65,19],[69,1,69,4],[70,0,70,1],[70,2,70,7],[71,0,71,4],[71,5,71,12]]}
[]
[{"$nulls":6},"Commission Administrative"]
[{"$nulls":6},"Paritaire",{"$nulls":5},{"$f":"RECAPITULATIF!D7","v":"Locale"}]
[]
[]
[]
[]
[]
[{"$nulls":12},"Mme, Mr :"]
[]
[{"$nulls":12},"Grade :"]
[]
[{"$nulls":12},"Service :"]
[]
[]
["Votre ou vos représentant-e-s du personnel"]
[]
[{"$f":"RECAPITULATIF!B5","v":"Véronique ERUSSARD, Servanne CORNEE, Sébastien BAYAUT"}]
[]
["SUD Santé Sociaux",{"$nulls":3},{"$f":"RECAPITULATIF!D21","v":35},"du:"]
[]
[{"$f":"RECAPITULATIF!B2","v":"Centre Hospitalier de Saint Malo"}]
[]
["siégeant auprès de la CAP",{"$nulls":4},{"$f":"RECAPITULATIF!D7","v":"Locale"},{"$nulls":3},"du :",{"$f":"RECAPITULATIF!D11","v":"2019-04-16"},null,null,"vous informe de votre :"]
[]
[]
[{"$nulls":5},"AVANCEMENT D’ECHELON"]
[]
[]
[]
[]
[]
["Vous passez à l’échelon :",{"$nulls":4},{"$f":"'GRILLE C3'!B16","v":3},null,"Indice Majoré :",{"$nulls":3},{"$f":"'GRILLE C3'!D16","v":368},{"$nulls":5},{"$f":"'GRILLE C3'!B2","v":"Catégorie C\nGrade C3\nAncienne Echelle 6"}]
[]
[]
["Date d'effet :",{"$nulls":4},"/",null,"/",{"$f":"RECAPITULATIF!D9","v":2019}]
[{"$nulls":17},{"$f":"'GRILLE C3'!B6","v":"Adjoint Administratifs Principal 1ère Classe\nOuvrier Principal 1ère Classe\nAgent de Maîtrise Principal\nAide Medico-Psychologique Principal\nAide Soignant Principal\nAuxilliaire de Puériculture Principal\nConducteur Ambulancier Principal\nMaître Ouvrier Principal\nP A R M : Permanencier Auxilliaire de Régulation Médicale  1ère Classe (extinction)\nDéssinateur Principal (extinction)"}]
[]
[]
["Ce qui représente un gain mensuel de :",{"$nulls":7},{"$f":"'GRILLE C3'!D16-'GRILLE C3'!D14","v":10},null,"points d'indice."]
[]
[]
["Pour information, la valeur brute du point d'indice"]
[]
[{"$nulls":17},{"$f":"'GRILLE C3'!B10","v":"Echelon"},{"$f":"'GRILLE C3'!C10","v":"Durée\n(en mois)"},{"$f":"'GRILLE C3'!D10","v":"Indice\nMajoré"}]
["est de",null,{"$f":"RECAPITULATIF!D13","v":{"v":4.686,"d":"4.686 €"}},null,"au",{"$f":"RECAPITULATIF!D15","v":"2019-01-01"}]
[{"$nulls":17},{"$f":"'GRILLE C3'!B12","v":1},{"$f":"'GRILLE C3'!C12","v":12},{"$f":"'GRILLE C3'!D12","v":350}]
[]
["Soit un gain net mensuel de :",{"$nulls":5},{"$f":"I40*C46*0.8315","v":{"v":38.96409,"d":"38.96 €"}},{"$nulls":10},{"$f":"'GRILLE C3'!B14","v":2},{"$f":"'GRILLE C3'!C14","v":12},{"$f":"'GRILLE C3'!D14","v":358}]
[]
[{"$nulls":17},{"$f":"'GRILLE C3'!B16","v":3},{"$f":"'GRILLE C3'!C16","v":24},{"$f":"'GRILLE C3'!D16","v":368}]
[]
[{"$nulls":17},{"$f":"'GRILLE C3'!B18","v":4},{"$f":"'GRILLE C3'!C18","v":24},{"$f":"'GRILLE C3'!D18","v":380}]
["Vos représentant-e-s SUD Santé Sociaux ",{"$nulls":7},{"$f":"RECAPITULATIF!D21","v":35},null,"sont à votre disposition"]
["pour tous renseignements complémentaires au poste :",{"$nulls":11},{"$f":"RECAPITULATIF!D17","v":2886},{"$nulls":4},{"$f":"'GRILLE C3'!B20","v":5},{"$f":"'GRILLE C3'!C20","v":24},{"$f":"'GRILLE C3'!D20","v":393}]
[]
[{"$nulls":17},{"$f":"'GRILLE C3'!B22","v":6},{"$f":"'GRILLE C3'!C22","v":24},{"$f":"'GRILLE C3'!D22","v":403}]
[]
[{"$nulls":17},{"$f":"'GRILLE C3'!B24","v":7},{"$f":"'GRILLE C3'!C24","v":36},{"$f":"'GRILLE C3'!D24","v":415}]
["Recevez toutes nos salutations."]
[{"$nulls":17},{"$f":"'GRILLE C3'!B26","v":8},{"$f":"'GRILLE C3'!C26","v":36},{"$f":"'GRILLE C3'!D26","v":430}]
[]
[{"$f":"RECAPITULATIF!B5","v":"Véronique ERUSSARD, Servanne CORNEE, Sébastien BAYAUT"},{"$nulls":16},{"$f":"'GRILLE C3'!B28","v":9},{"$f":"'GRILLE C3'!C28","v":36},{"$f":"'GRILLE C3'!D28","v":450}]
[]
["SUD Santé Sociaux",{"$nulls":3},{"$f":"RECAPITULATIF!D21","v":35},{"$nulls":12},{"$f":"'GRILLE C3'!B30","v":10},{"$f":"'GRILLE C3'!C30","v":0},{"$f":"'GRILLE C3'!D30","v":466}]
[]
[]
[]
[]
["Tél :",{"$f":"RECAPITULATIF!D19","v":{"v":299212886,"d":"02 99 21 28 86"}}]
["Mél :",null,{"$f":"RECAPITULATIF!C23","v":"sudsante@ch-stmalo.fr"}]
[{"$f":"RECAPITULATIF!B25","v":"Site Départemental Sud"},{"$nulls":4},{"$f":"RECAPITULATIF!D25","v":"http://www.sudsantesociaux35.org"}]

{"sheet":"C3 Echelon 4","index":46,"n_rows":72,"n_cols":20,"rows_kept":72,"merged":[[1,6,1,16],[2,6,2,11],[2,12,2,16],[8,12,9,14],[12,12,12,14],[15,0,15,14],[17,0,17,16],[19,0,19,3],[21,0,21,14],[23,0,23,4],[23,5,23,8],[23,10,23,12],[23,13,23,16],[26,5,27,17],[32,0,32,4],[32,5,32,6],[32,7,32,10],[32,11,32,12],[32,17,35,19],[35,0,35,2],[35,8,35,9],[36,17,43,19],[39,0,39,7],[39,8,39,9],[39,10,39,13],[42,0,42,12],[44,17,45,17],[44,18,45,18],[44,19,45,19],[45,2,45,3],[45,5,45,7],[46,17,47,17],[46,18,47,18],[46,19,47,19],[48,0,48,5],[48,6,48,8],[48,17,49,17],[48,18,49,18],[48,19,49,19],[50,17,51,17],[50,18,51,18],[50,19,51,19],[52,17,53,17],[52,18,53,18],[52,19,53,19],[53,0,53,7],[53,8,53,9],[53,10,53,14],[54,0,54,11],[54,12,54,13],[54,17,55,17],[54,18,55,18],[54,19,55,19],[56,17,57,17],[56,18,57,18],[56,19,57,19],[57,0,57,16],[58,17,59,17],[58,18,59,18],[58,19,59,19],[59,0,59,16],[60,17,61,17],[60,18,61,18],[60,19,61,19],[62,0,62,16],[62,17,63,17],[62,18,63,18],[62,19,63,19],[64,0,64,3],[64,17,65,17],[64,18,65,18],[64,19,65,19],[69,1,69,4],[70,0,70,1],[70,2,70,7],[71,0,71,4],[71,5,71,12]]}
[]
[{"$nulls":6},"Commission Administrative"]
[{"$nulls":6},"Paritaire",{"$nulls":5},{"$f":"RECAPITULATIF!D7","v":"Locale"}]
[]
[]
[]
[]
[]
[{"$nulls":12},"Mme, Mr :"]
[]
[{"$nulls":12},"Grade :"]
[]
[{"$nulls":12},"Service :"]
[]
[]
["Votre ou vos représentant-e-s du personnel"]
[]
[{"$f":"RECAPITULATIF!B5","v":"Véronique ERUSSARD, Servanne CORNEE, Sébastien BAYAUT"}]
[]
["SUD Santé Sociaux",{"$nulls":3},{"$f":"RECAPITULATIF!D21","v":35},"du:"]
[]
[{"$f":"RECAPITULATIF!B2","v":"Centre Hospitalier de Saint Malo"}]
[]
["siégeant auprès de la CAP",{"$nulls":4},{"$f":"RECAPITULATIF!D7","v":"Locale"},{"$nulls":3},"du :",{"$f":"RECAPITULATIF!D11","v":"2019-04-16"},null,null,"vous informe de votre :"]
[]
[]
[{"$nulls":5},"AVANCEMENT D’ECHELON"]
[]
[]
[]
[]
[]
["Vous passez à l’échelon :",{"$nulls":4},{"$f":"'GRILLE C3'!B18","v":4},null,"Indice Majoré :",{"$nulls":3},{"$f":"'GRILLE C3'!D18","v":380},{"$nulls":5},{"$f":"'GRILLE C3'!B2","v":"Catégorie C\nGrade C3\nAncienne Echelle 6"}]
[]
[]
["Date d'effet :",{"$nulls":4},"/",null,"/",{"$f":"RECAPITULATIF!D9","v":2019}]
[{"$nulls":17},{"$f":"'GRILLE C3'!B6","v":"Adjoint Administratifs Principal 1ère Classe\nOuvrier Principal 1ère Classe\nAgent de Maîtrise Principal\nAide Medico-Psychologique Principal\nAide Soignant Principal\nAuxilliaire de Puériculture Principal\nConducteur Ambulancier Principal\nMaître Ouvrier Principal\nP A R M : Permanencier Auxilliaire de Régulation Médicale  1ère Classe (extinction)\nDéssinateur Principal (extinction)"}]
[]
[]
["Ce qui représente un gain mensuel de :",{"$nulls":7},{"$f":"'GRILLE C3'!D18-'GRILLE C3'!D16","v":12},null,"points d'indice."]
[]
[]
["Pour information, la valeur brute du point d'indice"]
[]
[{"$nulls":17},{"$f":"'GRILLE C3'!B10","v":"Echelon"},{"$f":"'GRILLE C3'!C10","v":"Durée\n(en mois)"},{"$f":"'GRILLE C3'!D10","v":"Indice\nMajoré"}]
["est de",null,{"$f":"RECAPITULATIF!D13","v":{"v":4.686,"d":"4.686 €"}},null,"au",{"$f":"RECAPITULATIF!D15","v":"2019-01-01"}]
[{"$nulls":17},{"$f":"'GRILLE C3'!B12","v":1},{"$f":"'GRILLE C3'!C12","v":12},{"$f":"'GRILLE C3'!D12","v":350}]
[]
["Soit un gain net mensuel de :",{"$nulls":5},{"$f":"I40*C46*0.8315","v":{"v":46.756908,"d":"46.76 €"}},{"$nulls":10},{"$f":"'GRILLE C3'!B14","v":2},{"$f":"'GRILLE C3'!C14","v":12},{"$f":"'GRILLE C3'!D14","v":358}]
[]
[{"$nulls":17},{"$f":"'GRILLE C3'!B16","v":3},{"$f":"'GRILLE C3'!C16","v":24},{"$f":"'GRILLE C3'!D16","v":368}]
[]
[{"$nulls":17},{"$f":"'GRILLE C3'!B18","v":4},{"$f":"'GRILLE C3'!C18","v":24},{"$f":"'GRILLE C3'!D18","v":380}]
["Vos représentant-e-s SUD Santé Sociaux ",{"$nulls":7},{"$f":"RECAPITULATIF!D21","v":35},null,"sont à votre disposition"]
["pour tous renseignements complémentaires au poste :",{"$nulls":11},{"$f":"RECAPITULATIF!D17","v":2886},{"$nulls":4},{"$f":"'GRILLE C3'!B20","v":5},{"$f":"'GRILLE C3'!C20","v":24},{"$f":"'GRILLE C3'!D20","v":393}]
[]
[{"$nulls":17},{"$f":"'GRILLE C3'!B22","v":6},{"$f":"'GRILLE C3'!C22","v":24},{"$f":"'GRILLE C3'!D22","v":403}]
[]
[{"$nulls":17},{"$f":"'GRILLE C3'!B24","v":7},{"$f":"'GRILLE C3'!C24","v":36},{"$f":"'GRILLE C3'!D24","v":415}]
["Recevez toutes nos salutations."]
[{"$nulls":17},{"$f":"'GRILLE C3'!B26","v":8},{"$f":"'GRILLE C3'!C26","v":36},{"$f":"'GRILLE C3'!D26","v":430}]
[]
[{"$f":"RECAPITULATIF!B5","v":"Véronique ERUSSARD, Servanne CORNEE, Sébastien BAYAUT"},{"$nulls":16},{"$f":"'GRILLE C3'!B28","v":9},{"$f":"'GRILLE C3'!C28","v":36},{"$f":"'GRILLE C3'!D28","v":450}]
[]
["SUD Santé Sociaux",{"$nulls":3},{"$f":"RECAPITULATIF!D21","v":35},{"$nulls":12},{"$f":"'GRILLE C3'!B30","v":10},{"$f":"'GRILLE C3'!C30","v":0},{"$f":"'GRILLE C3'!D30","v":466}]
[]
[]
[]
[]
["Tél :",{"$f":"RECAPITULATIF!D19","v":{"v":299212886,"d":"02 99 21 28 86"}}]
["Mél :",null,{"$f":"RECAPITULATIF!C23","v":"sudsante@ch-stmalo.fr"}]
[{"$f":"RECAPITULATIF!B25","v":"Site Départemental Sud"},{"$nulls":4},{"$f":"RECAPITULATIF!D25","v":"http://www.sudsantesociaux35.org"}]

{"sheet":"C3 Echelon 5","index":47,"n_rows":72,"n_cols":20,"rows_kept":72,"merged":[[1,6,1,16],[2,6,2,11],[2,12,2,16],[8,12,9,14],[12,12,12,14],[15,0,15,14],[17,0,17,16],[19,0,19,3],[21,0,21,14],[23,0,23,4],[23,5,23,8],[23,10,23,12],[23,13,23,16],[26,5,27,17],[32,0,32,4],[32,5,32,6],[32,7,32,10],[32,11,32,12],[32,17,35,19],[35,0,35,2],[35,8,35,9],[36,17,43,19],[39,0,39,7],[39,8,39,9],[39,10,39,13],[42,0,42,12],[44,17,45,17],[44,18,45,18],[44,19,45,19],[45,2,45,3],[45,5,45,7],[46,17,47,17],[46,18,47,18],[46,19,47,19],[48,0,48,5],[48,6,48,8],[48,17,49,17],[48,18,49,18],[48,19,49,19],[50,17,51,17],[50,18,51,18],[50,19,51,19],[52,17,53,17],[52,18,53,18],[52,19,53,19],[53,0,53,7],[53,8,53,9],[53,10,53,14],[54,0,54,11],[54,12,54,13],[54,17,55,17],[54,18,55,18],[54,19,55,19],[56,17,57,17],[56,18,57,18],[56,19,57,19],[57,0,57,16],[58,17,59,17],[58,18,59,18],[58,19,59,19],[59,0,59,16],[60,17,61,17],[60,18,61,18],[60,19,61,19],[62,0,62,16],[62,17,63,17],[62,18,63,18],[62,19,63,19],[64,0,64,3],[64,17,65,17],[64,18,65,18],[64,19,65,19],[69,1,69,4],[70,0,70,1],[70,2,70,7],[71,0,71,4],[71,5,71,12]]}
[]
[{"$nulls":6},"Commission Administrative"]
[{"$nulls":6},"Paritaire",{"$nulls":5},{"$f":"RECAPITULATIF!D7","v":"Locale"}]
[]
[]
[]
[]
[]
[{"$nulls":12},"Mme, Mr :"]
[]
[{"$nulls":12},"Grade :"]
[]
[{"$nulls":12},"Service :"]
[]
[]
["Votre ou vos représentant-e-s du personnel"]
[]
[{"$f":"RECAPITULATIF!B5","v":"Véronique ERUSSARD, Servanne CORNEE, Sébastien BAYAUT"}]
[]
["SUD Santé Sociaux",{"$nulls":3},{"$f":"RECAPITULATIF!D21","v":35},"du:"]
[]
[{"$f":"RECAPITULATIF!B2","v":"Centre Hospitalier de Saint Malo"}]
[]
["siégeant auprès de la CAP",{"$nulls":4},{"$f":"RECAPITULATIF!D7","v":"Locale"},{"$nulls":3},"du :",{"$f":"RECAPITULATIF!D11","v":"2019-04-16"},null,null,"vous informe de votre :"]
[]
[]
[{"$nulls":5},"AVANCEMENT D’ECHELON"]
[]
[]
[]
[]
[]
["Vous passez à l’échelon :",{"$nulls":4},{"$f":"'GRILLE C3'!B20","v":5},null,"Indice Majoré :",{"$nulls":3},{"$f":"'GRILLE C3'!D20","v":393},{"$nulls":5},{"$f":"'GRILLE C3'!B2","v":"Catégorie C\nGrade C3\nAncienne Echelle 6"}]
[]
[]
["Date d'effet :",{"$nulls":4},"/",null,"/",{"$f":"RECAPITULATIF!D9","v":2019}]
[{"$nulls":17},{"$f":"'GRILLE C3'!B6","v":"Adjoint Administratifs Principal 1ère Classe\nOuvrier Principal 1ère Classe\nAgent de Maîtrise Principal\nAide Medico-Psychologique Principal\nAide Soignant Principal\nAuxilliaire de Puériculture Principal\nConducteur Ambulancier Principal\nMaître Ouvrier Principal\nP A R M : Permanencier Auxilliaire de Régulation Médicale  1ère Classe (extinction)\nDéssinateur Principal (extinction)"}]
[]
[]
["Ce qui représente un gain mensuel de :",{"$nulls":7},{"$f":"'GRILLE C3'!D20-'GRILLE C3'!D18","v":13},null,"points d'indice."]
[]
[]
["Pour information, la valeur brute du point d'indice"]
[]
[{"$nulls":17},{"$f":"'GRILLE C3'!B10","v":"Echelon"},{"$f":"'GRILLE C3'!C10","v":"Durée\n(en mois)"},{"$f":"'GRILLE C3'!D10","v":"Indice\nMajoré"}]
["est de",null,{"$f":"RECAPITULATIF!D13","v":{"v":4.686,"d":"4.686 €"}},null,"au",{"$f":"RECAPITULATIF!D15","v":"2019-01-01"}]
[{"$nulls":17},{"$f":"'GRILLE C3'!B12","v":1},{"$f":"'GRILLE C3'!C12","v":12},{"$f":"'GRILLE C3'!D12","v":350}]
[]
["Soit un gain net mensuel de :",{"$nulls":5},{"$f":"I40*C46*0.8315","v":{"v":50.653317,"d":"50.65 €"}},{"$nulls":10},{"$f":"'GRILLE C3'!B14","v":2},{"$f":"'GRILLE C3'!C14","v":12},{"$f":"'GRILLE C3'!D14","v":358}]
[]
[{"$nulls":17},{"$f":"'GRILLE C3'!B16","v":3},{"$f":"'GRILLE C3'!C16","v":24},{"$f":"'GRILLE C3'!D16","v":368}]
[]
[{"$nulls":17},{"$f":"'GRILLE C3'!B18","v":4},{"$f":"'GRILLE C3'!C18","v":24},{"$f":"'GRILLE C3'!D18","v":380}]
["Vos représentant-e-s SUD Santé Sociaux ",{"$nulls":7},{"$f":"RECAPITULATIF!D21","v":35},null,"sont à votre disposition"]
["pour tous renseignements complémentaires au poste :",{"$nulls":11},{"$f":"RECAPITULATIF!D17","v":2886},{"$nulls":4},{"$f":"'GRILLE C3'!B20","v":5},{"$f":"'GRILLE C3'!C20","v":24},{"$f":"'GRILLE C3'!D20","v":393}]
[]
[{"$nulls":17},{"$f":"'GRILLE C3'!B22","v":6},{"$f":"'GRILLE C3'!C22","v":24},{"$f":"'GRILLE C3'!D22","v":403}]
[]
[{"$nulls":17},{"$f":"'GRILLE C3'!B24","v":7},{"$f":"'GRILLE C3'!C24","v":36},{"$f":"'GRILLE C3'!D24","v":415}]
["Recevez toutes nos salutations."]
[{"$nulls":17},{"$f":"'GRILLE C3'!B26","v":8},{"$f":"'GRILLE C3'!C26","v":36},{"$f":"'GRILLE C3'!D26","v":430}]
[]
[{"$f":"RECAPITULATIF!B5","v":"Véronique ERUSSARD, Servanne CORNEE, Sébastien BAYAUT"},{"$nulls":16},{"$f":"'GRILLE C3'!B28","v":9},{"$f":"'GRILLE C3'!C28","v":36},{"$f":"'GRILLE C3'!D28","v":450}]
[]
["SUD Santé Sociaux",{"$nulls":3},{"$f":"RECAPITULATIF!D21","v":35},{"$nulls":12},{"$f":"'GRILLE C3'!B30","v":10},{"$f":"'GRILLE C3'!C30","v":0},{"$f":"'GRILLE C3'!D30","v":466}]
[]
[]
[]
[]
["Tél :",{"$f":"RECAPITULATIF!D19","v":{"v":299212886,"d":"02 99 21 28 86"}}]
["Mél :",null,{"$f":"RECAPITULATIF!C23","v":"sudsante@ch-stmalo.fr"}]
[{"$f":"RECAPITULATIF!B25","v":"Site Départemental Sud"},{"$nulls":4},{"$f":"RECAPITULATIF!D25","v":"http://www.sudsantesociaux35.org"}]

{"sheet":"C3 Echelon 6","index":48,"n_rows":72,"n_cols":20,"rows_kept":72,"merged":[[1,6,1,16],[2,6,2,11],[2,12,2,16],[8,12,9,14],[12,12,12,14],[15,0,15,14],[17,0,17,16],[19,0,19,3],[21,0,21,14],[23,0,23,4],[23,5,23,8],[23,10,23,12],[23,13,23,16],[26,5,27,17],[32,0,32,4],[32,5,32,6],[32,7,32,10],[32,11,32,12],[32,17,35,19],[35,0,35,2],[35,8,35,9],[36,17,43,19],[39,0,39,7],[39,8,39,9],[39,10,39,13],[42,0,42,12],[44,17,45,17],[44,18,45,18],[44,19,45,19],[45,2,45,3],[45,5,45,7],[46,17,47,17],[46,18,47,18],[46,19,47,19],[48,0,48,5],[48,6,48,8],[48,17,49,17],[48,18,49,18],[48,19,49,19],[50,17,51,17],[50,18,51,18],[50,19,51,19],[52,17,53,17],[52,18,53,18],[52,19,53,19],[53,0,53,7],[53,8,53,9],[53,10,53,14],[54,0,54,11],[54,12,54,13],[54,17,55,17],[54,18,55,18],[54,19,55,19],[56,17,57,17],[56,18,57,18],[56,19,57,19],[57,0,57,16],[58,17,59,17],[58,18,59,18],[58,19,59,19],[59,0,59,16],[60,17,61,17],[60,18,61,18],[60,19,61,19],[62,0,62,16],[62,17,63,17],[62,18,63,18],[62,19,63,19],[64,0,64,3],[64,17,65,17],[64,18,65,18],[64,19,65,19],[69,1,69,4],[70,0,70,1],[70,2,70,7],[71,0,71,4],[71,5,71,12]]}
[]
[{"$nulls":6},"Commission Administrative"]
[{"$nulls":6},"Paritaire",{"$nulls":5},{"$f":"RECAPITULATIF!D7","v":"Locale"}]
[]
[]
[]
[]
[]
[{"$nulls":12},"Mme, Mr :"]
[]
[{"$nulls":12},"Grade :"]
[]
[{"$nulls":12},"Service :"]
[]
[]
["Votre ou vos représentant-e-s du personnel"]
[]
[{"$f":"RECAPITULATIF!B5","v":"Véronique ERUSSARD, Servanne CORNEE, Sébastien BAYAUT"}]
[]
["SUD Santé Sociaux",{"$nulls":3},{"$f":"RECAPITULATIF!D21","v":35},"du:"]
[]
[{"$f":"RECAPITULATIF!B2","v":"Centre Hospitalier de Saint Malo"}]
[]
["siégeant auprès de la CAP",{"$nulls":4},{"$f":"RECAPITULATIF!D7","v":"Locale"},{"$nulls":3},"du :",{"$f":"RECAPITULATIF!D11","v":"2019-04-16"},null,null,"vous informe de votre :"]
[]
[]
[{"$nulls":5},"AVANCEMENT D’ECHELON"]
[]
[]
[]
[]
[]
["Vous passez à l’échelon :",{"$nulls":4},{"$f":"'GRILLE C3'!B22","v":6},null,"Indice Majoré :",{"$nulls":3},{"$f":"'GRILLE C3'!D22","v":403},{"$nulls":5},{"$f":"'GRILLE C3'!B2","v":"Catégorie C\nGrade C3\nAncienne Echelle 6"}]
[]
[]
["Date d'effet :",{"$nulls":4},"/",null,"/",{"$f":"RECAPITULATIF!D9","v":2019}]
[{"$nulls":17},{"$f":"'GRILLE C3'!B6","v":"Adjoint Administratifs Principal 1ère Classe\nOuvrier Principal 1ère Classe\nAgent de Maîtrise Principal\nAide Medico-Psychologique Principal\nAide Soignant Principal\nAuxilliaire de Puériculture Principal\nConducteur Ambulancier Principal\nMaître Ouvrier Principal\nP A R M : Permanencier Auxilliaire de Régulation Médicale  1ère Classe (extinction)\nDéssinateur Principal (extinction)"}]
[]
[]
["Ce qui représente un gain mensuel de :",{"$nulls":7},{"$f":"'GRILLE C3'!D22-'GRILLE C3'!D20","v":10},null,"points d'indice."]
[]
[]
["Pour information, la valeur brute du point d'indice"]
[]
[{"$nulls":17},{"$f":"'GRILLE C3'!B10","v":"Echelon"},{"$f":"'GRILLE C3'!C10","v":"Durée\n(en mois)"},{"$f":"'GRILLE C3'!D10","v":"Indice\nMajoré"}]
["est de",null,{"$f":"RECAPITULATIF!D13","v":{"v":4.686,"d":"4.686 €"}},null,"au",{"$f":"RECAPITULATIF!D15","v":"2019-01-01"}]
[{"$nulls":17},{"$f":"'GRILLE C3'!B12","v":1},{"$f":"'GRILLE C3'!C12","v":12},{"$f":"'GRILLE C3'!D12","v":350}]
[]
["Soit un gain net mensuel de :",{"$nulls":5},{"$f":"I40*C46*0.8315","v":{"v":38.96409,"d":"38.96 €"}},{"$nulls":10},{"$f":"'GRILLE C3'!B14","v":2},{"$f":"'GRILLE C3'!C14","v":12},{"$f":"'GRILLE C3'!D14","v":358}]
[]
[{"$nulls":17},{"$f":"'GRILLE C3'!B16","v":3},{"$f":"'GRILLE C3'!C16","v":24},{"$f":"'GRILLE C3'!D16","v":368}]
[]
[{"$nulls":17},{"$f":"'GRILLE C3'!B18","v":4},{"$f":"'GRILLE C3'!C18","v":24},{"$f":"'GRILLE C3'!D18","v":380}]
["Vos représentant-e-s SUD Santé Sociaux ",{"$nulls":7},{"$f":"RECAPITULATIF!D21","v":35},null,"sont à votre disposition"]
["pour tous renseignements complémentaires au poste :",{"$nulls":11},{"$f":"RECAPITULATIF!D17","v":2886},{"$nulls":4},{"$f":"'GRILLE C3'!B20","v":5},{"$f":"'GRILLE C3'!C20","v":24},{"$f":"'GRILLE C3'!D20","v":393}]
[]
[{"$nulls":17},{"$f":"'GRILLE C3'!B22","v":6},{"$f":"'GRILLE C3'!C22","v":24},{"$f":"'GRILLE C3'!D22","v":403}]
[]
[{"$nulls":17},{"$f":"'GRILLE C3'!B24","v":7},{"$f":"'GRILLE C3'!C24","v":36},{"$f":"'GRILLE C3'!D24","v":415}]
["Recevez toutes nos salutations."]
[{"$nulls":17},{"$f":"'GRILLE C3'!B26","v":8},{"$f":"'GRILLE C3'!C26","v":36},{"$f":"'GRILLE C3'!D26","v":430}]
[]
[{"$f":"RECAPITULATIF!B5","v":"Véronique ERUSSARD, Servanne CORNEE, Sébastien BAYAUT"},{"$nulls":16},{"$f":"'GRILLE C3'!B28","v":9},{"$f":"'GRILLE C3'!C28","v":36},{"$f":"'GRILLE C3'!D28","v":450}]
[]
["SUD Santé Sociaux",{"$nulls":3},{"$f":"RECAPITULATIF!D21","v":35},{"$nulls":12},{"$f":"'GRILLE C3'!B30","v":10},{"$f":"'GRILLE C3'!C30","v":0},{"$f":"'GRILLE C3'!D30","v":466}]
[]
[]
[]
[]
["Tél :",{"$f":"RECAPITULATIF!D19","v":{"v":299212886,"d":"02 99 21 28 86"}}]
["Mél :",null,{"$f":"RECAPITULATIF!C23","v":"sudsante@ch-stmalo.fr"}]
[{"$f":"RECAPITULATIF!B25","v":"Site Départemental Sud"},{"$nulls":4},{"$f":"RECAPITULATIF!D25","v":"http://www.sudsantesociaux35.org"}]

{"sheet":"C3 Echelon 7","index":49,"n_rows":72,"n_cols":20,"rows_kept":72,"merged":[[1,6,1,16],[2,6,2,11],[2,12,2,16],[8,12,9,14],[12,12,12,14],[15,0,15,14],[17,0,17,16],[19,0,19,3],[21,0,21,14],[23,0,23,4],[23,5,23,8],[23,10,23,12],[23,13,23,16],[26,5,27,17],[32,0,32,4],[32,5,32,6],[32,7,32,10],[32,11,32,12],[32,17,35,19],[35,0,35,2],[35,8,35,9],[36,17,43,19],[39,0,39,7],[39,8,39,9],[39,10,39,13],[42,0,42,12],[44,17,45,17],[44,18,45,18],[44,19,45,19],[45,2,45,3],[45,5,45,7],[46,17,47,17],[46,18,47,18],[46,19,47,19],[48,0,48,5],[48,6,48,8],[48,17,49,17],[48,18,49,18],[48,19,49,19],[50,17,51,17],[50,18,51,18],[50,19,51,19],[52,17,53,17],[52,18,53,18],[52,19,53,19],[53,0,53,7],[53,8,53,9],[53,10,53,14],[54,0,54,11],[54,12,54,13],[54,17,55,17],[54,18,55,18],[54,19,55,19],[56,17,57,17],[56,18,57,18],[56,19,57,19],[57,0,57,16],[58,17,59,17],[58,18,59,18],[58,19,59,19],[59,0,59,16],[60,17,61,17],[60,18,61,18],[60,19,61,19],[62,0,62,16],[62,17,63,17],[62,18,63,18],[62,19,63,19],[64,0,64,3],[64,17,65,17],[64,18,65,18],[64,19,65,19],[69,1,69,4],[70,0,70,1],[70,2,70,7],[71,0,71,4],[71,5,71,12]]}
[]
[{"$nulls":6},"Commission Administrative"]
[{"$nulls":6},"Paritaire",{"$nulls":5},{"$f":"RECAPITULATIF!D7","v":"Locale"}]
[]
[]
[]
[]
[]
[{"$nulls":12},"Mme, Mr :"]
[]
[{"$nulls":12},"Grade :"]
[]
[{"$nulls":12},"Service :"]
[]
[]
["Votre ou vos représentant-e-s du personnel"]
[]
[{"$f":"RECAPITULATIF!B5","v":"Véronique ERUSSARD, Servanne CORNEE, Sébastien BAYAUT"}]
[]
["SUD Santé Sociaux",{"$nulls":3},{"$f":"RECAPITULATIF!D21","v":35},"du:"]
[]
[{"$f":"RECAPITULATIF!B2","v":"Centre Hospitalier de Saint Malo"}]
[]
["siégeant auprès de la CAP",{"$nulls":4},{"$f":"RECAPITULATIF!D7","v":"Locale"},{"$nulls":3},"du :",{"$f":"RECAPITULATIF!D11","v":"2019-04-16"},null,null,"vous informe de votre :"]
[]
[]
[{"$nulls":5},"AVANCEMENT D’ECHELON"]
[]
[]
[]
[]
[]
["Vous passez à l’échelon :",{"$nulls":4},{"$f":"'GRILLE C3'!B24","v":7},null,"Indice Majoré :",{"$nulls":3},{"$f":"'GRILLE C3'!D24","v":415},{"$nulls":5},{"$f":"'GRILLE C3'!B2","v":"Catégorie C\nGrade C3\nAncienne Echelle 6"}]
[]
[]
["Date d'effet :",{"$nulls":4},"/",null,"/",{"$f":"RECAPITULATIF!D9","v":2019}]
[{"$nulls":17},{"$f":"'GRILLE C3'!B6","v":"Adjoint Administratifs Principal 1ère Classe\nOuvrier Principal 1ère Classe\nAgent de Maîtrise Principal\nAide Medico-Psychologique Principal\nAide Soignant Principal\nAuxilliaire de Puériculture Principal\nConducteur Ambulancier Principal\nMaître Ouvrier Principal\nP A R M : Permanencier Auxilliaire de Régulation Médicale  1ère Classe (extinction)\nDéssinateur Principal (extinction)"}]
[]
[]
["Ce qui représente un gain mensuel de :",{"$nulls":7},{"$f":"'GRILLE C3'!D24-'GRILLE C3'!D22","v":12},null,"points d'indice."]
[]
[]
["Pour information, la valeur brute du point d'indice"]
[]
[{"$nulls":17},{"$f":"'GRILLE C3'!B10","v":"Echelon"},{"$f":"'GRILLE C3'!C10","v":"Durée\n(en mois)"},{"$f":"'GRILLE C3'!D10","v":"Indice\nMajoré"}]
["est de",null,{"$f":"RECAPITULATIF!D13","v":{"v":4.686,"d":"4.686 €"}},null,"au",{"$f":"RECAPITULATIF!D15","v":"2019-01-01"}]
[{"$nulls":17},{"$f":"'GRILLE C3'!B12","v":1},{"$f":"'GRILLE C3'!C12","v":12},{"$f":"'GRILLE C3'!D12","v":350}]
[]
["Soit un gain net mensuel de :",{"$nulls":5},{"$f":"I40*C46*0.8315","v":{"v":46.756908,"d":"46.76 €"}},{"$nulls":10},{"$f":"'GRILLE C3'!B14","v":2},{"$f":"'GRILLE C3'!C14","v":12},{"$f":"'GRILLE C3'!D14","v":358}]
[]
[{"$nulls":17},{"$f":"'GRILLE C3'!B16","v":3},{"$f":"'GRILLE C3'!C16","v":24},{"$f":"'GRILLE C3'!D16","v":368}]
[]
[{"$nulls":17},{"$f":"'GRILLE C3'!B18","v":4},{"$f":"'GRILLE C3'!C18","v":24},{"$f":"'GRILLE C3'!D18","v":380}]
["Vos représentant-e-s SUD Santé Sociaux ",{"$nulls":7},{"$f":"RECAPITULATIF!D21","v":35},null,"sont à votre disposition"]
["pour tous renseignements complémentaires au poste :",{"$nulls":11},{"$f":"RECAPITULATIF!D17","v":2886},{"$nulls":4},{"$f":"'GRILLE C3'!B20","v":5},{"$f":"'GRILLE C3'!C20","v":24},{"$f":"'GRILLE C3'!D20","v":393}]
[]
[{"$nulls":17},{"$f":"'GRILLE C3'!B22","v":6},{"$f":"'GRILLE C3'!C22","v":24},{"$f":"'GRILLE C3'!D22","v":403}]
[]
[{"$nulls":17},{"$f":"'GRILLE C3'!B24","v":7},{"$f":"'GRILLE C3'!C24","v":36},{"$f":"'GRILLE C3'!D24","v":415}]
["Recevez toutes nos salutations."]
[{"$nulls":17},{"$f":"'GRILLE C3'!B26","v":8},{"$f":"'GRILLE C3'!C26","v":36},{"$f":"'GRILLE C3'!D26","v":430}]
[]
[{"$f":"RECAPITULATIF!B5","v":"Véronique ERUSSARD, Servanne CORNEE, Sébastien BAYAUT"},{"$nulls":16},{"$f":"'GRILLE C3'!B28","v":9},{"$f":"'GRILLE C3'!C28","v":36},{"$f":"'GRILLE C3'!D28","v":450}]
[]
["SUD Santé Sociaux",{"$nulls":3},{"$f":"RECAPITULATIF!D21","v":35},{"$nulls":12},{"$f":"'GRILLE C3'!B30","v":10},{"$f":"'GRILLE C3'!C30","v":0},{"$f":"'GRILLE C3'!D30","v":466}]
[]
[]
[]
[]
["Tél :",{"$f":"RECAPITULATIF!D19","v":{"v":299212886,"d":"02 99 21 28 86"}}]
["Mél :",null,{"$f":"RECAPITULATIF!C23","v":"sudsante@ch-stmalo.fr"}]
[{"$f":"RECAPITULATIF!B25","v":"Site Départemental Sud"},{"$nulls":4},{"$f":"RECAPITULATIF!D25","v":"http://www.sudsantesociaux35.org"}]

{"sheet":"C3 Echelon 8","index":50,"n_rows":72,"n_cols":20,"rows_kept":72,"merged":[[1,6,1,16],[2,6,2,11],[2,12,2,16],[8,12,9,14],[12,12,12,14],[15,0,15,14],[17,0,17,16],[19,0,19,3],[21,0,21,14],[23,0,23,4],[23,5,23,8],[23,10,23,12],[23,13,23,16],[26,5,27,17],[32,0,32,4],[32,5,32,6],[32,7,32,10],[32,11,32,12],[32,17,35,19],[35,0,35,2],[35,8,35,9],[36,17,43,19],[39,0,39,7],[39,8,39,9],[39,10,39,13],[42,0,42,12],[44,17,45,17],[44,18,45,18],[44,19,45,19],[45,2,45,3],[45,5,45,7],[46,17,47,17],[46,18,47,18],[46,19,47,19],[48,0,48,5],[48,6,48,8],[48,17,49,17],[48,18,49,18],[48,19,49,19],[50,17,51,17],[50,18,51,18],[50,19,51,19],[52,17,53,17],[52,18,53,18],[52,19,53,19],[53,0,53,7],[53,8,53,9],[53,10,53,14],[54,0,54,11],[54,12,54,13],[54,17,55,17],[54,18,55,18],[54,19,55,19],[56,17,57,17],[56,18,57,18],[56,19,57,19],[57,0,57,16],[58,17,59,17],[58,18,59,18],[58,19,59,19],[59,0,59,16],[60,17,61,17],[60,18,61,18],[60,19,61,19],[62,0,62,16],[62,17,63,17],[62,18,63,18],[62,19,63,19],[64,0,64,3],[64,17,65,17],[64,18,65,18],[64,19,65,19],[69,1,69,4],[70,0,70,1],[70,2,70,7],[71,0,71,4],[71,5,71,12]]}
[]
[{"$nulls":6},"Commission Administrative"]
[{"$nulls":6},"Paritaire",{"$nulls":5},{"$f":"RECAPITULATIF!D7","v":"Locale"}]
[]
[]
[]
[]
[]
[{"$nulls":12},"Mme, Mr :"]
[]
[{"$nulls":12},"Grade :"]
[]
[{"$nulls":12},"Service :"]
[]
[]
["Votre ou vos représentant-e-s du personnel"]
[]
[{"$f":"RECAPITULATIF!B5","v":"Véronique ERUSSARD, Servanne CORNEE, Sébastien BAYAUT"}]
[]
["SUD Santé Sociaux",{"$nulls":3},{"$f":"RECAPITULATIF!D21","v":35},"du:"]
[]
[{"$f":"RECAPITULATIF!B2","v":"Centre Hospitalier de Saint Malo"}]
[]
["siégeant auprès de la CAP",{"$nulls":4},{"$f":"RECAPITULATIF!D7","v":"Locale"},{"$nulls":3},"du :",{"$f":"RECAPITULATIF!D11","v":"2019-04-16"},null,null,"vous informe de votre :"]
[]
[]
[{"$nulls":5},"AVANCEMENT D’ECHELON"]
[]
[]
[]
[]
[]
["Vous passez à l’échelon :",{"$nulls":4},{"$f":"'GRILLE C3'!B26","v":8},null,"Indice Majoré :",{"$nulls":3},{"$f":"'GRILLE C3'!D26","v":430},{"$nulls":5},{"$f":"'GRILLE C3'!B2","v":"Catégorie C\nGrade C3\nAncienne Echelle 6"}]
[]
[]
["Date d'effet :",{"$nulls":4},"/",null,"/",{"$f":"RECAPITULATIF!D9","v":2019}]
[{"$nulls":17},{"$f":"'GRILLE C3'!B6","v":"Adjoint Administratifs Principal 1ère Classe\nOuvrier Principal 1ère Classe\nAgent de Maîtrise Principal\nAide Medico-Psychologique Principal\nAide Soignant Principal\nAuxilliaire de Puériculture Principal\nConducteur Ambulancier Principal\nMaître Ouvrier Principal\nP A R M : Permanencier Auxilliaire de Régulation Médicale  1ère Classe (extinction)\nDéssinateur Principal (extinction)"}]
[]
[]
["Ce qui représente un gain mensuel de :",{"$nulls":7},{"$f":"'GRILLE C3'!D26-'GRILLE C3'!D24","v":15},null,"points d'indice."]
[]
[]
["Pour information, la valeur brute du point d'indice"]
[]
[{"$nulls":17},{"$f":"'GRILLE C3'!B10","v":"Echelon"},{"$f":"'GRILLE C3'!C10","v":"Durée\n(en mois)"},{"$f":"'GRILLE C3'!D10","v":"Indice\nMajoré"}]
["est de",null,{"$f":"RECAPITULATIF!D13","v":{"v":4.686,"d":"4.686 €"}},null,"au",{"$f":"RECAPITULATIF!D15","v":"2019-01-01"}]
[{"$nulls":17},{"$f":"'GRILLE C3'!B12","v":1},{"$f":"'GRILLE C3'!C12","v":12},{"$f":"'GRILLE C3'!D12","v":350}]
[]
["Soit un gain net mensuel de :",{"$nulls":5},{"$f":"I40*C46*0.8315","v":{"v":58.44613499999999,"d":"58.45 €"}},{"$nulls":10},{"$f":"'GRILLE C3'!B14","v":2},{"$f":"'GRILLE C3'!C14","v":12},{"$f":"'GRILLE C3'!D14","v":358}]
[]
[{"$nulls":17},{"$f":"'GRILLE C3'!B16","v":3},{"$f":"'GRILLE C3'!C16","v":24},{"$f":"'GRILLE C3'!D16","v":368}]
[]
[{"$nulls":17},{"$f":"'GRILLE C3'!B18","v":4},{"$f":"'GRILLE C3'!C18","v":24},{"$f":"'GRILLE C3'!D18","v":380}]
["Vos représentant-e-s SUD Santé Sociaux ",{"$nulls":7},{"$f":"RECAPITULATIF!D21","v":35},null,"sont à votre disposition"]
["pour tous renseignements complémentaires au poste :",{"$nulls":11},{"$f":"RECAPITULATIF!D17","v":2886},{"$nulls":4},{"$f":"'GRILLE C3'!B20","v":5},{"$f":"'GRILLE C3'!C20","v":24},{"$f":"'GRILLE C3'!D20","v":393}]
[]
[{"$nulls":17},{"$f":"'GRILLE C3'!B22","v":6},{"$f":"'GRILLE C3'!C22","v":24},{"$f":"'GRILLE C3'!D22","v":403}]
[]
[{"$nulls":17},{"$f":"'GRILLE C3'!B24","v":7},{"$f":"'GRILLE C3'!C24","v":36},{"$f":"'GRILLE C3'!D24","v":415}]
["Recevez toutes nos salutations."]
[{"$nulls":17},{"$f":"'GRILLE C3'!B26","v":8},{"$f":"'GRILLE C3'!C26","v":36},{"$f":"'GRILLE C3'!D26","v":430}]
[]
[{"$f":"RECAPITULATIF!B5","v":"Véronique ERUSSARD, Servanne CORNEE, Sébastien BAYAUT"},{"$nulls":16},{"$f":"'GRILLE C3'!B28","v":9},{"$f":"'GRILLE C3'!C28","v":36},{"$f":"'GRILLE C3'!D28","v":450}]
[]
["SUD Santé Sociaux",{"$nulls":3},{"$f":"RECAPITULATIF!D21","v":35},{"$nulls":12},{"$f":"'GRILLE C3'!B30","v":10},{"$f":"'GRILLE C3'!C30","v":0},{"$f":"'GRILLE C3'!D30","v":466}]
[]
[]
[]
[]
["Tél :",{"$f":"RECAPITULATIF!D19","v":{"v":299212886,"d":"02 99 21 28 86"}}]
["Mél :",null,{"$f":"RECAPITULATIF!C23","v":"sudsante@ch-stmalo.fr"}]
[{"$f":"RECAPITULATIF!B25","v":"Site Départemental Sud"},{"$nulls":4},{"$f":"RECAPITULATIF!D25","v":"http://www.sudsantesociaux35.org"}]

{"sheet":"C3 Echelon 9","index":51,"n_rows":72,"n_cols":20,"rows_kept":72,"merged":[[1,6,1,16],[2,6,2,11],[2,12,2,16],[8,12,9,14],[12,12,12,14],[15,0,15,14],[17,0,17,16],[19,0,19,3],[21,0,21,14],[23,0,23,4],[23,5,23,8],[23,10,23,12],[23,13,23,16],[26,5,27,17],[32,0,32,4],[32,5,32,6],[32,7,32,10],[32,11,32,12],[32,17,35,19],[35,0,35,2],[35,8,35,9],[36,17,43,19],[39,0,39,7],[39,8,39,9],[39,10,39,13],[42,0,42,12],[44,17,45,17],[44,18,45,18],[44,19,45,19],[45,2,45,3],[45,5,45,7],[46,17,47,17],[46,18,47,18],[46,19,47,19],[48,0,48,5],[48,6,48,8],[48,17,49,17],[48,18,49,18],[48,19,49,19],[50,17,51,17],[50,18,51,18],[50,19,51,19],[52,17,53,17],[52,18,53,18],[52,19,53,19],[53,0,53,7],[53,8,53,9],[53,10,53,14],[54,0,54,11],[54,12,54,13],[54,17,55,17],[54,18,55,18],[54,19,55,19],[56,17,57,17],[56,18,57,18],[56,19,57,19],[57,0,57,16],[58,17,59,17],[58,18,59,18],[58,19,59,19],[59,0,59,16],[60,17,61,17],[60,18,61,18],[60,19,61,19],[62,0,62,16],[62,17,63,17],[62,18,63,18],[62,19,63,19],[64,0,64,3],[64,17,65,17],[64,18,65,18],[64,19,65,19],[69,1,69,4],[70,0,70,1],[70,2,70,7],[71,0,71,4],[71,5,71,12]]}
[]
[{"$nulls":6},"Commission Administrative"]
[{"$nulls":6},"Paritaire",{"$nulls":5},{"$f":"RECAPITULATIF!D7","v":"Locale"}]
[]
[]
[]
[]
[]
[{"$nulls":12},"Mme, Mr :"]
[]
[{"$nulls":12},"Grade :"]
[]
[{"$nulls":12},"Service :"]
[]
[]
["Votre ou vos représentant-e-s du personnel"]
[]
[{"$f":"RECAPITULATIF!B5","v":"Véronique ERUSSARD, Servanne CORNEE, Sébastien BAYAUT"}]
[]
["SUD Santé Sociaux",{"$nulls":3},{"$f":"RECAPITULATIF!D21","v":35},"du:"]
[]
[{"$f":"RECAPITULATIF!B2","v":"Centre Hospitalier de Saint Malo"}]
[]
["siégeant auprès de la CAP",{"$nulls":4},{"$f":"RECAPITULATIF!D7","v":"Locale"},{"$nulls":3},"du :",{"$f":"RECAPITULATIF!D11","v":"2019-04-16"},null,null,"vous informe de votre :"]
[]
[]
[{"$nulls":5},"AVANCEMENT D’ECHELON"]
[]
[]
[]
[]
[]
["Vous passez à l’échelon :",{"$nulls":4},{"$f":"'GRILLE C3'!B28","v":9},null,"Indice Majoré :",{"$nulls":3},{"$f":"'GRILLE C3'!D28","v":450},{"$nulls":5},{"$f":"'GRILLE C3'!B2","v":"Catégorie C\nGrade C3\nAncienne Echelle 6"}]
[]
[]
["Date d'effet :",{"$nulls":4},"/",null,"/",{"$f":"RECAPITULATIF!D9","v":2019}]
[{"$nulls":17},{"$f":"'GRILLE C3'!B6","v":"Adjoint Administratifs Principal 1ère Classe\nOuvrier Principal 1ère Classe\nAgent de Maîtrise Principal\nAide Medico-Psychologique Principal\nAide Soignant Principal\nAuxilliaire de Puériculture Principal\nConducteur Ambulancier Principal\nMaître Ouvrier Principal\nP A R M : Permanencier Auxilliaire de Régulation Médicale  1ère Classe (extinction)\nDéssinateur Principal (extinction)"}]
[]
[]
["Ce qui représente un gain mensuel de :",{"$nulls":7},{"$f":"'GRILLE C3'!D28-'GRILLE C3'!D26","v":20},null,"points d'indice."]
[]
[]
["Pour information, la valeur brute du point d'indice"]
[]
[{"$nulls":17},{"$f":"'GRILLE C3'!B10","v":"Echelon"},{"$f":"'GRILLE C3'!C10","v":"Durée\n(en mois)"},{"$f":"'GRILLE C3'!D10","v":"Indice\nMajoré"}]
["est de",null,{"$f":"RECAPITULATIF!D13","v":{"v":4.686,"d":"4.686 €"}},null,"au",{"$f":"RECAPITULATIF!D15","v":"2019-01-01"}]
[{"$nulls":17},{"$f":"'GRILLE C3'!B12","v":1},{"$f":"'GRILLE C3'!C12","v":12},{"$f":"'GRILLE C3'!D12","v":350}]
[]
["Soit un gain net mensuel de :",{"$nulls":5},{"$f":"I40*C46*0.8315","v":{"v":77.92818,"d":"77.93 €"}},{"$nulls":10},{"$f":"'GRILLE C3'!B14","v":2},{"$f":"'GRILLE C3'!C14","v":12},{"$f":"'GRILLE C3'!D14","v":358}]
[]
[{"$nulls":17},{"$f":"'GRILLE C3'!B16","v":3},{"$f":"'GRILLE C3'!C16","v":24},{"$f":"'GRILLE C3'!D16","v":368}]
[]
[{"$nulls":17},{"$f":"'GRILLE C3'!B18","v":4},{"$f":"'GRILLE C3'!C18","v":24},{"$f":"'GRILLE C3'!D18","v":380}]
["Vos représentant-e-s SUD Santé Sociaux ",{"$nulls":7},{"$f":"RECAPITULATIF!D21","v":35},null,"sont à votre disposition"]
["pour tous renseignements complémentaires au poste :",{"$nulls":11},{"$f":"RECAPITULATIF!D17","v":2886},{"$nulls":4},{"$f":"'GRILLE C3'!B20","v":5},{"$f":"'GRILLE C3'!C20","v":24},{"$f":"'GRILLE C3'!D20","v":393}]
[]
[{"$nulls":17},{"$f":"'GRILLE C3'!B22","v":6},{"$f":"'GRILLE C3'!C22","v":24},{"$f":"'GRILLE C3'!D22","v":403}]
[]
[{"$nulls":17},{"$f":"'GRILLE C3'!B24","v":7},{"$f":"'GRILLE C3'!C24","v":36},{"$f":"'GRILLE C3'!D24","v":415}]
["Recevez toutes nos salutations."]
[{"$nulls":17},{"$f":"'GRILLE C3'!B26","v":8},{"$f":"'GRILLE C3'!C26","v":36},{"$f":"'GRILLE C3'!D26","v":430}]
[]
[{"$f":"RECAPITULATIF!B5","v":"Véronique ERUSSARD, Servanne CORNEE, Sébastien BAYAUT"},{"$nulls":16},{"$f":"'GRILLE C3'!B28","v":9},{"$f":"'GRILLE C3'!C28","v":36},{"$f":"'GRILLE C3'!D28","v":450}]
[]
["SUD Santé Sociaux",{"$nulls":3},{"$f":"RECAPITULATIF!D21","v":35},{"$nulls":12},{"$f":"'GRILLE C3'!B30","v":10},{"$f":"'GRILLE C3'!C30","v":0},{"$f":"'GRILLE C3'!D30","v":466}]
[]
[]
[]
[]
["Tél :",{"$f":"RECAPITULATIF!D19","v":{"v":299212886,"d":"02 99 21 28 86"}}]
["Mél :",null,{"$f":"RECAPITULATIF!C23","v":"sudsante@ch-stmalo.fr"}]
[{"$f":"RECAPITULATIF!B25","v":"Site Départemental Sud"},{"$nulls":4},{"$f":"RECAPITULATIF!D25","v":"http://www.sudsantesociaux35.org"}]

{"sheet":"C3 Echelon 10","index":52,"n_rows":72,"n_cols":20,"rows_kept":72,"merged":[[1,6,1,16],[2,6,2,11],[2,12,2,16],[8,12,9,14],[12,12,12,14],[15,0,15,14],[17,0,17,16],[19,0,19,3],[21,0,21,14],[23,0,23,4],[23,5,23,8],[23,10,23,12],[23,13,23,16],[26,5,27,17],[32,0,32,4],[32,5,32,6],[32,7,32,10],[32,11,32,12],[32,17,35,19],[35,0,35,2],[35,8,35,9],[36,17,43,19],[39,0,39,7],[39,8,39,9],[39,10,39,13],[42,0,42,12],[44,17,45,17],[44,18,45,18],[44,19,45,19],[45,2,45,3],[45,5,45,7],[46,17,47,17],[46,18,47,18],[46,19,47,19],[48,0,48,5],[48,6,48,8],[48,17,49,17],[48,18,49,18],[48,19,49,19],[50,17,51,17],[50,18,51,18],[50,19,51,19],[52,17,53,17],[52,18,53,18],[52,19,53,19],[53,0,53,7],[53,8,53,9],[53,10,53,14],[54,0,54,11],[54,12,54,13],[54,17,55,17],[54,18,55,18],[54,19,55,19],[56,17,57,17],[56,18,57,18],[56,19,57,19],[57,0,57,16],[58,17,59,17],[58,18,59,18],[58,19,59,19],[59,0,59,16],[60,17,61,17],[60,18,61,18],[60,19,61,19],[62,0,62,16],[62,17,63,17],[62,18,63,18],[62,19,63,19],[64,0,64,3],[64,17,65,17],[64,18,65,18],[64,19,65,19],[69,1,69,4],[70,0,70,1],[70,2,70,7],[71,0,71,4],[71,5,71,12]]}
[]
[{"$nulls":6},"Commission Administrative"]
[{"$nulls":6},"Paritaire",{"$nulls":5},{"$f":"RECAPITULATIF!D7","v":"Locale"}]
[]
[]
[]
[]
[]
[{"$nulls":12},"Mme, Mr :"]
[]
[{"$nulls":12},"Grade :"]
[]
[{"$nulls":12},"Service :"]
[]
[]
["Votre ou vos représentant-e-s du personnel"]
[]
[{"$f":"RECAPITULATIF!B5","v":"Véronique ERUSSARD, Servanne CORNEE, Sébastien BAYAUT"}]
[]
["SUD Santé Sociaux",{"$nulls":3},{"$f":"RECAPITULATIF!D21","v":35},"du:"]
[]
[{"$f":"RECAPITULATIF!B2","v":"Centre Hospitalier de Saint Malo"}]
[]
["siégeant auprès de la CAP",{"$nulls":4},{"$f":"RECAPITULATIF!D7","v":"Locale"},{"$nulls":3},"du :",{"$f":"RECAPITULATIF!D11","v":"2019-04-16"},null,null,"vous informe de votre :"]
[]
[]
[{"$nulls":5},"AVANCEMENT D’ECHELON"]
[]
[]
[]
[]
[]
["Vous passez à l’échelon :",{"$nulls":4},{"$f":"'GRILLE C3'!B30","v":10},null,"Indice Majoré :",{"$nulls":3},{"$f":"'GRILLE C3'!D30","v":466},{"$nulls":5},{"$f":"'GRILLE C3'!B2","v":"Catégorie C\nGrade C3\nAncienne Echelle 6"}]
[]
[]
["Date d'effet :",{"$nulls":4},"/",null,"/",{"$f":"RECAPITULATIF!D9","v":2019}]
[{"$nulls":17},{"$f":"'GRILLE C3'!B6","v":"Adjoint Administratifs Principal 1ère Classe\nOuvrier Principal 1ère Classe\nAgent de Maîtrise Principal\nAide Medico-Psychologique Principal\nAide Soignant Principal\nAuxilliaire de Puériculture Principal\nConducteur Ambulancier Principal\nMaître Ouvrier Principal\nP A R M : Permanencier Auxilliaire de Régulation Médicale  1ère Classe (extinction)\nDéssinateur Principal (extinction)"}]
[]
[]
["Ce qui représente un gain mensuel de :",{"$nulls":7},{"$f":"'GRILLE C3'!D30-'GRILLE C3'!D28","v":16},null,"points d'indice."]
[]
[]
["Pour information, la valeur brute du point d'indice"]
[]
[{"$nulls":17},{"$f":"'GRILLE C3'!B10","v":"Echelon"},{"$f":"'GRILLE C3'!C10","v":"Durée\n(en mois)"},{"$f":"'GRILLE C3'!D10","v":"Indice\nMajoré"}]
["est de",null,{"$f":"RECAPITULATIF!D13","v":{"v":4.686,"d":"4.686 €"}},null,"au",{"$f":"RECAPITULATIF!D15","v":"2019-01-01"}]
[{"$nulls":17},{"$f":"'GRILLE C3'!B12","v":1},{"$f":"'GRILLE C3'!C12","v":12},{"$f":"'GRILLE C3'!D12","v":350}]
[]
["Soit un gain net mensuel de :",{"$nulls":5},{"$f":"I40*C46*0.8315","v":{"v":62.342544000000004,"d":"62.34 €"}},{"$nulls":10},{"$f":"'GRILLE C3'!B14","v":2},{"$f":"'GRILLE C3'!C14","v":12},{"$f":"'GRILLE C3'!D14","v":358}]
[]
[{"$nulls":17},{"$f":"'GRILLE C3'!B16","v":3},{"$f":"'GRILLE C3'!C16","v":24},{"$f":"'GRILLE C3'!D16","v":368}]
[]
[{"$nulls":17},{"$f":"'GRILLE C3'!B18","v":4},{"$f":"'GRILLE C3'!C18","v":24},{"$f":"'GRILLE C3'!D18","v":380}]
["Vos représentant-e-s SUD Santé Sociaux ",{"$nulls":7},{"$f":"RECAPITULATIF!D21","v":35},null,"sont à votre disposition"]
["pour tous renseignements complémentaires au poste :",{"$nulls":11},{"$f":"RECAPITULATIF!D17","v":2886},{"$nulls":4},{"$f":"'GRILLE C3'!B20","v":5},{"$f":"'GRILLE C3'!C20","v":24},{"$f":"'GRILLE C3'!D20","v":393}]
[]
[{"$nulls":17},{"$f":"'GRILLE C3'!B22","v":6},{"$f":"'GRILLE C3'!C22","v":24},{"$f":"'GRILLE C3'!D22","v":403}]
[]
[{"$nulls":17},{"$f":"'GRILLE C3'!B24","v":7},{"$f":"'GRILLE C3'!C24","v":36},{"$f":"'GRILLE C3'!D24","v":415}]
["Recevez toutes nos salutations."]
[{"$nulls":17},{"$f":"'GRILLE C3'!B26","v":8},{"$f":"'GRILLE C3'!C26","v":36},{"$f":"'GRILLE C3'!D26","v":430}]
[]
[{"$f":"RECAPITULATIF!B5","v":"Véronique ERUSSARD, Servanne CORNEE, Sébastien BAYAUT"},{"$nulls":16},{"$f":"'GRILLE C3'!B28","v":9},{"$f":"'GRILLE C3'!C28","v":36},{"$f":"'GRILLE C3'!D28","v":450}]
[]
["SUD Santé Sociaux",{"$nulls":3},{"$f":"RECAPITULATIF!D21","v":35},{"$nulls":12},{"$f":"'GRILLE C3'!B30","v":10},{"$f":"'GRILLE C3'!C30","v":0},{"$f":"'GRILLE C3'!D30","v":466}]
[]
[]
[]
[]
["Tél :",{"$f":"RECAPITULATIF!D19","v":{"v":299212886,"d":"02 99 21 28 86"}}]
["Mél :",null,{"$f":"RECAPITULATIF!C23","v":"sudsante@ch-stmalo.fr"}]
[{"$f":"RECAPITULATIF!B25","v":"Site Départemental Sud"},{"$nulls":4},{"$f":"RECAPITULATIF!D25","v":"http://www.sudsantesociaux35.org"}]

{"sheet":"GRILLE C MA EXTINCTION","index":53,"n_rows":32,"n_cols":4,"rows_kept":32,"merged":[[1,1,4,3],[5,1,6,1],[5,2,6,2],[5,3,6,3],[7,1,8,1],[7,2,8,2],[7,3,8,3],[9,1,10,1],[9,2,10,2],[9,3,10,3],[11,1,12,1],[11,2,12,2],[11,3,12,3],[13,1,14,1],[13,2,14,2],[13,3,14,3],[15,1,16,1],[15,2,16,2],[15,3,16,3],[17,1,18,1],[17,2,18,2],[17,3,18,3],[19,1,20,1],[19,2,20,2],[19,3,20,3],[21,1,22,1],[21,2,22,2],[21,3,22,3],[23,1,24,1],[23,2,24,2],[23,3,24,3],[25,1,26,1],[25,2,26,2],[25,3,26,3],[27,1,28,1],[27,2,28,2],[27,3,28,3],[29,1,30,1],[29,2,30,2],[29,3,30,3],[31,1,32,1],[31,2,32,2],[31,3,32,3]]}
[]
[null,"Catégorie C\nEXTINCTION\nMoninteur d'Atelier"]
[]
[]
[]
[null,"Echelon","Durée\n(en mois)","Indice\nMajoré"]
[]
[null,1,12,327]
[]
[null,2,24,328]
[]
[null,3,24,331]
[]
[null,4,24,338]
[]
[null,5,24,344]
[]
[null,6,24,352]
[]
[null,7,36,367]
[]
[null,8,36,381]
[]
[null,9,36,404]
[]
[null,10,36,422]
[]
[null,11,48,428]
[]
[null,12,48,450]
[]
[null,13,null,466]

{"sheet":"IMP GRILLE C MA EXTINCTION","index":54,"n_rows":6,"n_cols":2,"rows_kept":6,"merged":[[1,1,1,9],[3,1,3,9],[5,1,5,9]]}
[]
[null,"1) Imprimez autant de feuilles que d'agents concernés."]
[]
[null,"2) Pliez en 3 au niveau du repère, deux petits traits noirs."]
[]
[null,"3) Inserrez ce courrier dans une enveloppe 110 X 220 à fenêtre."]

{"sheet":"C MA EXT Echelon 2","index":55,"n_rows":73,"n_cols":20,"rows_kept":73,"merged":[[1,6,1,16],[2,6,2,11],[2,12,2,16],[8,12,9,14],[12,12,12,14],[15,0,15,14],[17,0,17,16],[19,0,19,3],[21,0,21,14],[23,0,23,4],[23,5,23,8],[23,10,23,12],[23,13,23,16],[26,5,27,17],[32,0,32,4],[32,5,32,6],[32,7,32,10],[32,11,32,12],[35,0,35,2],[35,8,35,9],[38,17,41,19],[39,0,39,7],[39,8,39,9],[39,10,39,13],[42,0,42,12],[42,17,43,17],[42,18,43,18],[42,19,43,19],[44,17,45,17],[44,18,45,18],[44,19,45,19],[45,2,45,3],[45,5,45,7],[46,17,47,17],[46,18,47,18],[46,19,47,19],[48,0,48,5],[48,6,48,8],[48,17,49,17],[48,18,49,18],[48,19,49,19],[50,17,51,17],[50,18,51,18],[50,19,51,19],[52,17,53,17],[52,18,53,18],[52,19,53,19],[53,0,53,7],[53,8,53,9],[53,10,53,14],[54,0,54,11],[54,12,54,13],[54,17,55,17],[54,18,55,18],[54,19,55,19],[56,17,57,17],[56,18,57,18],[56,19,57,19],[57,0,57,16],[58,17,59,17],[58,18,59,18],[58,19,59,19],[59,0,59,16],[60,17,61,17],[60,18,61,18],[60,19,61,19],[62,0,62,16],[62,17,63,17],[62,18,63,18],[62,19,63,19],[64,0,64,3],[64,17,65,17],[64,18,65,18],[64,19,65,19],[66,17,67,17],[66,18,67,18],[66,19,67,19],[68,17,69,17],[68,18,69,18],[68,19,69,19],[70,1,70,4],[71,0,71,1],[71,2,71,7],[72,0,72,4],[72,5,72,12]]}
[]
[{"$nulls":6},"Commission Administrative"]
[{"$nulls":6},"Paritaire",{"$nulls":5},{"$f":"RECAPITULATIF!D7","v":"Locale"}]
[]
[]
[]
[]
[]
[{"$nulls":12},"Mme, Mr :"]
[]
[{"$nulls":12},"Grade :"]
[]
[{"$nulls":12},"Service :"]
[]
[]
["Votre ou vos représentant-e-s du personnel"]
[]
[{"$f":"RECAPITULATIF!B5","v":"Véronique ERUSSARD, Servanne CORNEE, Sébastien BAYAUT"}]
[]
["SUD Santé Sociaux",{"$nulls":3},{"$f":"RECAPITULATIF!D21","v":35},"du:"]
[]
[{"$f":"RECAPITULATIF!B2","v":"Centre Hospitalier de Saint Malo"}]
[]
["siégeant auprès de la CAP",{"$nulls":4},{"$f":"RECAPITULATIF!D7","v":"Locale"},{"$nulls":3},"du :",{"$f":"RECAPITULATIF!D11","v":"2019-04-16"},null,null,"vous informe de votre :"]
[]
[]
[{"$nulls":5},"AVANCEMENT D’ECHELON"]
[]
[]
[]
[]
[]
["Vous passez à l’échelon :",{"$nulls":4},{"$f":"'GRILLE C MA EXTINCTION'!B10","v":2},null,"Indice Majoré :",{"$nulls":3},{"$f":"'GRILLE C MA EXTINCTION'!D10","v":328}]
[]
[]
["Date d'effet :",{"$nulls":4},"/",null,"/",{"$f":"RECAPITULATIF!D9","v":2019}]
[]
[]
[{"$nulls":17},{"$f":"'GRILLE C MA EXTINCTION'!B2","v":"Catégorie C\nEXTINCTION\nMoninteur d'Atelier"}]
["Ce qui représente un gain mensuel de :",{"$nulls":7},{"$f":"'GRILLE C MA EXTINCTION'!D10-'GRILLE C MA EXTINCTION'!D8","v":1},null,"points d'indice."]
[]
[]
["Pour information, la valeur brute du point d'indice",{"$nulls":16},{"$f":"'GRILLE C MA EXTINCTION'!B6","v":"Echelon"},{"$f":"'GRILLE C MA EXTINCTION'!C6","v":"Durée\n(en mois)"},{"$f":"'GRILLE C MA EXTINCTION'!D6","v":"Indice\nMajoré"}]
[]
[{"$nulls":17},{"$f":"'GRILLE C MA EXTINCTION'!B8","v":1},{"$f":"'GRILLE C MA EXTINCTION'!C8","v":12},{"$f":"'GRILLE C MA EXTINCTION'!D8","v":327}]
["est de",null,{"$f":"RECAPITULATIF!D13","v":{"v":4.686,"d":"4.686 €"}},null,"au",{"$f":"RECAPITULATIF!D15","v":"2019-01-01"}]
[{"$nulls":17},{"$f":"'GRILLE C MA EXTINCTION'!B10","v":2},{"$f":"'GRILLE C MA EXTINCTION'!C10","v":24},{"$f":"'GRILLE C MA EXTINCTION'!D10","v":328}]
[]
["Soit un gain net mensuel de :",{"$nulls":5},{"$f":"I40*C46*0.8315","v":{"v":3.8964090000000002,"d":"3.90 €"}},{"$nulls":10},{"$f":"'GRILLE C MA EXTINCTION'!B12","v":3},{"$f":"'GRILLE C MA EXTINCTION'!C12","v":24},{"$f":"'GRILLE C MA EXTINCTION'!D12","v":331}]
[]
[{"$nulls":17},{"$f":"'GRILLE C MA EXTINCTION'!B14","v":4},{"$f":"'GRILLE C MA EXTINCTION'!C14","v":24},{"$f":"'GRILLE C MA EXTINCTION'!D14","v":338}]
[]
[{"$nulls":17},{"$f":"'GRILLE C MA EXTINCTION'!B16","v":5},{"$f":"'GRILLE C MA EXTINCTION'!C16","v":24},{"$f":"'GRILLE C MA EXTINCTION'!D16","v":344}]
["Vos représentant-e-s SUD Santé Sociaux ",{"$nulls":7},{"$f":"RECAPITULATIF!D21","v":35},null,"sont à votre disposition"]
["pour tous renseignements complémentaires au poste :",{"$nulls":11},{"$f":"RECAPITULATIF!D17","v":2886},{"$nulls":4},{"$f":"'GRILLE C MA EXTINCTION'!B18","v":6},{"$f":"'GRILLE C MA EXTINCTION'!C18","v":24},{"$f":"'GRILLE C MA EXTINCTION'!D18","v":352}]
[]
[{"$nulls":17},{"$f":"'GRILLE C MA EXTINCTION'!B20","v":7},{"$f":"'GRILLE C MA EXTINCTION'!C20","v":36},{"$f":"'GRILLE C MA EXTINCTION'!D20","v":367}]
[]
[{"$nulls":17},{"$f":"'GRILLE C MA EXTINCTION'!B22","v":8},{"$f":"'GRILLE C MA EXTINCTION'!C22","v":36},{"$f":"'GRILLE C MA EXTINCTION'!D22","v":381}]
["Recevez toutes nos salutations."]
[{"$nulls":17},{"$f":"'GRILLE C MA EXTINCTION'!B24","v":9},{"$f":"'GRILLE C MA EXTINCTION'!C24","v":36},{"$f":"'GRILLE C MA EXTINCTION'!D24","v":404}]
[]
[{"$f":"RECAPITULATIF!B5","v":"Véronique ERUSSARD, Servanne CORNEE, Sébastien BAYAUT"},{"$nulls":16},{"$f":"'GRILLE C MA EXTINCTION'!B26","v":10},{"$f":"'GRILLE C MA EXTINCTION'!C26","v":36},{"$f":"'GRILLE C MA EXTINCTION'!D26","v":422}]
[]
["SUD Santé Sociaux",{"$nulls":3},{"$f":"RECAPITULATIF!D21","v":35},{"$nulls":12},{"$f":"'GRILLE C MA EXTINCTION'!B28","v":11},{"$f":"'GRILLE C MA EXTINCTION'!C28","v":48},{"$f":"'GRILLE C MA EXTINCTION'!D28","v":428}]
[]
[{"$nulls":17},{"$f":"'GRILLE C MA EXTINCTION'!B30","v":12},{"$f":"'GRILLE C MA EXTINCTION'!C30","v":48},{"$f":"'GRILLE C MA EXTINCTION'!D30","v":450}]
[]
[{"$nulls":17},{"$f":"'GRILLE C MA EXTINCTION'!B32","v":13},{"$f":"'GRILLE C MA EXTINCTION'!C32","v":0},{"$f":"'GRILLE C MA EXTINCTION'!D32","v":466}]
[]
["Tél :",{"$f":"RECAPITULATIF!D19","v":{"v":299212886,"d":"02 99 21 28 86"}}]
["Mél :",null,{"$f":"RECAPITULATIF!C23","v":"sudsante@ch-stmalo.fr"}]
[{"$f":"RECAPITULATIF!B25","v":"Site Départemental Sud"},{"$nulls":4},{"$f":"RECAPITULATIF!D25","v":"http://www.sudsantesociaux35.org"}]

{"sheet":"C MA EXT Echelon 3","index":56,"n_rows":73,"n_cols":20,"rows_kept":73,"merged":[[1,6,1,16],[2,6,2,11],[2,12,2,16],[8,12,9,14],[12,12,12,14],[15,0,15,14],[17,0,17,16],[19,0,19,3],[21,0,21,14],[23,0,23,4],[23,5,23,8],[23,10,23,12],[23,13,23,16],[26,5,27,17],[32,0,32,4],[32,5,32,6],[32,7,32,10],[32,11,32,12],[35,0,35,2],[35,8,35,9],[38,17,41,19],[39,0,39,7],[39,8,39,9],[39,10,39,13],[42,0,42,12],[42,17,43,17],[42,18,43,18],[42,19,43,19],[44,17,45,17],[44,18,45,18],[44,19,45,19],[45,2,45,3],[45,5,45,7],[46,17,47,17],[46,18,47,18],[46,19,47,19],[48,0,48,5],[48,6,48,8],[48,17,49,17],[48,18,49,18],[48,19,49,19],[50,17,51,17],[50,18,51,18],[50,19,51,19],[52,17,53,17],[52,18,53,18],[52,19,53,19],[53,0,53,7],[53,8,53,9],[53,10,53,14],[54,0,54,11],[54,12,54,13],[54,17,55,17],[54,18,55,18],[54,19,55,19],[56,17,57,17],[56,18,57,18],[56,19,57,19],[57,0,57,16],[58,17,59,17],[58,18,59,18],[58,19,59,19],[59,0,59,16],[60,17,61,17],[60,18,61,18],[60,19,61,19],[62,0,62,16],[62,17,63,17],[62,18,63,18],[62,19,63,19],[64,0,64,3],[64,17,65,17],[64,18,65,18],[64,19,65,19],[66,17,67,17],[66,18,67,18],[66,19,67,19],[68,17,69,17],[68,18,69,18],[68,19,69,19],[70,1,70,4],[71,0,71,1],[71,2,71,7],[72,0,72,4],[72,5,72,12]]}
[]
[{"$nulls":6},"Commission Administrative"]
[{"$nulls":6},"Paritaire",{"$nulls":5},{"$f":"RECAPITULATIF!D7","v":"Locale"}]
[]
[]
[]
[]
[]
[{"$nulls":12},"Mme, Mr :"]
[]
[{"$nulls":12},"Grade :"]
[]
[{"$nulls":12},"Service :"]
[]
[]
["Votre ou vos représentant-e-s du personnel"]
[]
[{"$f":"RECAPITULATIF!B5","v":"Véronique ERUSSARD, Servanne CORNEE, Sébastien BAYAUT"}]
[]
["SUD Santé Sociaux",{"$nulls":3},{"$f":"RECAPITULATIF!D21","v":35},"du:"]
[]
[{"$f":"RECAPITULATIF!B2","v":"Centre Hospitalier de Saint Malo"}]
[]
["siégeant auprès de la CAP",{"$nulls":4},{"$f":"RECAPITULATIF!D7","v":"Locale"},{"$nulls":3},"du :",{"$f":"RECAPITULATIF!D11","v":"2019-04-16"},null,null,"vous informe de votre :"]
[]
[]
[{"$nulls":5},"AVANCEMENT D’ECHELON"]
[]
[]
[]
[]
[]
["Vous passez à l’échelon :",{"$nulls":4},{"$f":"'GRILLE C MA EXTINCTION'!B12","v":3},null,"Indice Majoré :",{"$nulls":3},{"$f":"'GRILLE C MA EXTINCTION'!D12","v":331}]
[]
[]
["Date d'effet :",{"$nulls":4},"/",null,"/",{"$f":"RECAPITULATIF!D9","v":2019}]
[]
[]
[{"$nulls":17},{"$f":"'GRILLE C MA EXTINCTION'!B2","v":"Catégorie C\nEXTINCTION\nMoninteur d'Atelier"}]
["Ce qui représente un gain mensuel de :",{"$nulls":7},{"$f":"'GRILLE C MA EXTINCTION'!D12-'GRILLE C MA EXTINCTION'!D10","v":3},null,"points d'indice."]
[]
[]
["Pour information, la valeur brute du point d'indice",{"$nulls":16},{"$f":"'GRILLE C MA EXTINCTION'!B6","v":"Echelon"},{"$f":"'GRILLE C MA EXTINCTION'!C6","v":"Durée\n(en mois)"},{"$f":"'GRILLE C MA EXTINCTION'!D6","v":"Indice\nMajoré"}]
[]
[{"$nulls":17},{"$f":"'GRILLE C MA EXTINCTION'!B8","v":1},{"$f":"'GRILLE C MA EXTINCTION'!C8","v":12},{"$f":"'GRILLE C MA EXTINCTION'!D8","v":327}]
["est de",null,{"$f":"RECAPITULATIF!D13","v":{"v":4.686,"d":"4.686 €"}},null,"au",{"$f":"RECAPITULATIF!D15","v":"2019-01-01"}]
[{"$nulls":17},{"$f":"'GRILLE C MA EXTINCTION'!B10","v":2},{"$f":"'GRILLE C MA EXTINCTION'!C10","v":24},{"$f":"'GRILLE C MA EXTINCTION'!D10","v":328}]
[]
["Soit un gain net mensuel de :",{"$nulls":5},{"$f":"I40*C46*0.8315","v":{"v":11.689227,"d":"11.69 €"}},{"$nulls":10},{"$f":"'GRILLE C MA EXTINCTION'!B12","v":3},{"$f":"'GRILLE C MA EXTINCTION'!C12","v":24},{"$f":"'GRILLE C MA EXTINCTION'!D12","v":331}]
[]
[{"$nulls":17},{"$f":"'GRILLE C MA EXTINCTION'!B14","v":4},{"$f":"'GRILLE C MA EXTINCTION'!C14","v":24},{"$f":"'GRILLE C MA EXTINCTION'!D14","v":338}]
[]
[{"$nulls":17},{"$f":"'GRILLE C MA EXTINCTION'!B16","v":5},{"$f":"'GRILLE C MA EXTINCTION'!C16","v":24},{"$f":"'GRILLE C MA EXTINCTION'!D16","v":344}]
["Vos représentant-e-s SUD Santé Sociaux ",{"$nulls":7},{"$f":"RECAPITULATIF!D21","v":35},null,"sont à votre disposition"]
["pour tous renseignements complémentaires au poste :",{"$nulls":11},{"$f":"RECAPITULATIF!D17","v":2886},{"$nulls":4},{"$f":"'GRILLE C MA EXTINCTION'!B18","v":6},{"$f":"'GRILLE C MA EXTINCTION'!C18","v":24},{"$f":"'GRILLE C MA EXTINCTION'!D18","v":352}]
[]
[{"$nulls":17},{"$f":"'GRILLE C MA EXTINCTION'!B20","v":7},{"$f":"'GRILLE C MA EXTINCTION'!C20","v":36},{"$f":"'GRILLE C MA EXTINCTION'!D20","v":367}]
[]
[{"$nulls":17},{"$f":"'GRILLE C MA EXTINCTION'!B22","v":8},{"$f":"'GRILLE C MA EXTINCTION'!C22","v":36},{"$f":"'GRILLE C MA EXTINCTION'!D22","v":381}]
["Recevez toutes nos salutations."]
[{"$nulls":17},{"$f":"'GRILLE C MA EXTINCTION'!B24","v":9},{"$f":"'GRILLE C MA EXTINCTION'!C24","v":36},{"$f":"'GRILLE C MA EXTINCTION'!D24","v":404}]
[]
[{"$f":"RECAPITULATIF!B5","v":"Véronique ERUSSARD, Servanne CORNEE, Sébastien BAYAUT"},{"$nulls":16},{"$f":"'GRILLE C MA EXTINCTION'!B26","v":10},{"$f":"'GRILLE C MA EXTINCTION'!C26","v":36},{"$f":"'GRILLE C MA EXTINCTION'!D26","v":422}]
[]
["SUD Santé Sociaux",{"$nulls":3},{"$f":"RECAPITULATIF!D21","v":35},{"$nulls":12},{"$f":"'GRILLE C MA EXTINCTION'!B28","v":11},{"$f":"'GRILLE C MA EXTINCTION'!C28","v":48},{"$f":"'GRILLE C MA EXTINCTION'!D28","v":428}]
[]
[{"$nulls":17},{"$f":"'GRILLE C MA EXTINCTION'!B30","v":12},{"$f":"'GRILLE C MA EXTINCTION'!C30","v":48},{"$f":"'GRILLE C MA EXTINCTION'!D30","v":450}]
[]
[{"$nulls":17},{"$f":"'GRILLE C MA EXTINCTION'!B32","v":13},{"$f":"'GRILLE C MA EXTINCTION'!C32","v":0},{"$f":"'GRILLE C MA EXTINCTION'!D32","v":466}]
[]
["Tél :",{"$f":"RECAPITULATIF!D19","v":{"v":299212886,"d":"02 99 21 28 86"}}]
["Mél :",null,{"$f":"RECAPITULATIF!C23","v":"sudsante@ch-stmalo.fr"}]
[{"$f":"RECAPITULATIF!B25","v":"Site Départemental Sud"},{"$nulls":4},{"$f":"RECAPITULATIF!D25","v":"http://www.sudsantesociaux35.org"}]

{"sheet":"C MA EXT Echelon 4","index":57,"n_rows":73,"n_cols":20,"rows_kept":73,"merged":[[1,6,1,16],[2,6,2,11],[2,12,2,16],[8,12,9,14],[12,12,12,14],[15,0,15,14],[17,0,17,16],[19,0,19,3],[21,0,21,14],[23,0,23,4],[23,5,23,8],[23,10,23,12],[23,13,23,16],[26,5,27,17],[32,0,32,4],[32,5,32,6],[32,7,32,10],[32,11,32,12],[35,0,35,2],[35,8,35,9],[38,17,41,19],[39,0,39,7],[39,8,39,9],[39,10,39,13],[42,0,42,12],[42,17,43,17],[42,18,43,18],[42,19,43,19],[44,17,45,17],[44,18,45,18],[44,19,45,19],[45,2,45,3],[45,5,45,7],[46,17,47,17],[46,18,47,18],[46,19,47,19],[48,0,48,5],[48,6,48,8],[48,17,49,17],[48,18,49,18],[48,19,49,19],[50,17,51,17],[50,18,51,18],[50,19,51,19],[52,17,53,17],[52,18,53,18],[52,19,53,19],[53,0,53,7],[53,8,53,9],[53,10,53,14],[54,0,54,11],[54,12,54,13],[54,17,55,17],[54,18,55,18],[54,19,55,19],[56,17,57,17],[56,18,57,18],[56,19,57,19],[57,0,57,16],[58,17,59,17],[58,18,59,18],[58,19,59,19],[59,0,59,16],[60,17,61,17],[60,18,61,18],[60,19,61,19],[62,0,62,16],[62,17,63,17],[62,18,63,18],[62,19,63,19],[64,0,64,3],[64,17,65,17],[64,18,65,18],[64,19,65,19],[66,17,67,17],[66,18,67,18],[66,19,67,19],[68,17,69,17],[68,18,69,18],[68,19,69,19],[70,1,70,4],[71,0,71,1],[71,2,71,7],[72,0,72,4],[72,5,72,12]]}
[]
[{"$nulls":6},"Commission Administrative"]
[{"$nulls":6},"Paritaire",{"$nulls":5},{"$f":"RECAPITULATIF!D7","v":"Locale"}]
[]
[]
[]
[]
[]
[{"$nulls":12},"Mme, Mr :"]
[]
[{"$nulls":12},"Grade :"]
[]
[{"$nulls":12},"Service :"]
[]
[]
["Votre ou vos représentant-e-s du personnel"]
[]
[{"$f":"RECAPITULATIF!B5","v":"Véronique ERUSSARD, Servanne CORNEE, Sébastien BAYAUT"}]
[]
["SUD Santé Sociaux",{"$nulls":3},{"$f":"RECAPITULATIF!D21","v":35},"du:"]
[]
[{"$f":"RECAPITULATIF!B2","v":"Centre Hospitalier de Saint Malo"}]
[]
["siégeant auprès de la CAP",{"$nulls":4},{"$f":"RECAPITULATIF!D7","v":"Locale"},{"$nulls":3},"du :",{"$f":"RECAPITULATIF!D11","v":"2019-04-16"},null,null,"vous informe de votre :"]
[]
[]
[{"$nulls":5},"AVANCEMENT D’ECHELON"]
[]
[]
[]
[]
[]
["Vous passez à l’échelon :",{"$nulls":4},{"$f":"'GRILLE C MA EXTINCTION'!B14","v":4},null,"Indice Majoré :",{"$nulls":3},{"$f":"'GRILLE C MA EXTINCTION'!D14","v":338}]
[]
[]
["Date d'effet :",{"$nulls":4},"/",null,"/",{"$f":"RECAPITULATIF!D9","v":2019}]
[]
[]
[{"$nulls":17},{"$f":"'GRILLE C MA EXTINCTION'!B2","v":"Catégorie C\nEXTINCTION\nMoninteur d'Atelier"}]
["Ce qui représente un gain mensuel de :",{"$nulls":7},{"$f":"'GRILLE C MA EXTINCTION'!D14-'GRILLE C MA EXTINCTION'!D12","v":7},null,"points d'indice."]
[]
[]
["Pour information, la valeur brute du point d'indice",{"$nulls":16},{"$f":"'GRILLE C MA EXTINCTION'!B6","v":"Echelon"},{"$f":"'GRILLE C MA EXTINCTION'!C6","v":"Durée\n(en mois)"},{"$f":"'GRILLE C MA EXTINCTION'!D6","v":"Indice\nMajoré"}]
[]
[{"$nulls":17},{"$f":"'GRILLE C MA EXTINCTION'!B8","v":1},{"$f":"'GRILLE C MA EXTINCTION'!C8","v":12},{"$f":"'GRILLE C MA EXTINCTION'!D8","v":327}]
["est de",null,{"$f":"RECAPITULATIF!D13","v":{"v":4.686,"d":"4.686 €"}},null,"au",{"$f":"RECAPITULATIF!D15","v":"2019-01-01"}]
[{"$nulls":17},{"$f":"'GRILLE C MA EXTINCTION'!B10","v":2},{"$f":"'GRILLE C MA EXTINCTION'!C10","v":24},{"$f":"'GRILLE C MA EXTINCTION'!D10","v":328}]
[]
["Soit un gain net mensuel de :",{"$nulls":5},{"$f":"I40*C46*0.8315","v":{"v":27.274863,"d":"27.27 €"}},{"$nulls":10},{"$f":"'GRILLE C MA EXTINCTION'!B12","v":3},{"$f":"'GRILLE C MA EXTINCTION'!C12","v":24},{"$f":"'GRILLE C MA EXTINCTION'!D12","v":331}]
[]
[{"$nulls":17},{"$f":"'GRILLE C MA EXTINCTION'!B14","v":4},{"$f":"'GRILLE C MA EXTINCTION'!C14","v":24},{"$f":"'GRILLE C MA EXTINCTION'!D14","v":338}]
[]
[{"$nulls":17},{"$f":"'GRILLE C MA EXTINCTION'!B16","v":5},{"$f":"'GRILLE C MA EXTINCTION'!C16","v":24},{"$f":"'GRILLE C MA EXTINCTION'!D16","v":344}]
["Vos représentant-e-s SUD Santé Sociaux ",{"$nulls":7},{"$f":"RECAPITULATIF!D21","v":35},null,"sont à votre disposition"]
["pour tous renseignements complémentaires au poste :",{"$nulls":11},{"$f":"RECAPITULATIF!D17","v":2886},{"$nulls":4},{"$f":"'GRILLE C MA EXTINCTION'!B18","v":6},{"$f":"'GRILLE C MA EXTINCTION'!C18","v":24},{"$f":"'GRILLE C MA EXTINCTION'!D18","v":352}]
[]
[{"$nulls":17},{"$f":"'GRILLE C MA EXTINCTION'!B20","v":7},{"$f":"'GRILLE C MA EXTINCTION'!C20","v":36},{"$f":"'GRILLE C MA EXTINCTION'!D20","v":367}]
[]
[{"$nulls":17},{"$f":"'GRILLE C MA EXTINCTION'!B22","v":8},{"$f":"'GRILLE C MA EXTINCTION'!C22","v":36},{"$f":"'GRILLE C MA EXTINCTION'!D22","v":381}]
["Recevez toutes nos salutations."]
[{"$nulls":17},{"$f":"'GRILLE C MA EXTINCTION'!B24","v":9},{"$f":"'GRILLE C MA EXTINCTION'!C24","v":36},{"$f":"'GRILLE C MA EXTINCTION'!D24","v":404}]
[]
[{"$f":"RECAPITULATIF!B5","v":"Véronique ERUSSARD, Servanne CORNEE, Sébastien BAYAUT"},{"$nulls":16},{"$f":"'GRILLE C MA EXTINCTION'!B26","v":10},{"$f":"'GRILLE C MA EXTINCTION'!C26","v":36},{"$f":"'GRILLE C MA EXTINCTION'!D26","v":422}]
[]
["SUD Santé Sociaux",{"$nulls":3},{"$f":"RECAPITULATIF!D21","v":35},{"$nulls":12},{"$f":"'GRILLE C MA EXTINCTION'!B28","v":11},{"$f":"'GRILLE C MA EXTINCTION'!C28","v":48},{"$f":"'GRILLE C MA EXTINCTION'!D28","v":428}]
[]
[{"$nulls":17},{"$f":"'GRILLE C MA EXTINCTION'!B30","v":12},{"$f":"'GRILLE C MA EXTINCTION'!C30","v":48},{"$f":"'GRILLE C MA EXTINCTION'!D30","v":450}]
[]
[{"$nulls":17},{"$f":"'GRILLE C MA EXTINCTION'!B32","v":13},{"$f":"'GRILLE C MA EXTINCTION'!C32","v":0},{"$f":"'GRILLE C MA EXTINCTION'!D32","v":466}]
[]
["Tél :",{"$f":"RECAPITULATIF!D19","v":{"v":299212886,"d":"02 99 21 28 86"}}]
["Mél :",null,{"$f":"RECAPITULATIF!C23","v":"sudsante@ch-stmalo.fr"}]
[{"$f":"RECAPITULATIF!B25","v":"Site Départemental Sud"},{"$nulls":4},{"$f":"RECAPITULATIF!D25","v":"http://www.sudsantesociaux35.org"}]

{"sheet":"C MA EXT Echelon 5","index":58,"n_rows":73,"n_cols":20,"rows_kept":73,"merged":[[1,6,1,16],[2,6,2,11],[2,12,2,16],[8,12,9,14],[12,12,12,14],[15,0,15,14],[17,0,17,16],[19,0,19,3],[21,0,21,14],[23,0,23,4],[23,5,23,8],[23,10,23,12],[23,13,23,16],[26,5,27,17],[32,0,32,4],[32,5,32,6],[32,7,32,10],[32,11,32,12],[35,0,35,2],[35,8,35,9],[38,17,41,19],[39,0,39,7],[39,8,39,9],[39,10,39,13],[42,0,42,12],[42,17,43,17],[42,18,43,18],[42,19,43,19],[44,17,45,17],[44,18,45,18],[44,19,45,19],[45,2,45,3],[45,5,45,7],[46,17,47,17],[46,18,47,18],[46,19,47,19],[48,0,48,5],[48,6,48,8],[48,17,49,17],[48,18,49,18],[48,19,49,19],[50,17,51,17],[50,18,51,18],[50,19,51,19],[52,17,53,17],[52,18,53,18],[52,19,53,19],[53,0,53,7],[53,8,53,9],[53,10,53,14],[54,0,54,11],[54,12,54,13],[54,17,55,17],[54,18,55,18],[54,19,55,19],[56,17,57,17],[56,18,57,18],[56,19,57,19],[57,0,57,16],[58,17,59,17],[58,18,59,18],[58,19,59,19],[59,0,59,16],[60,17,61,17],[60,18,61,18],[60,19,61,19],[62,0,62,16],[62,17,63,17],[62,18,63,18],[62,19,63,19],[64,0,64,3],[64,17,65,17],[64,18,65,18],[64,19,65,19],[66,17,67,17],[66,18,67,18],[66,19,67,19],[68,17,69,17],[68,18,69,18],[68,19,69,19],[70,1,70,4],[71,0,71,1],[71,2,71,7],[72,0,72,4],[72,5,72,12]]}
[]
[{"$nulls":6},"Commission Administrative"]
[{"$nulls":6},"Paritaire",{"$nulls":5},{"$f":"RECAPITULATIF!D7","v":"Locale"}]
[]
[]
[]
[]
[]
[{"$nulls":12},"Mme, Mr :"]
[]
[{"$nulls":12},"Grade :"]
[]
[{"$nulls":12},"Service :"]
[]
[]
["Votre ou vos représentant-e-s du personnel"]
[]
[{"$f":"RECAPITULATIF!B5","v":"Véronique ERUSSARD, Servanne CORNEE, Sébastien BAYAUT"}]
[]
["SUD Santé Sociaux",{"$nulls":3},{"$f":"RECAPITULATIF!D21","v":35},"du:"]
[]
[{"$f":"RECAPITULATIF!B2","v":"Centre Hospitalier de Saint Malo"}]
[]
["siégeant auprès de la CAP",{"$nulls":4},{"$f":"RECAPITULATIF!D7","v":"Locale"},{"$nulls":3},"du :",{"$f":"RECAPITULATIF!D11","v":"2019-04-16"},null,null,"vous informe de votre :"]
[]
[]
[{"$nulls":5},"AVANCEMENT D’ECHELON"]
[]
[]
[]
[]
[]
["Vous passez à l’échelon :",{"$nulls":4},{"$f":"'GRILLE C MA EXTINCTION'!B16","v":5},null,"Indice Majoré :",{"$nulls":3},{"$f":"'GRILLE C MA EXTINCTION'!D16","v":344}]
[]
[]
["Date d'effet :",{"$nulls":4},"/",null,"/",{"$f":"RECAPITULATIF!D9","v":2019}]
[]
[]
[{"$nulls":17},{"$f":"'GRILLE C MA EXTINCTION'!B2","v":"Catégorie C\nEXTINCTION\nMoninteur d'Atelier"}]
["Ce qui représente un gain mensuel de :",{"$nulls":7},{"$f":"'GRILLE C MA EXTINCTION'!D16-'GRILLE C MA EXTINCTION'!D14","v":6},null,"points d'indice."]
[]
[]
["Pour information, la valeur brute du point d'indice",{"$nulls":16},{"$f":"'GRILLE C MA EXTINCTION'!B6","v":"Echelon"},{"$f":"'GRILLE C MA EXTINCTION'!C6","v":"Durée\n(en mois)"},{"$f":"'GRILLE C MA EXTINCTION'!D6","v":"Indice\nMajoré"}]
[]
[{"$nulls":17},{"$f":"'GRILLE C MA EXTINCTION'!B8","v":1},{"$f":"'GRILLE C MA EXTINCTION'!C8","v":12},{"$f":"'GRILLE C MA EXTINCTION'!D8","v":327}]
["est de",null,{"$f":"RECAPITULATIF!D13","v":{"v":4.686,"d":"4.686 €"}},null,"au",{"$f":"RECAPITULATIF!D15","v":"2019-01-01"}]
[{"$nulls":17},{"$f":"'GRILLE C MA EXTINCTION'!B10","v":2},{"$f":"'GRILLE C MA EXTINCTION'!C10","v":24},{"$f":"'GRILLE C MA EXTINCTION'!D10","v":328}]
[]
["Soit un gain net mensuel de :",{"$nulls":5},{"$f":"I40*C46*0.8315","v":{"v":23.378454,"d":"23.38 €"}},{"$nulls":10},{"$f":"'GRILLE C MA EXTINCTION'!B12","v":3},{"$f":"'GRILLE C MA EXTINCTION'!C12","v":24},{"$f":"'GRILLE C MA EXTINCTION'!D12","v":331}]
[]
[{"$nulls":17},{"$f":"'GRILLE C MA EXTINCTION'!B14","v":4},{"$f":"'GRILLE C MA EXTINCTION'!C14","v":24},{"$f":"'GRILLE C MA EXTINCTION'!D14","v":338}]
[]
[{"$nulls":17},{"$f":"'GRILLE C MA EXTINCTION'!B16","v":5},{"$f":"'GRILLE C MA EXTINCTION'!C16","v":24},{"$f":"'GRILLE C MA EXTINCTION'!D16","v":344}]
["Vos représentant-e-s SUD Santé Sociaux ",{"$nulls":7},{"$f":"RECAPITULATIF!D21","v":35},null,"sont à votre disposition"]
["pour tous renseignements complémentaires au poste :",{"$nulls":11},{"$f":"RECAPITULATIF!D17","v":2886},{"$nulls":4},{"$f":"'GRILLE C MA EXTINCTION'!B18","v":6},{"$f":"'GRILLE C MA EXTINCTION'!C18","v":24},{"$f":"'GRILLE C MA EXTINCTION'!D18","v":352}]
[]
[{"$nulls":17},{"$f":"'GRILLE C MA EXTINCTION'!B20","v":7},{"$f":"'GRILLE C MA EXTINCTION'!C20","v":36},{"$f":"'GRILLE C MA EXTINCTION'!D20","v":367}]
[]
[{"$nulls":17},{"$f":"'GRILLE C MA EXTINCTION'!B22","v":8},{"$f":"'GRILLE C MA EXTINCTION'!C22","v":36},{"$f":"'GRILLE C MA EXTINCTION'!D22","v":381}]
["Recevez toutes nos salutations."]
[{"$nulls":17},{"$f":"'GRILLE C MA EXTINCTION'!B24","v":9},{"$f":"'GRILLE C MA EXTINCTION'!C24","v":36},{"$f":"'GRILLE C MA EXTINCTION'!D24","v":404}]
[]
[{"$f":"RECAPITULATIF!B5","v":"Véronique ERUSSARD, Servanne CORNEE, Sébastien BAYAUT"},{"$nulls":16},{"$f":"'GRILLE C MA EXTINCTION'!B26","v":10},{"$f":"'GRILLE C MA EXTINCTION'!C26","v":36},{"$f":"'GRILLE C MA EXTINCTION'!D26","v":422}]
[]
["SUD Santé Sociaux",{"$nulls":3},{"$f":"RECAPITULATIF!D21","v":35},{"$nulls":12},{"$f":"'GRILLE C MA EXTINCTION'!B28","v":11},{"$f":"'GRILLE C MA EXTINCTION'!C28","v":48},{"$f":"'GRILLE C MA EXTINCTION'!D28","v":428}]
[]
[{"$nulls":17},{"$f":"'GRILLE C MA EXTINCTION'!B30","v":12},{"$f":"'GRILLE C MA EXTINCTION'!C30","v":48},{"$f":"'GRILLE C MA EXTINCTION'!D30","v":450}]
[]
[{"$nulls":17},{"$f":"'GRILLE C MA EXTINCTION'!B32","v":13},{"$f":"'GRILLE C MA EXTINCTION'!C32","v":0},{"$f":"'GRILLE C MA EXTINCTION'!D32","v":466}]
[]
["Tél :",{"$f":"RECAPITULATIF!D19","v":{"v":299212886,"d":"02 99 21 28 86"}}]
["Mél :",null,{"$f":"RECAPITULATIF!C23","v":"sudsante@ch-stmalo.fr"}]
[{"$f":"RECAPITULATIF!B25","v":"Site Départemental Sud"},{"$nulls":4},{"$f":"RECAPITULATIF!D25","v":"http://www.sudsantesociaux35.org"}]

{"sheet":"C MA EXT Echelon 6","index":59,"n_rows":73,"n_cols":20,"rows_kept":73,"merged":[[1,6,1,16],[2,6,2,11],[2,12,2,16],[8,12,9,14],[12,12,12,14],[15,0,15,14],[17,0,17,16],[19,0,19,3],[21,0,21,14],[23,0,23,4],[23,5,23,8],[23,10,23,12],[23,13,23,16],[26,5,27,17],[32,0,32,4],[32,5,32,6],[32,7,32,10],[32,11,32,12],[35,0,35,2],[35,8,35,9],[38,17,41,19],[39,0,39,7],[39,8,39,9],[39,10,39,13],[42,0,42,12],[42,17,43,17],[42,18,43,18],[42,19,43,19],[44,17,45,17],[44,18,45,18],[44,19,45,19],[45,2,45,3],[45,5,45,7],[46,17,47,17],[46,18,47,18],[46,19,47,19],[48,0,48,5],[48,6,48,8],[48,17,49,17],[48,18,49,18],[48,19,49,19],[50,17,51,17],[50,18,51,18],[50,19,51,19],[52,17,53,17],[52,18,53,18],[52,19,53,19],[53,0,53,7],[53,8,53,9],[53,10,53,14],[54,0,54,11],[54,12,54,13],[54,17,55,17],[54,18,55,18],[54,19,55,19],[56,17,57,17],[56,18,57,18],[56,19,57,19],[57,0,57,16],[58,17,59,17],[58,18,59,18],[58,19,59,19],[59,0,59,16],[60,17,61,17],[60,18,61,18],[60,19,61,19],[62,0,62,16],[62,17,63,17],[62,18,63,18],[62,19,63,19],[64,0,64,3],[64,17,65,17],[64,18,65,18],[64,19,65,19],[66,17,67,17],[66,18,67,18],[66,19,67,19],[68,17,69,17],[68,18,69,18],[68,19,69,19],[70,1,70,4],[71,0,71,1],[71,2,71,7],[72,0,72,4],[72,5,72,12]]}
[]
[{"$nulls":6},"Commission Administrative"]
[{"$nulls":6},"Paritaire",{"$nulls":5},{"$f":"RECAPITULATIF!D7","v":"Locale"}]
[]
[]
[]
[]
[]
[{"$nulls":12},"Mme, Mr :"]
[]
[{"$nulls":12},"Grade :"]
[]
[{"$nulls":12},"Service :"]
[]
[]
["Votre ou vos représentant-e-s du personnel"]
[]
[{"$f":"RECAPITULATIF!B5","v":"Véronique ERUSSARD, Servanne CORNEE, Sébastien BAYAUT"}]
[]
["SUD Santé Sociaux",{"$nulls":3},{"$f":"RECAPITULATIF!D21","v":35},"du:"]
[]
[{"$f":"RECAPITULATIF!B2","v":"Centre Hospitalier de Saint Malo"}]
[]
["siégeant auprès de la CAP",{"$nulls":4},{"$f":"RECAPITULATIF!D7","v":"Locale"},{"$nulls":3},"du :",{"$f":"RECAPITULATIF!D11","v":"2019-04-16"},null,null,"vous informe de votre :"]
[]
[]
[{"$nulls":5},"AVANCEMENT D’ECHELON"]
[]
[]
[]
[]
[]
["Vous passez à l’échelon :",{"$nulls":4},{"$f":"'GRILLE C MA EXTINCTION'!B18","v":6},null,"Indice Majoré :",{"$nulls":3},{"$f":"'GRILLE C MA EXTINCTION'!D18","v":352}]
[]
[]
["Date d'effet :",{"$nulls":4},"/",null,"/",{"$f":"RECAPITULATIF!D9","v":2019}]
[]
[]
[{"$nulls":17},{"$f":"'GRILLE C MA EXTINCTION'!B2","v":"Catégorie C\nEXTINCTION\nMoninteur d'Atelier"}]
["Ce qui représente un gain mensuel de :",{"$nulls":7},{"$f":"'GRILLE C MA EXTINCTION'!D18-'GRILLE C MA EXTINCTION'!D16","v":8},null,"points d'indice."]
[]
[]
["Pour information, la valeur brute du point d'indice",{"$nulls":16},{"$f":"'GRILLE C MA EXTINCTION'!B6","v":"Echelon"},{"$f":"'GRILLE C MA EXTINCTION'!C6","v":"Durée\n(en mois)"},{"$f":"'GRILLE C MA EXTINCTION'!D6","v":"Indice\nMajoré"}]
[]
[{"$nulls":17},{"$f":"'GRILLE C MA EXTINCTION'!B8","v":1},{"$f":"'GRILLE C MA EXTINCTION'!C8","v":12},{"$f":"'GRILLE C MA EXTINCTION'!D8","v":327}]
["est de",null,{"$f":"RECAPITULATIF!D13","v":{"v":4.686,"d":"4.686 €"}},null,"au",{"$f":"RECAPITULATIF!D15","v":"2019-01-01"}]
[{"$nulls":17},{"$f":"'GRILLE C MA EXTINCTION'!B10","v":2},{"$f":"'GRILLE C MA EXTINCTION'!C10","v":24},{"$f":"'GRILLE C MA EXTINCTION'!D10","v":328}]
[]
["Soit un gain net mensuel de :",{"$nulls":5},{"$f":"I40*C46*0.8315","v":{"v":31.171272000000002,"d":"31.17 €"}},{"$nulls":10},{"$f":"'GRILLE C MA EXTINCTION'!B12","v":3},{"$f":"'GRILLE C MA EXTINCTION'!C12","v":24},{"$f":"'GRILLE C MA EXTINCTION'!D12","v":331}]
[]
[{"$nulls":17},{"$f":"'GRILLE C MA EXTINCTION'!B14","v":4},{"$f":"'GRILLE C MA EXTINCTION'!C14","v":24},{"$f":"'GRILLE C MA EXTINCTION'!D14","v":338}]
[]
[{"$nulls":17},{"$f":"'GRILLE C MA EXTINCTION'!B16","v":5},{"$f":"'GRILLE C MA EXTINCTION'!C16","v":24},{"$f":"'GRILLE C MA EXTINCTION'!D16","v":344}]
["Vos représentant-e-s SUD Santé Sociaux ",{"$nulls":7},{"$f":"RECAPITULATIF!D21","v":35},null,"sont à votre disposition"]
["pour tous renseignements complémentaires au poste :",{"$nulls":11},{"$f":"RECAPITULATIF!D17","v":2886},{"$nulls":4},{"$f":"'GRILLE C MA EXTINCTION'!B18","v":6},{"$f":"'GRILLE C MA EXTINCTION'!C18","v":24},{"$f":"'GRILLE C MA EXTINCTION'!D18","v":352}]
[]
[{"$nulls":17},{"$f":"'GRILLE C MA EXTINCTION'!B20","v":7},{"$f":"'GRILLE C MA EXTINCTION'!C20","v":36},{"$f":"'GRILLE C MA EXTINCTION'!D20","v":367}]
[]
[{"$nulls":17},{"$f":"'GRILLE C MA EXTINCTION'!B22","v":8},{"$f":"'GRILLE C MA EXTINCTION'!C22","v":36},{"$f":"'GRILLE C MA EXTINCTION'!D22","v":381}]
["Recevez toutes nos salutations."]
[{"$nulls":17},{"$f":"'GRILLE C MA EXTINCTION'!B24","v":9},{"$f":"'GRILLE C MA EXTINCTION'!C24","v":36},{"$f":"'GRILLE C MA EXTINCTION'!D24","v":404}]
[]
[{"$f":"RECAPITULATIF!B5","v":"Véronique ERUSSARD, Servanne CORNEE, Sébastien BAYAUT"},{"$nulls":16},{"$f":"'GRILLE C MA EXTINCTION'!B26","v":10},{"$f":"'GRILLE C MA EXTINCTION'!C26","v":36},{"$f":"'GRILLE C MA EXTINCTION'!D26","v":422}]
[]
["SUD Santé Sociaux",{"$nulls":3},{"$f":"RECAPITULATIF!D21","v":35},{"$nulls":12},{"$f":"'GRILLE C MA EXTINCTION'!B28","v":11},{"$f":"'GRILLE C MA EXTINCTION'!C28","v":48},{"$f":"'GRILLE C MA EXTINCTION'!D28","v":428}]
[]
[{"$nulls":17},{"$f":"'GRILLE C MA EXTINCTION'!B30","v":12},{"$f":"'GRILLE C MA EXTINCTION'!C30","v":48},{"$f":"'GRILLE C MA EXTINCTION'!D30","v":450}]
[]
[{"$nulls":17},{"$f":"'GRILLE C MA EXTINCTION'!B32","v":13},{"$f":"'GRILLE C MA EXTINCTION'!C32","v":0},{"$f":"'GRILLE C MA EXTINCTION'!D32","v":466}]
[]
["Tél :",{"$f":"RECAPITULATIF!D19","v":{"v":299212886,"d":"02 99 21 28 86"}}]
["Mél :",null,{"$f":"RECAPITULATIF!C23","v":"sudsante@ch-stmalo.fr"}]
[{"$f":"RECAPITULATIF!B25","v":"Site Départemental Sud"},{"$nulls":4},{"$f":"RECAPITULATIF!D25","v":"http://www.sudsantesociaux35.org"}]

{"sheet":"C MA EXT Echelon 7","index":60,"n_rows":73,"n_cols":20,"rows_kept":73,"merged":[[1,6,1,16],[2,6,2,11],[2,12,2,16],[8,12,9,14],[12,12,12,14],[15,0,15,14],[17,0,17,16],[19,0,19,3],[21,0,21,14],[23,0,23,4],[23,5,23,8],[23,10,23,12],[23,13,23,16],[26,5,27,17],[32,0,32,4],[32,5,32,6],[32,7,32,10],[32,11,32,12],[35,0,35,2],[35,8,35,9],[38,17,41,19],[39,0,39,7],[39,8,39,9],[39,10,39,13],[42,0,42,12],[42,17,43,17],[42,18,43,18],[42,19,43,19],[44,17,45,17],[44,18,45,18],[44,19,45,19],[45,2,45,3],[45,5,45,7],[46,17,47,17],[46,18,47,18],[46,19,47,19],[48,0,48,5],[48,6,48,8],[48,17,49,17],[48,18,49,18],[48,19,49,19],[50,17,51,17],[50,18,51,18],[50,19,51,19],[52,17,53,17],[52,18,53,18],[52,19,53,19],[53,0,53,7],[53,8,53,9],[53,10,53,14],[54,0,54,11],[54,12,54,13],[54,17,55,17],[54,18,55,18],[54,19,55,19],[56,17,57,17],[56,18,57,18],[56,19,57,19],[57,0,57,16],[58,17,59,17],[58,18,59,18],[58,19,59,19],[59,0,59,16],[60,17,61,17],[60,18,61,18],[60,19,61,19],[62,0,62,16],[62,17,63,17],[62,18,63,18],[62,19,63,19],[64,0,64,3],[64,17,65,17],[64,18,65,18],[64,19,65,19],[66,17,67,17],[66,18,67,18],[66,19,67,19],[68,17,69,17],[68,18,69,18],[68,19,69,19],[70,1,70,4],[71,0,71,1],[71,2,71,7],[72,0,72,4],[72,5,72,12]]}
[]
[{"$nulls":6},"Commission Administrative"]
[{"$nulls":6},"Paritaire",{"$nulls":5},{"$f":"RECAPITULATIF!D7","v":"Locale"}]
[]
[]
[]
[]
[]
[{"$nulls":12},"Mme, Mr :"]
[]
[{"$nulls":12},"Grade :"]
[]
[{"$nulls":12},"Service :"]
[]
[]
["Votre ou vos représentant-e-s du personnel"]
[]
[{"$f":"RECAPITULATIF!B5","v":"Véronique ERUSSARD, Servanne CORNEE, Sébastien BAYAUT"}]
[]
["SUD Santé Sociaux",{"$nulls":3},{"$f":"RECAPITULATIF!D21","v":35},"du:"]
[]
[{"$f":"RECAPITULATIF!B2","v":"Centre Hospitalier de Saint Malo"}]
[]
["siégeant auprès de la CAP",{"$nulls":4},{"$f":"RECAPITULATIF!D7","v":"Locale"},{"$nulls":3},"du :",{"$f":"RECAPITULATIF!D11","v":"2019-04-16"},null,null,"vous informe de votre :"]
[]
[]
[{"$nulls":5},"AVANCEMENT D’ECHELON"]
[]
[]
[]
[]
[]
["Vous passez à l’échelon :",{"$nulls":4},{"$f":"'GRILLE C MA EXTINCTION'!B20","v":7},null,"Indice Majoré :",{"$nulls":3},{"$f":"'GRILLE C MA EXTINCTION'!D20","v":367}]
[]
[]
["Date d'effet :",{"$nulls":4},"/",null,"/",{"$f":"RECAPITULATIF!D9","v":2019}]
[]
[]
[{"$nulls":17},{"$f":"'GRILLE C MA EXTINCTION'!B2","v":"Catégorie C\nEXTINCTION\nMoninteur d'Atelier"}]
["Ce qui représente un gain mensuel de :",{"$nulls":7},{"$f":"'GRILLE C MA EXTINCTION'!D20-'GRILLE C MA EXTINCTION'!D18","v":15},null,"points d'indice."]
[]
[]
["Pour information, la valeur brute du point d'indice",{"$nulls":16},{"$f":"'GRILLE C MA EXTINCTION'!B6","v":"Echelon"},{"$f":"'GRILLE C MA EXTINCTION'!C6","v":"Durée\n(en mois)"},{"$f":"'GRILLE C MA EXTINCTION'!D6","v":"Indice\nMajoré"}]
[]
[{"$nulls":17},{"$f":"'GRILLE C MA EXTINCTION'!B8","v":1},{"$f":"'GRILLE C MA EXTINCTION'!C8","v":12},{"$f":"'GRILLE C MA EXTINCTION'!D8","v":327}]
["est de",null,{"$f":"RECAPITULATIF!D13","v":{"v":4.686,"d":"4.686 €"}},null,"au",{"$f":"RECAPITULATIF!D15","v":"2019-01-01"}]
[{"$nulls":17},{"$f":"'GRILLE C MA EXTINCTION'!B10","v":2},{"$f":"'GRILLE C MA EXTINCTION'!C10","v":24},{"$f":"'GRILLE C MA EXTINCTION'!D10","v":328}]
[]
["Soit un gain net mensuel de :",{"$nulls":5},{"$f":"I40*C46*0.8315","v":{"v":58.44613499999999,"d":"58.45 €"}},{"$nulls":10},{"$f":"'GRILLE C MA EXTINCTION'!B12","v":3},{"$f":"'GRILLE C MA EXTINCTION'!C12","v":24},{"$f":"'GRILLE C MA EXTINCTION'!D12","v":331}]
[]
[{"$nulls":17},{"$f":"'GRILLE C MA EXTINCTION'!B14","v":4},{"$f":"'GRILLE C MA EXTINCTION'!C14","v":24},{"$f":"'GRILLE C MA EXTINCTION'!D14","v":338}]
[]
[{"$nulls":17},{"$f":"'GRILLE C MA EXTINCTION'!B16","v":5},{"$f":"'GRILLE C MA EXTINCTION'!C16","v":24},{"$f":"'GRILLE C MA EXTINCTION'!D16","v":344}]
["Vos représentant-e-s SUD Santé Sociaux ",{"$nulls":7},{"$f":"RECAPITULATIF!D21","v":35},null,"sont à votre disposition"]
["pour tous renseignements complémentaires au poste :",{"$nulls":11},{"$f":"RECAPITULATIF!D17","v":2886},{"$nulls":4},{"$f":"'GRILLE C MA EXTINCTION'!B18","v":6},{"$f":"'GRILLE C MA EXTINCTION'!C18","v":24},{"$f":"'GRILLE C MA EXTINCTION'!D18","v":352}]
[]
[{"$nulls":17},{"$f":"'GRILLE C MA EXTINCTION'!B20","v":7},{"$f":"'GRILLE C MA EXTINCTION'!C20","v":36},{"$f":"'GRILLE C MA EXTINCTION'!D20","v":367}]
[]
[{"$nulls":17},{"$f":"'GRILLE C MA EXTINCTION'!B22","v":8},{"$f":"'GRILLE C MA EXTINCTION'!C22","v":36},{"$f":"'GRILLE C MA EXTINCTION'!D22","v":381}]
["Recevez toutes nos salutations."]
[{"$nulls":17},{"$f":"'GRILLE C MA EXTINCTION'!B24","v":9},{"$f":"'GRILLE C MA EXTINCTION'!C24","v":36},{"$f":"'GRILLE C MA EXTINCTION'!D24","v":404}]
[]
[{"$f":"RECAPITULATIF!B5","v":"Véronique ERUSSARD, Servanne CORNEE, Sébastien BAYAUT"},{"$nulls":16},{"$f":"'GRILLE C MA EXTINCTION'!B26","v":10},{"$f":"'GRILLE C MA EXTINCTION'!C26","v":36},{"$f":"'GRILLE C MA EXTINCTION'!D26","v":422}]
[]
["SUD Santé Sociaux",{"$nulls":3},{"$f":"RECAPITULATIF!D21","v":35},{"$nulls":12},{"$f":"'GRILLE C MA EXTINCTION'!B28","v":11},{"$f":"'GRILLE C MA EXTINCTION'!C28","v":48},{"$f":"'GRILLE C MA EXTINCTION'!D28","v":428}]
[]
[{"$nulls":17},{"$f":"'GRILLE C MA EXTINCTION'!B30","v":12},{"$f":"'GRILLE C MA EXTINCTION'!C30","v":48},{"$f":"'GRILLE C MA EXTINCTION'!D30","v":450}]
[]
[{"$nulls":17},{"$f":"'GRILLE C MA EXTINCTION'!B32","v":13},{"$f":"'GRILLE C MA EXTINCTION'!C32","v":0},{"$f":"'GRILLE C MA EXTINCTION'!D32","v":466}]
[]
["Tél :",{"$f":"RECAPITULATIF!D19","v":{"v":299212886,"d":"02 99 21 28 86"}}]
["Mél :",null,{"$f":"RECAPITULATIF!C23","v":"sudsante@ch-stmalo.fr"}]
[{"$f":"RECAPITULATIF!B25","v":"Site Départemental Sud"},{"$nulls":4},{"$f":"RECAPITULATIF!D25","v":"http://www.sudsantesociaux35.org"}]

{"sheet":"C MA EXT Echelon 8","index":61,"n_rows":73,"n_cols":20,"rows_kept":73,"merged":[[1,6,1,16],[2,6,2,11],[2,12,2,16],[8,12,9,14],[12,12,12,14],[15,0,15,14],[17,0,17,16],[19,0,19,3],[21,0,21,14],[23,0,23,4],[23,5,23,8],[23,10,23,12],[23,13,23,16],[26,5,27,17],[32,0,32,4],[32,5,32,6],[32,7,32,10],[32,11,32,12],[35,0,35,2],[35,8,35,9],[38,17,41,19],[39,0,39,7],[39,8,39,9],[39,10,39,13],[42,0,42,12],[42,17,43,17],[42,18,43,18],[42,19,43,19],[44,17,45,17],[44,18,45,18],[44,19,45,19],[45,2,45,3],[45,5,45,7],[46,17,47,17],[46,18,47,18],[46,19,47,19],[48,0,48,5],[48,6,48,8],[48,17,49,17],[48,18,49,18],[48,19,49,19],[50,17,51,17],[50,18,51,18],[50,19,51,19],[52,17,53,17],[52,18,53,18],[52,19,53,19],[53,0,53,7],[53,8,53,9],[53,10,53,14],[54,0,54,11],[54,12,54,13],[54,17,55,17],[54,18,55,18],[54,19,55,19],[56,17,57,17],[56,18,57,18],[56,19,57,19],[57,0,57,16],[58,17,59,17],[58,18,59,18],[58,19,59,19],[59,0,59,16],[60,17,61,17],[60,18,61,18],[60,19,61,19],[62,0,62,16],[62,17,63,17],[62,18,63,18],[62,19,63,19],[64,0,64,3],[64,17,65,17],[64,18,65,18],[64,19,65,19],[66,17,67,17],[66,18,67,18],[66,19,67,19],[68,17,69,17],[68,18,69,18],[68,19,69,19],[70,1,70,4],[71,0,71,1],[71,2,71,7],[72,0,72,4],[72,5,72,12]]}
[]
[{"$nulls":6},"Commission Administrative"]
[{"$nulls":6},"Paritaire",{"$nulls":5},{"$f":"RECAPITULATIF!D7","v":"Locale"}]
[]
[]
[]
[]
[]
[{"$nulls":12},"Mme, Mr :"]
[]
[{"$nulls":12},"Grade :"]
[]
[{"$nulls":12},"Service :"]
[]
[]
["Votre ou vos représentant-e-s du personnel"]
[]
[{"$f":"RECAPITULATIF!B5","v":"Véronique ERUSSARD, Servanne CORNEE, Sébastien BAYAUT"}]
[]
["SUD Santé Sociaux",{"$nulls":3},{"$f":"RECAPITULATIF!D21","v":35},"du:"]
[]
[{"$f":"RECAPITULATIF!B2","v":"Centre Hospitalier de Saint Malo"}]
[]
["siégeant auprès de la CAP",{"$nulls":4},{"$f":"RECAPITULATIF!D7","v":"Locale"},{"$nulls":3},"du :",{"$f":"RECAPITULATIF!D11","v":"2019-04-16"},null,null,"vous informe de votre :"]
[]
[]
[{"$nulls":5},"AVANCEMENT D’ECHELON"]
[]
[]
[]
[]
[]
["Vous passez à l’échelon :",{"$nulls":4},{"$f":"'GRILLE C MA EXTINCTION'!B22","v":8},null,"Indice Majoré :",{"$nulls":3},{"$f":"'GRILLE C MA EXTINCTION'!D22","v":381}]
[]
[]
["Date d'effet :",{"$nulls":4},"/",null,"/",{"$f":"RECAPITULATIF!D9","v":2019}]
[]
[]
[{"$nulls":17},{"$f":"'GRILLE C MA EXTINCTION'!B2","v":"Catégorie C\nEXTINCTION\nMoninteur d'Atelier"}]
["Ce qui représente un gain mensuel de :",{"$nulls":7},{"$f":"'GRILLE C MA EXTINCTION'!D22-'GRILLE C MA EXTINCTION'!D20","v":14},null,"points d'indice."]
[]
[]
["Pour information, la valeur brute du point d'indice",{"$nulls":16},{"$f":"'GRILLE C MA EXTINCTION'!B6","v":"Echelon"},{"$f":"'GRILLE C MA EXTINCTION'!C6","v":"Durée\n(en mois)"},{"$f":"'GRILLE C MA EXTINCTION'!D6","v":"Indice\nMajoré"}]
[]
[{"$nulls":17},{"$f":"'GRILLE C MA EXTINCTION'!B8","v":1},{"$f":"'GRILLE C MA EXTINCTION'!C8","v":12},{"$f":"'GRILLE C MA EXTINCTION'!D8","v":327}]
["est de",null,{"$f":"RECAPITULATIF!D13","v":{"v":4.686,"d":"4.686 €"}},null,"au",{"$f":"RECAPITULATIF!D15","v":"2019-01-01"}]
[{"$nulls":17},{"$f":"'GRILLE C MA EXTINCTION'!B10","v":2},{"$f":"'GRILLE C MA EXTINCTION'!C10","v":24},{"$f":"'GRILLE C MA EXTINCTION'!D10","v":328}]
[]
["Soit un gain net mensuel de :",{"$nulls":5},{"$f":"I40*C46*0.8315","v":{"v":54.549726,"d":"54.55 €"}},{"$nulls":10},{"$f":"'GRILLE C MA EXTINCTION'!B12","v":3},{"$f":"'GRILLE C MA EXTINCTION'!C12","v":24},{"$f":"'GRILLE C MA EXTINCTION'!D12","v":331}]
[]
[{"$nulls":17},{"$f":"'GRILLE C MA EXTINCTION'!B14","v":4},{"$f":"'GRILLE C MA EXTINCTION'!C14","v":24},{"$f":"'GRILLE C MA EXTINCTION'!D14","v":338}]
[]
[{"$nulls":17},{"$f":"'GRILLE C MA EXTINCTION'!B16","v":5},{"$f":"'GRILLE C MA EXTINCTION'!C16","v":24},{"$f":"'GRILLE C MA EXTINCTION'!D16","v":344}]
["Vos représentant-e-s SUD Santé Sociaux ",{"$nulls":7},{"$f":"RECAPITULATIF!D21","v":35},null,"sont à votre disposition"]
["pour tous renseignements complémentaires au poste :",{"$nulls":11},{"$f":"RECAPITULATIF!D17","v":2886},{"$nulls":4},{"$f":"'GRILLE C MA EXTINCTION'!B18","v":6},{"$f":"'GRILLE C MA EXTINCTION'!C18","v":24},{"$f":"'GRILLE C MA EXTINCTION'!D18","v":352}]
[]
[{"$nulls":17},{"$f":"'GRILLE C MA EXTINCTION'!B20","v":7},{"$f":"'GRILLE C MA EXTINCTION'!C20","v":36},{"$f":"'GRILLE C MA EXTINCTION'!D20","v":367}]
[]
[{"$nulls":17},{"$f":"'GRILLE C MA EXTINCTION'!B22","v":8},{"$f":"'GRILLE C MA EXTINCTION'!C22","v":36},{"$f":"'GRILLE C MA EXTINCTION'!D22","v":381}]
["Recevez toutes nos salutations."]
[{"$nulls":17},{"$f":"'GRILLE C MA EXTINCTION'!B24","v":9},{"$f":"'GRILLE C MA EXTINCTION'!C24","v":36},{"$f":"'GRILLE C MA EXTINCTION'!D24","v":404}]
[]
[{"$f":"RECAPITULATIF!B5","v":"Véronique ERUSSARD, Servanne CORNEE, Sébastien BAYAUT"},{"$nulls":16},{"$f":"'GRILLE C MA EXTINCTION'!B26","v":10},{"$f":"'GRILLE C MA EXTINCTION'!C26","v":36},{"$f":"'GRILLE C MA EXTINCTION'!D26","v":422}]
[]
["SUD Santé Sociaux",{"$nulls":3},{"$f":"RECAPITULATIF!D21","v":35},{"$nulls":12},{"$f":"'GRILLE C MA EXTINCTION'!B28","v":11},{"$f":"'GRILLE C MA EXTINCTION'!C28","v":48},{"$f":"'GRILLE C MA EXTINCTION'!D28","v":428}]
[]
[{"$nulls":17},{"$f":"'GRILLE C MA EXTINCTION'!B30","v":12},{"$f":"'GRILLE C MA EXTINCTION'!C30","v":48},{"$f":"'GRILLE C MA EXTINCTION'!D30","v":450}]
[]
[{"$nulls":17},{"$f":"'GRILLE C MA EXTINCTION'!B32","v":13},{"$f":"'GRILLE C MA EXTINCTION'!C32","v":0},{"$f":"'GRILLE C MA EXTINCTION'!D32","v":466}]
[]
["Tél :",{"$f":"RECAPITULATIF!D19","v":{"v":299212886,"d":"02 99 21 28 86"}}]
["Mél :",null,{"$f":"RECAPITULATIF!C23","v":"sudsante@ch-stmalo.fr"}]
[{"$f":"RECAPITULATIF!B25","v":"Site Départemental Sud"},{"$nulls":4},{"$f":"RECAPITULATIF!D25","v":"http://www.sudsantesociaux35.org"}]

{"sheet":"C MA EXT Echelon 9","index":62,"n_rows":73,"n_cols":20,"rows_kept":73,"merged":[[1,6,1,16],[2,6,2,11],[2,12,2,16],[8,12,9,14],[12,12,12,14],[15,0,15,14],[17,0,17,16],[19,0,19,3],[21,0,21,14],[23,0,23,4],[23,5,23,8],[23,10,23,12],[23,13,23,16],[26,5,27,17],[32,0,32,4],[32,5,32,6],[32,7,32,10],[32,11,32,12],[35,0,35,2],[35,8,35,9],[38,17,41,19],[39,0,39,7],[39,8,39,9],[39,10,39,13],[42,0,42,12],[42,17,43,17],[42,18,43,18],[42,19,43,19],[44,17,45,17],[44,18,45,18],[44,19,45,19],[45,2,45,3],[45,5,45,7],[46,17,47,17],[46,18,47,18],[46,19,47,19],[48,0,48,5],[48,6,48,8],[48,17,49,17],[48,18,49,18],[48,19,49,19],[50,17,51,17],[50,18,51,18],[50,19,51,19],[52,17,53,17],[52,18,53,18],[52,19,53,19],[53,0,53,7],[53,8,53,9],[53,10,53,14],[54,0,54,11],[54,12,54,13],[54,17,55,17],[54,18,55,18],[54,19,55,19],[56,17,57,17],[56,18,57,18],[56,19,57,19],[57,0,57,16],[58,17,59,17],[58,18,59,18],[58,19,59,19],[59,0,59,16],[60,17,61,17],[60,18,61,18],[60,19,61,19],[62,0,62,16],[62,17,63,17],[62,18,63,18],[62,19,63,19],[64,0,64,3],[64,17,65,17],[64,18,65,18],[64,19,65,19],[66,17,67,17],[66,18,67,18],[66,19,67,19],[68,17,69,17],[68,18,69,18],[68,19,69,19],[70,1,70,4],[71,0,71,1],[71,2,71,7],[72,0,72,4],[72,5,72,12]]}
[]
[{"$nulls":6},"Commission Administrative"]
[{"$nulls":6},"Paritaire",{"$nulls":5},{"$f":"RECAPITULATIF!D7","v":"Locale"}]
[]
[]
[]
[]
[]
[{"$nulls":12},"Mme, Mr :"]
[]
[{"$nulls":12},"Grade :"]
[]
[{"$nulls":12},"Service :"]
[]
[]
["Votre ou vos représentant-e-s du personnel"]
[]
[{"$f":"RECAPITULATIF!B5","v":"Véronique ERUSSARD, Servanne CORNEE, Sébastien BAYAUT"}]
[]
["SUD Santé Sociaux",{"$nulls":3},{"$f":"RECAPITULATIF!D21","v":35},"du:"]
[]
[{"$f":"RECAPITULATIF!B2","v":"Centre Hospitalier de Saint Malo"}]
[]
["siégeant auprès de la CAP",{"$nulls":4},{"$f":"RECAPITULATIF!D7","v":"Locale"},{"$nulls":3},"du :",{"$f":"RECAPITULATIF!D11","v":"2019-04-16"},null,null,"vous informe de votre :"]
[]
[]
[{"$nulls":5},"AVANCEMENT D’ECHELON"]
[]
[]
[]
[]
[]
["Vous passez à l’échelon :",{"$nulls":4},{"$f":"'GRILLE C MA EXTINCTION'!B24","v":9},null,"Indice Majoré :",{"$nulls":3},{"$f":"'GRILLE C MA EXTINCTION'!D24","v":404}]
[]
[]
["Date d'effet :",{"$nulls":4},"/",null,"/",{"$f":"RECAPITULATIF!D9","v":2019}]
[]
[]
[{"$nulls":17},{"$f":"'GRILLE C MA EXTINCTION'!B2","v":"Catégorie C\nEXTINCTION\nMoninteur d'Atelier"}]
["Ce qui représente un gain mensuel de :",{"$nulls":7},{"$f":"'GRILLE C MA EXTINCTION'!D24-'GRILLE C MA EXTINCTION'!D22","v":23},null,"points d'indice."]
[]
[]
["Pour information, la valeur brute du point d'indice",{"$nulls":16},{"$f":"'GRILLE C MA EXTINCTION'!B6","v":"Echelon"},{"$f":"'GRILLE C MA EXTINCTION'!C6","v":"Durée\n(en mois)"},{"$f":"'GRILLE C MA EXTINCTION'!D6","v":"Indice\nMajoré"}]
[]
[{"$nulls":17},{"$f":"'GRILLE C MA EXTINCTION'!B8","v":1},{"$f":"'GRILLE C MA EXTINCTION'!C8","v":12},{"$f":"'GRILLE C MA EXTINCTION'!D8","v":327}]
["est de",null,{"$f":"RECAPITULATIF!D13","v":{"v":4.686,"d":"4.686 €"}},null,"au",{"$f":"RECAPITULATIF!D15","v":"2019-01-01"}]
[{"$nulls":17},{"$f":"'GRILLE C MA EXTINCTION'!B10","v":2},{"$f":"'GRILLE C MA EXTINCTION'!C10","v":24},{"$f":"'GRILLE C MA EXTINCTION'!D10","v":328}]
[]
["Soit un gain net mensuel de :",{"$nulls":5},{"$f":"I40*C46*0.8315","v":{"v":89.617407,"d":"89.62 €"}},{"$nulls":10},{"$f":"'GRILLE C MA EXTINCTION'!B12","v":3},{"$f":"'GRILLE C MA EXTINCTION'!C12","v":24},{"$f":"'GRILLE C MA EXTINCTION'!D12","v":331}]
[]
[{"$nulls":17},{"$f":"'GRILLE C MA EXTINCTION'!B14","v":4},{"$f":"'GRILLE C MA EXTINCTION'!C14","v":24},{"$f":"'GRILLE C MA EXTINCTION'!D14","v":338}]
[]
[{"$nulls":17},{"$f":"'GRILLE C MA EXTINCTION'!B16","v":5},{"$f":"'GRILLE C MA EXTINCTION'!C16","v":24},{"$f":"'GRILLE C MA EXTINCTION'!D16","v":344}]
["Vos représentant-e-s SUD Santé Sociaux ",{"$nulls":7},{"$f":"RECAPITULATIF!D21","v":35},null,"sont à votre disposition"]
["pour tous renseignements complémentaires au poste :",{"$nulls":11},{"$f":"RECAPITULATIF!D17","v":2886},{"$nulls":4},{"$f":"'GRILLE C MA EXTINCTION'!B18","v":6},{"$f":"'GRILLE C MA EXTINCTION'!C18","v":24},{"$f":"'GRILLE C MA EXTINCTION'!D18","v":352}]
[]
[{"$nulls":17},{"$f":"'GRILLE C MA EXTINCTION'!B20","v":7},{"$f":"'GRILLE C MA EXTINCTION'!C20","v":36},{"$f":"'GRILLE C MA EXTINCTION'!D20","v":367}]
[]
[{"$nulls":17},{"$f":"'GRILLE C MA EXTINCTION'!B22","v":8},{"$f":"'GRILLE C MA EXTINCTION'!C22","v":36},{"$f":"'GRILLE C MA EXTINCTION'!D22","v":381}]
["Recevez toutes nos salutations."]
[{"$nulls":17},{"$f":"'GRILLE C MA EXTINCTION'!B24","v":9},{"$f":"'GRILLE C MA EXTINCTION'!C24","v":36},{"$f":"'GRILLE C MA EXTINCTION'!D24","v":404}]
[]
[{"$f":"RECAPITULATIF!B5","v":"Véronique ERUSSARD, Servanne CORNEE, Sébastien BAYAUT"},{"$nulls":16},{"$f":"'GRILLE C MA EXTINCTION'!B26","v":10},{"$f":"'GRILLE C MA EXTINCTION'!C26","v":36},{"$f":"'GRILLE C MA EXTINCTION'!D26","v":422}]
[]
["SUD Santé Sociaux",{"$nulls":3},{"$f":"RECAPITULATIF!D21","v":35},{"$nulls":12},{"$f":"'GRILLE C MA EXTINCTION'!B28","v":11},{"$f":"'GRILLE C MA EXTINCTION'!C28","v":48},{"$f":"'GRILLE C MA EXTINCTION'!D28","v":428}]
[]
[{"$nulls":17},{"$f":"'GRILLE C MA EXTINCTION'!B30","v":12},{"$f":"'GRILLE C MA EXTINCTION'!C30","v":48},{"$f":"'GRILLE C MA EXTINCTION'!D30","v":450}]
[]
[{"$nulls":17},{"$f":"'GRILLE C MA EXTINCTION'!B32","v":13},{"$f":"'GRILLE C MA EXTINCTION'!C32","v":0},{"$f":"'GRILLE C MA EXTINCTION'!D32","v":466}]
[]
["Tél :",{"$f":"RECAPITULATIF!D19","v":{"v":299212886,"d":"02 99 21 28 86"}}]
["Mél :",null,{"$f":"RECAPITULATIF!C23","v":"sudsante@ch-stmalo.fr"}]
[{"$f":"RECAPITULATIF!B25","v":"Site Départemental Sud"},{"$nulls":4},{"$f":"RECAPITULATIF!D25","v":"http://www.sudsantesociaux35.org"}]

{"sheet":"C MA EXT Echelon 10","index":63,"n_rows":73,"n_cols":20,"rows_kept":73,"merged":[[1,6,1,16],[2,6,2,11],[2,12,2,16],[8,12,9,14],[12,12,12,14],[15,0,15,14],[17,0,17,16],[19,0,19,3],[21,0,21,14],[23,0,23,4],[23,5,23,8],[23,10,23,12],[23,13,23,16],[26,5,27,17],[32,0,32,4],[32,5,32,6],[32,7,32,10],[32,11,32,12],[35,0,35,2],[35,8,35,9],[38,17,41,19],[39,0,39,7],[39,8,39,9],[39,10,39,13],[42,0,42,12],[42,17,43,17],[42,18,43,18],[42,19,43,19],[44,17,45,17],[44,18,45,18],[44,19,45,19],[45,2,45,3],[45,5,45,7],[46,17,47,17],[46,18,47,18],[46,19,47,19],[48,0,48,5],[48,6,48,8],[48,17,49,17],[48,18,49,18],[48,19,49,19],[50,17,51,17],[50,18,51,18],[50,19,51,19],[52,17,53,17],[52,18,53,18],[52,19,53,19],[53,0,53,7],[53,8,53,9],[53,10,53,14],[54,0,54,11],[54,12,54,13],[54,17,55,17],[54,18,55,18],[54,19,55,19],[56,17,57,17],[56,18,57,18],[56,19,57,19],[57,0,57,16],[58,17,59,17],[58,18,59,18],[58,19,59,19],[59,0,59,16],[60,17,61,17],[60,18,61,18],[60,19,61,19],[62,0,62,16],[62,17,63,17],[62,18,63,18],[62,19,63,19],[64,0,64,3],[64,17,65,17],[64,18,65,18],[64,19,65,19],[66,17,67,17],[66,18,67,18],[66,19,67,19],[68,17,69,17],[68,18,69,18],[68,19,69,19],[70,1,70,4],[71,0,71,1],[71,2,71,7],[72,0,72,4],[72,5,72,12]]}
[]
[{"$nulls":6},"Commission Administrative"]
[{"$nulls":6},"Paritaire",{"$nulls":5},{"$f":"RECAPITULATIF!D7","v":"Locale"}]
[]
[]
[]
[]
[]
[{"$nulls":12},"Mme, Mr :"]
[]
[{"$nulls":12},"Grade :"]
[]
[{"$nulls":12},"Service :"]
[]
[]
["Votre ou vos représentant-e-s du personnel"]
[]
[{"$f":"RECAPITULATIF!B5","v":"Véronique ERUSSARD, Servanne CORNEE, Sébastien BAYAUT"}]
[]
["SUD Santé Sociaux",{"$nulls":3},{"$f":"RECAPITULATIF!D21","v":35},"du:"]
[]
[{"$f":"RECAPITULATIF!B2","v":"Centre Hospitalier de Saint Malo"}]
[]
["siégeant auprès de la CAP",{"$nulls":4},{"$f":"RECAPITULATIF!D7","v":"Locale"},{"$nulls":3},"du :",{"$f":"RECAPITULATIF!D11","v":"2019-04-16"},null,null,"vous informe de votre :"]
[]
[]
[{"$nulls":5},"AVANCEMENT D’ECHELON"]
[]
[]
[]
[]
[]
["Vous passez à l’échelon :",{"$nulls":4},{"$f":"'GRILLE C MA EXTINCTION'!B26","v":10},null,"Indice Majoré :",{"$nulls":3},{"$f":"'GRILLE C MA EXTINCTION'!D26","v":422}]
[]
[]
["Date d'effet :",{"$nulls":4},"/",null,"/",{"$f":"RECAPITULATIF!D9","v":2019}]
[]
[]
[{"$nulls":17},{"$f":"'GRILLE C MA EXTINCTION'!B2","v":"Catégorie C\nEXTINCTION\nMoninteur d'Atelier"}]
["Ce qui représente un gain mensuel de :",{"$nulls":7},{"$f":"'GRILLE C MA EXTINCTION'!D26-'GRILLE C MA EXTINCTION'!D24","v":18},null,"points d'indice."]
[]
[]
["Pour information, la valeur brute du point d'indice",{"$nulls":16},{"$f":"'GRILLE C MA EXTINCTION'!B6","v":"Echelon"},{"$f":"'GRILLE C MA EXTINCTION'!C6","v":"Durée\n(en mois)"},{"$f":"'GRILLE C MA EXTINCTION'!D6","v":"Indice\nMajoré"}]
[]
[{"$nulls":17},{"$f":"'GRILLE C MA EXTINCTION'!B8","v":1},{"$f":"'GRILLE C MA EXTINCTION'!C8","v":12},{"$f":"'GRILLE C MA EXTINCTION'!D8","v":327}]
["est de",null,{"$f":"RECAPITULATIF!D13","v":{"v":4.686,"d":"4.686 €"}},null,"au",{"$f":"RECAPITULATIF!D15","v":"2019-01-01"}]
[{"$nulls":17},{"$f":"'GRILLE C MA EXTINCTION'!B10","v":2},{"$f":"'GRILLE C MA EXTINCTION'!C10","v":24},{"$f":"'GRILLE C MA EXTINCTION'!D10","v":328}]
[]
["Soit un gain net mensuel de :",{"$nulls":5},{"$f":"I40*C46*0.8315","v":{"v":70.135362,"d":"70.14 €"}},{"$nulls":10},{"$f":"'GRILLE C MA EXTINCTION'!B12","v":3},{"$f":"'GRILLE C MA EXTINCTION'!C12","v":24},{"$f":"'GRILLE C MA EXTINCTION'!D12","v":331}]
[]
[{"$nulls":17},{"$f":"'GRILLE C MA EXTINCTION'!B14","v":4},{"$f":"'GRILLE C MA EXTINCTION'!C14","v":24},{"$f":"'GRILLE C MA EXTINCTION'!D14","v":338}]
[]
[{"$nulls":17},{"$f":"'GRILLE C MA EXTINCTION'!B16","v":5},{"$f":"'GRILLE C MA EXTINCTION'!C16","v":24},{"$f":"'GRILLE C MA EXTINCTION'!D16","v":344}]
["Vos représentant-e-s SUD Santé Sociaux ",{"$nulls":7},{"$f":"RECAPITULATIF!D21","v":35},null,"sont à votre disposition"]
["pour tous renseignements complémentaires au poste :",{"$nulls":11},{"$f":"RECAPITULATIF!D17","v":2886},{"$nulls":4},{"$f":"'GRILLE C MA EXTINCTION'!B18","v":6},{"$f":"'GRILLE C MA EXTINCTION'!C18","v":24},{"$f":"'GRILLE C MA EXTINCTION'!D18","v":352}]
[]
[{"$nulls":17},{"$f":"'GRILLE C MA EXTINCTION'!B20","v":7},{"$f":"'GRILLE C MA EXTINCTION'!C20","v":36},{"$f":"'GRILLE C MA EXTINCTION'!D20","v":367}]
[]
[{"$nulls":17},{"$f":"'GRILLE C MA EXTINCTION'!B22","v":8},{"$f":"'GRILLE C MA EXTINCTION'!C22","v":36},{"$f":"'GRILLE C MA EXTINCTION'!D22","v":381}]
["Recevez toutes nos salutations."]
[{"$nulls":17},{"$f":"'GRILLE C MA EXTINCTION'!B24","v":9},{"$f":"'GRILLE C MA EXTINCTION'!C24","v":36},{"$f":"'GRILLE C MA EXTINCTION'!D24","v":404}]
[]
[{"$f":"RECAPITULATIF!B5","v":"Véronique ERUSSARD, Servanne CORNEE, Sébastien BAYAUT"},{"$nulls":16},{"$f":"'GRILLE C MA EXTINCTION'!B26","v":10},{"$f":"'GRILLE C MA EXTINCTION'!C26","v":36},{"$f":"'GRILLE C MA EXTINCTION'!D26","v":422}]
[]
["SUD Santé Sociaux",{"$nulls":3},{"$f":"RECAPITULATIF!D21","v":35},{"$nulls":12},{"$f":"'GRILLE C MA EXTINCTION'!B28","v":11},{"$f":"'GRILLE C MA EXTINCTION'!C28","v":48},{"$f":"'GRILLE C MA EXTINCTION'!D28","v":428}]
[]
[{"$nulls":17},{"$f":"'GRILLE C MA EXTINCTION'!B30","v":12},{"$f":"'GRILLE C MA EXTINCTION'!C30","v":48},{"$f":"'GRILLE C MA EXTINCTION'!D30","v":450}]
[]
[{"$nulls":17},{"$f":"'GRILLE C MA EXTINCTION'!B32","v":13},{"$f":"'GRILLE C MA EXTINCTION'!C32","v":0},{"$f":"'GRILLE C MA EXTINCTION'!D32","v":466}]
[]
["Tél :",{"$f":"RECAPITULATIF!D19","v":{"v":299212886,"d":"02 99 21 28 86"}}]
["Mél :",null,{"$f":"RECAPITULATIF!C23","v":"sudsante@ch-stmalo.fr"}]
[{"$f":"RECAPITULATIF!B25","v":"Site Départemental Sud"},{"$nulls":4},{"$f":"RECAPITULATIF!D25","v":"http://www.sudsantesociaux35.org"}]

{"sheet":"C MA EXT Echelon 11","index":64,"n_rows":73,"n_cols":20,"rows_kept":73,"merged":[[1,6,1,16],[2,6,2,11],[2,12,2,16],[8,12,9,14],[12,12,12,14],[15,0,15,14],[17,0,17,16],[19,0,19,3],[21,0,21,14],[23,0,23,4],[23,5,23,8],[23,10,23,12],[23,13,23,16],[26,5,27,17],[32,0,32,4],[32,5,32,6],[32,7,32,10],[32,11,32,12],[35,0,35,2],[35,8,35,9],[38,17,41,19],[39,0,39,7],[39,8,39,9],[39,10,39,13],[42,0,42,12],[42,17,43,17],[42,18,43,18],[42,19,43,19],[44,17,45,17],[44,18,45,18],[44,19,45,19],[45,2,45,3],[45,5,45,7],[46,17,47,17],[46,18,47,18],[46,19,47,19],[48,0,48,5],[48,6,48,8],[48,17,49,17],[48,18,49,18],[48,19,49,19],[50,17,51,17],[50,18,51,18],[50,19,51,19],[52,17,53,17],[52,18,53,18],[52,19,53,19],[53,0,53,7],[53,8,53,9],[53,10,53,14],[54,0,54,11],[54,12,54,13],[54,17,55,17],[54,18,55,18],[54,19,55,19],[56,17,57,17],[56,18,57,18],[56,19,57,19],[57,0,57,16],[58,17,59,17],[58,18,59,18],[58,19,59,19],[59,0,59,16],[60,17,61,17],[60,18,61,18],[60,19,61,19],[62,0,62,16],[62,17,63,17],[62,18,63,18],[62,19,63,19],[64,0,64,3],[64,17,65,17],[64,18,65,18],[64,19,65,19],[66,17,67,17],[66,18,67,18],[66,19,67,19],[68,17,69,17],[68,18,69,18],[68,19,69,19],[70,1,70,4],[71,0,71,1],[71,2,71,7],[72,0,72,4],[72,5,72,12]]}
[]
[{"$nulls":6},"Commission Administrative"]
[{"$nulls":6},"Paritaire",{"$nulls":5},{"$f":"RECAPITULATIF!D7","v":"Locale"}]
[]
[]
[]
[]
[]
[{"$nulls":12},"Mme, Mr :"]
[]
[{"$nulls":12},"Grade :"]
[]
[{"$nulls":12},"Service :"]
[]
[]
["Votre ou vos représentant-e-s du personnel"]
[]
[{"$f":"RECAPITULATIF!B5","v":"Véronique ERUSSARD, Servanne CORNEE, Sébastien BAYAUT"}]
[]
["SUD Santé Sociaux",{"$nulls":3},{"$f":"RECAPITULATIF!D21","v":35},"du:"]
[]
[{"$f":"RECAPITULATIF!B2","v":"Centre Hospitalier de Saint Malo"}]
[]
["siégeant auprès de la CAP",{"$nulls":4},{"$f":"RECAPITULATIF!D7","v":"Locale"},{"$nulls":3},"du :",{"$f":"RECAPITULATIF!D11","v":"2019-04-16"},null,null,"vous informe de votre :"]
[]
[]
[{"$nulls":5},"AVANCEMENT D’ECHELON"]
[]
[]
[]
[]
[]
["Vous passez à l’échelon :",{"$nulls":4},{"$f":"'GRILLE C MA EXTINCTION'!B28","v":11},null,"Indice Majoré :",{"$nulls":3},{"$f":"'GRILLE C MA EXTINCTION'!D28","v":428}]
[]
[]
["Date d'effet :",{"$nulls":4},"/",null,"/",{"$f":"RECAPITULATIF!D9","v":2019}]
[]
[]
[{"$nulls":17},{"$f":"'GRILLE C MA EXTINCTION'!B2","v":"Catégorie C\nEXTINCTION\nMoninteur d'Atelier"}]
["Ce qui représente un gain mensuel de :",{"$nulls":7},{"$f":"'GRILLE C MA EXTINCTION'!D28-'GRILLE C MA EXTINCTION'!D26","v":6},null,"points d'indice."]
[]
[]
["Pour information, la valeur brute du point d'indice",{"$nulls":16},{"$f":"'GRILLE C MA EXTINCTION'!B6","v":"Echelon"},{"$f":"'GRILLE C MA EXTINCTION'!C6","v":"Durée\n(en mois)"},{"$f":"'GRILLE C MA EXTINCTION'!D6","v":"Indice\nMajoré"}]
[]
[{"$nulls":17},{"$f":"'GRILLE C MA EXTINCTION'!B8","v":1},{"$f":"'GRILLE C MA EXTINCTION'!C8","v":12},{"$f":"'GRILLE C MA EXTINCTION'!D8","v":327}]
["est de",null,{"$f":"RECAPITULATIF!D13","v":{"v":4.686,"d":"4.686 €"}},null,"au",{"$f":"RECAPITULATIF!D15","v":"2019-01-01"}]
[{"$nulls":17},{"$f":"'GRILLE C MA EXTINCTION'!B10","v":2},{"$f":"'GRILLE C MA EXTINCTION'!C10","v":24},{"$f":"'GRILLE C MA EXTINCTION'!D10","v":328}]
[]
["Soit un gain net mensuel de :",{"$nulls":5},{"$f":"I40*C46*0.8315","v":{"v":23.378454,"d":"23.38 €"}},{"$nulls":10},{"$f":"'GRILLE C MA EXTINCTION'!B12","v":3},{"$f":"'GRILLE C MA EXTINCTION'!C12","v":24},{"$f":"'GRILLE C MA EXTINCTION'!D12","v":331}]
[]
[{"$nulls":17},{"$f":"'GRILLE C MA EXTINCTION'!B14","v":4},{"$f":"'GRILLE C MA EXTINCTION'!C14","v":24},{"$f":"'GRILLE C MA EXTINCTION'!D14","v":338}]
[]
[{"$nulls":17},{"$f":"'GRILLE C MA EXTINCTION'!B16","v":5},{"$f":"'GRILLE C MA EXTINCTION'!C16","v":24},{"$f":"'GRILLE C MA EXTINCTION'!D16","v":344}]
["Vos représentant-e-s SUD Santé Sociaux ",{"$nulls":7},{"$f":"RECAPITULATIF!D21","v":35},null,"sont à votre disposition"]
["pour tous renseignements complémentaires au poste :",{"$nulls":11},{"$f":"RECAPITULATIF!D17","v":2886},{"$nulls":4},{"$f":"'GRILLE C MA EXTINCTION'!B18","v":6},{"$f":"'GRILLE C MA EXTINCTION'!C18","v":24},{"$f":"'GRILLE C MA EXTINCTION'!D18","v":352}]
[]
[{"$nulls":17},{"$f":"'GRILLE C MA EXTINCTION'!B20","v":7},{"$f":"'GRILLE C MA EXTINCTION'!C20","v":36},{"$f":"'GRILLE C MA EXTINCTION'!D20","v":367}]
[]
[{"$nulls":17},{"$f":"'GRILLE C MA EXTINCTION'!B22","v":8},{"$f":"'GRILLE C MA EXTINCTION'!C22","v":36},{"$f":"'GRILLE C MA EXTINCTION'!D22","v":381}]
["Recevez toutes nos salutations."]
[{"$nulls":17},{"$f":"'GRILLE C MA EXTINCTION'!B24","v":9},{"$f":"'GRILLE C MA EXTINCTION'!C24","v":36},{"$f":"'GRILLE C MA EXTINCTION'!D24","v":404}]
[]
[{"$f":"RECAPITULATIF!B5","v":"Véronique ERUSSARD, Servanne CORNEE, Sébastien BAYAUT"},{"$nulls":16},{"$f":"'GRILLE C MA EXTINCTION'!B26","v":10},{"$f":"'GRILLE C MA EXTINCTION'!C26","v":36},{"$f":"'GRILLE C MA EXTINCTION'!D26","v":422}]
[]
["SUD Santé Sociaux",{"$nulls":3},{"$f":"RECAPITULATIF!D21","v":35},{"$nulls":12},{"$f":"'GRILLE C MA EXTINCTION'!B28","v":11},{"$f":"'GRILLE C MA EXTINCTION'!C28","v":48},{"$f":"'GRILLE C MA EXTINCTION'!D28","v":428}]
[]
[{"$nulls":17},{"$f":"'GRILLE C MA EXTINCTION'!B30","v":12},{"$f":"'GRILLE C MA EXTINCTION'!C30","v":48},{"$f":"'GRILLE C MA EXTINCTION'!D30","v":450}]
[]
[{"$nulls":17},{"$f":"'GRILLE C MA EXTINCTION'!B32","v":13},{"$f":"'GRILLE C MA EXTINCTION'!C32","v":0},{"$f":"'GRILLE C MA EXTINCTION'!D32","v":466}]
[]
["Tél :",{"$f":"RECAPITULATIF!D19","v":{"v":299212886,"d":"02 99 21 28 86"}}]
["Mél :",null,{"$f":"RECAPITULATIF!C23","v":"sudsante@ch-stmalo.fr"}]
[{"$f":"RECAPITULATIF!B25","v":"Site Départemental Sud"},{"$nulls":4},{"$f":"RECAPITULATIF!D25","v":"http://www.sudsantesociaux35.org"}]

{"sheet":"C MA EXT Echelon 12","index":65,"n_rows":73,"n_cols":20,"rows_kept":73,"merged":[[1,6,1,16],[2,6,2,11],[2,12,2,16],[8,12,9,14],[12,12,12,14],[15,0,15,14],[17,0,17,16],[19,0,19,3],[21,0,21,14],[23,0,23,4],[23,5,23,8],[23,10,23,12],[23,13,23,16],[26,5,27,17],[32,0,32,4],[32,5,32,6],[32,7,32,10],[32,11,32,12],[35,0,35,2],[35,8,35,9],[38,17,41,19],[39,0,39,7],[39,8,39,9],[39,10,39,13],[42,0,42,12],[42,17,43,17],[42,18,43,18],[42,19,43,19],[44,17,45,17],[44,18,45,18],[44,19,45,19],[45,2,45,3],[45,5,45,7],[46,17,47,17],[46,18,47,18],[46,19,47,19],[48,0,48,5],[48,6,48,8],[48,17,49,17],[48,18,49,18],[48,19,49,19],[50,17,51,17],[50,18,51,18],[50,19,51,19],[52,17,53,17],[52,18,53,18],[52,19,53,19],[53,0,53,7],[53,8,53,9],[53,10,53,14],[54,0,54,11],[54,12,54,13],[54,17,55,17],[54,18,55,18],[54,19,55,19],[56,17,57,17],[56,18,57,18],[56,19,57,19],[57,0,57,16],[58,17,59,17],[58,18,59,18],[58,19,59,19],[59,0,59,16],[60,17,61,17],[60,18,61,18],[60,19,61,19],[62,0,62,16],[62,17,63,17],[62,18,63,18],[62,19,63,19],[64,0,64,3],[64,17,65,17],[64,18,65,18],[64,19,65,19],[66,17,67,17],[66,18,67,18],[66,19,67,19],[68,17,69,17],[68,18,69,18],[68,19,69,19],[70,1,70,4],[71,0,71,1],[71,2,71,7],[72,0,72,4],[72,5,72,12]]}
[]
[{"$nulls":6},"Commission Administrative"]
[{"$nulls":6},"Paritaire",{"$nulls":5},{"$f":"RECAPITULATIF!D7","v":"Locale"}]
[]
[]
[]
[]
[]
[{"$nulls":12},"Mme, Mr :"]
[]
[{"$nulls":12},"Grade :"]
[]
[{"$nulls":12},"Service :"]
[]
[]
["Votre ou vos représentant-e-s du personnel"]
[]
[{"$f":"RECAPITULATIF!B5","v":"Véronique ERUSSARD, Servanne CORNEE, Sébastien BAYAUT"}]
[]
["SUD Santé Sociaux",{"$nulls":3},{"$f":"RECAPITULATIF!D21","v":35},"du:"]
[]
[{"$f":"RECAPITULATIF!B2","v":"Centre Hospitalier de Saint Malo"}]
[]
["siégeant auprès de la CAP",{"$nulls":4},{"$f":"RECAPITULATIF!D7","v":"Locale"},{"$nulls":3},"du :",{"$f":"RECAPITULATIF!D11","v":"2019-04-16"},null,null,"vous informe de votre :"]
[]
[]
[{"$nulls":5},"AVANCEMENT D’ECHELON"]
[]
[]
[]
[]
[]
["Vous passez à l’échelon :",{"$nulls":4},{"$f":"'GRILLE C MA EXTINCTION'!B30","v":12},null,"Indice Majoré :",{"$nulls":3},{"$f":"'GRILLE C MA EXTINCTION'!D30","v":450}]
[]
[]
["Date d'effet :",{"$nulls":4},"/",null,"/",{"$f":"RECAPITULATIF!D9","v":2019}]
[]
[]
[{"$nulls":17},{"$f":"'GRILLE C MA EXTINCTION'!B2","v":"Catégorie C\nEXTINCTION\nMoninteur d'Atelier"}]
["Ce qui représente un gain mensuel de :",{"$nulls":7},{"$f":"'GRILLE C MA EXTINCTION'!D30-'GRILLE C MA EXTINCTION'!D28","v":22},null,"points d'indice."]
[]
[]
["Pour information, la valeur brute du point d'indice",{"$nulls":16},{"$f":"'GRILLE C MA EXTINCTION'!B6","v":"Echelon"},{"$f":"'GRILLE C MA EXTINCTION'!C6","v":"Durée\n(en mois)"},{"$f":"'GRILLE C MA EXTINCTION'!D6","v":"Indice\nMajoré"}]
[]
[{"$nulls":17},{"$f":"'GRILLE C MA EXTINCTION'!B8","v":1},{"$f":"'GRILLE C MA EXTINCTION'!C8","v":12},{"$f":"'GRILLE C MA EXTINCTION'!D8","v":327}]
["est de",null,{"$f":"RECAPITULATIF!D13","v":{"v":4.686,"d":"4.686 €"}},null,"au",{"$f":"RECAPITULATIF!D15","v":"2019-01-01"}]
[{"$nulls":17},{"$f":"'GRILLE C MA EXTINCTION'!B10","v":2},{"$f":"'GRILLE C MA EXTINCTION'!C10","v":24},{"$f":"'GRILLE C MA EXTINCTION'!D10","v":328}]
[]
["Soit un gain net mensuel de :",{"$nulls":5},{"$f":"I40*C46*0.8315","v":{"v":85.720998,"d":"85.72 €"}},{"$nulls":10},{"$f":"'GRILLE C MA EXTINCTION'!B12","v":3},{"$f":"'GRILLE C MA EXTINCTION'!C12","v":24},{"$f":"'GRILLE C MA EXTINCTION'!D12","v":331}]
[]
[{"$nulls":17},{"$f":"'GRILLE C MA EXTINCTION'!B14","v":4},{"$f":"'GRILLE C MA EXTINCTION'!C14","v":24},{"$f":"'GRILLE C MA EXTINCTION'!D14","v":338}]
[]
[{"$nulls":17},{"$f":"'GRILLE C MA EXTINCTION'!B16","v":5},{"$f":"'GRILLE C MA EXTINCTION'!C16","v":24},{"$f":"'GRILLE C MA EXTINCTION'!D16","v":344}]
["Vos représentant-e-s SUD Santé Sociaux ",{"$nulls":7},{"$f":"RECAPITULATIF!D21","v":35},null,"sont à votre disposition"]
["pour tous renseignements complémentaires au poste :",{"$nulls":11},{"$f":"RECAPITULATIF!D17","v":2886},{"$nulls":4},{"$f":"'GRILLE C MA EXTINCTION'!B18","v":6},{"$f":"'GRILLE C MA EXTINCTION'!C18","v":24},{"$f":"'GRILLE C MA EXTINCTION'!D18","v":352}]
[]
[{"$nulls":17},{"$f":"'GRILLE C MA EXTINCTION'!B20","v":7},{"$f":"'GRILLE C MA EXTINCTION'!C20","v":36},{"$f":"'GRILLE C MA EXTINCTION'!D20","v":367}]
[]
[{"$nulls":17},{"$f":"'GRILLE C MA EXTINCTION'!B22","v":8},{"$f":"'GRILLE C MA EXTINCTION'!C22","v":36},{"$f":"'GRILLE C MA EXTINCTION'!D22","v":381}]
["Recevez toutes nos salutations."]
[{"$nulls":17},{"$f":"'GRILLE C MA EXTINCTION'!B24","v":9},{"$f":"'GRILLE C MA EXTINCTION'!C24","v":36},{"$f":"'GRILLE C MA EXTINCTION'!D24","v":404}]
[]
[{"$f":"RECAPITULATIF!B5","v":"Véronique ERUSSARD, Servanne CORNEE, Sébastien BAYAUT"},{"$nulls":16},{"$f":"'GRILLE C MA EXTINCTION'!B26","v":10},{"$f":"'GRILLE C MA EXTINCTION'!C26","v":36},{"$f":"'GRILLE C MA EXTINCTION'!D26","v":422}]
[]
["SUD Santé Sociaux",{"$nulls":3},{"$f":"RECAPITULATIF!D21","v":35},{"$nulls":12},{"$f":"'GRILLE C MA EXTINCTION'!B28","v":11},{"$f":"'GRILLE C MA EXTINCTION'!C28","v":48},{"$f":"'GRILLE C MA EXTINCTION'!D28","v":428}]
[]
[{"$nulls":17},{"$f":"'GRILLE C MA EXTINCTION'!B30","v":12},{"$f":"'GRILLE C MA EXTINCTION'!C30","v":48},{"$f":"'GRILLE C MA EXTINCTION'!D30","v":450}]
[]
[{"$nulls":17},{"$f":"'GRILLE C MA EXTINCTION'!B32","v":13},{"$f":"'GRILLE C MA EXTINCTION'!C32","v":0},{"$f":"'GRILLE C MA EXTINCTION'!D32","v":466}]
[]
["Tél :",{"$f":"RECAPITULATIF!D19","v":{"v":299212886,"d":"02 99 21 28 86"}}]
["Mél :",null,{"$f":"RECAPITULATIF!C23","v":"sudsante@ch-stmalo.fr"}]
[{"$f":"RECAPITULATIF!B25","v":"Site Départemental Sud"},{"$nulls":4},{"$f":"RECAPITULATIF!D25","v":"http://www.sudsantesociaux35.org"}]

{"sheet":"C MA EXT Echelon 13","index":66,"n_rows":73,"n_cols":20,"rows_kept":73,"merged":[[1,6,1,16],[2,6,2,11],[2,12,2,16],[8,12,9,14],[12,12,12,14],[15,0,15,14],[17,0,17,16],[19,0,19,3],[21,0,21,14],[23,0,23,4],[23,5,23,8],[23,10,23,12],[23,13,23,16],[26,5,27,17],[32,0,32,4],[32,5,32,6],[32,7,32,10],[32,11,32,12],[35,0,35,2],[35,8,35,9],[38,17,41,19],[39,0,39,7],[39,8,39,9],[39,10,39,13],[42,0,42,12],[42,17,43,17],[42,18,43,18],[42,19,43,19],[44,17,45,17],[44,18,45,18],[44,19,45,19],[45,2,45,3],[45,5,45,7],[46,17,47,17],[46,18,47,18],[46,19,47,19],[48,0,48,5],[48,6,48,8],[48,17,49,17],[48,18,49,18],[48,19,49,19],[50,17,51,17],[50,18,51,18],[50,19,51,19],[52,17,53,17],[52,18,53,18],[52,19,53,19],[53,0,53,7],[53,8,53,9],[53,10,53,14],[54,0,54,11],[54,12,54,13],[54,17,55,17],[54,18,55,18],[54,19,55,19],[56,17,57,17],[56,18,57,18],[56,19,57,19],[57,0,57,16],[58,17,59,17],[58,18,59,18],[58,19,59,19],[59,0,59,16],[60,17,61,17],[60,18,61,18],[60,19,61,19],[62,0,62,16],[62,17,63,17],[62,18,63,18],[62,19,63,19],[64,0,64,3],[64,17,65,17],[64,18,65,18],[64,19,65,19],[66,17,67,17],[66,18,67,18],[66,19,67,19],[68,17,69,17],[68,18,69,18],[68,19,69,19],[70,1,70,4],[71,0,71,1],[71,2,71,7],[72,0,72,4],[72,5,72,12]]}
[]
[{"$nulls":6},"Commission Administrative"]
[{"$nulls":6},"Paritaire",{"$nulls":5},{"$f":"RECAPITULATIF!D7","v":"Locale"}]
[]
[]
[]
[]
[]
[{"$nulls":12},"Mme, Mr :"]
[]
[{"$nulls":12},"Grade :"]
[]
[{"$nulls":12},"Service :"]
[]
[]
["Votre ou vos représentant-e-s du personnel"]
[]
[{"$f":"RECAPITULATIF!B5","v":"Véronique ERUSSARD, Servanne CORNEE, Sébastien BAYAUT"}]
[]
["SUD Santé Sociaux",{"$nulls":3},{"$f":"RECAPITULATIF!D21","v":35},"du:"]
[]
[{"$f":"RECAPITULATIF!B2","v":"Centre Hospitalier de Saint Malo"}]
[]
["siégeant auprès de la CAP",{"$nulls":4},{"$f":"RECAPITULATIF!D7","v":"Locale"},{"$nulls":3},"du :",{"$f":"RECAPITULATIF!D11","v":"2019-04-16"},null,null,"vous informe de votre :"]
[]
[]
[{"$nulls":5},"AVANCEMENT D’ECHELON"]
[]
[]
[]
[]
[]
["Vous passez à l’échelon :",{"$nulls":4},{"$f":"'GRILLE C MA EXTINCTION'!B32","v":13},null,"Indice Majoré :",{"$nulls":3},{"$f":"'GRILLE C MA EXTINCTION'!D32","v":466}]
[]
[]
["Date d'effet :",{"$nulls":4},"/",null,"/",{"$f":"RECAPITULATIF!D9","v":2019}]
[]
[]
[{"$nulls":17},{"$f":"'GRILLE C MA EXTINCTION'!B2","v":"Catégorie C\nEXTINCTION\nMoninteur d'Atelier"}]
["Ce qui représente un gain mensuel de :",{"$nulls":7},{"$f":"'GRILLE C MA EXTINCTION'!D32-'GRILLE C MA EXTINCTION'!D30","v":16},null,"points d'indice."]
[]
[]
["Pour information, la valeur brute du point d'indice",{"$nulls":16},{"$f":"'GRILLE C MA EXTINCTION'!B6","v":"Echelon"},{"$f":"'GRILLE C MA EXTINCTION'!C6","v":"Durée\n(en mois)"},{"$f":"'GRILLE C MA EXTINCTION'!D6","v":"Indice\nMajoré"}]
[]
[{"$nulls":17},{"$f":"'GRILLE C MA EXTINCTION'!B8","v":1},{"$f":"'GRILLE C MA EXTINCTION'!C8","v":12},{"$f":"'GRILLE C MA EXTINCTION'!D8","v":327}]
["est de",null,{"$f":"RECAPITULATIF!D13","v":{"v":4.686,"d":"4.686 €"}},null,"au",{"$f":"RECAPITULATIF!D15","v":"2019-01-01"}]
[{"$nulls":17},{"$f":"'GRILLE C MA EXTINCTION'!B10","v":2},{"$f":"'GRILLE C MA EXTINCTION'!C10","v":24},{"$f":"'GRILLE C MA EXTINCTION'!D10","v":328}]
[]
["Soit un gain net mensuel de :",{"$nulls":5},{"$f":"I40*C46*0.8315","v":{"v":62.342544000000004,"d":"62.34 €"}},{"$nulls":10},{"$f":"'GRILLE C MA EXTINCTION'!B12","v":3},{"$f":"'GRILLE C MA EXTINCTION'!C12","v":24},{"$f":"'GRILLE C MA EXTINCTION'!D12","v":331}]
[]
[{"$nulls":17},{"$f":"'GRILLE C MA EXTINCTION'!B14","v":4},{"$f":"'GRILLE C MA EXTINCTION'!C14","v":24},{"$f":"'GRILLE C MA EXTINCTION'!D14","v":338}]
[]
[{"$nulls":17},{"$f":"'GRILLE C MA EXTINCTION'!B16","v":5},{"$f":"'GRILLE C MA EXTINCTION'!C16","v":24},{"$f":"'GRILLE C MA EXTINCTION'!D16","v":344}]
["Vos représentant-e-s SUD Santé Sociaux ",{"$nulls":7},{"$f":"RECAPITULATIF!D21","v":35},null,"sont à votre disposition"]
["pour tous renseignements complémentaires au poste :",{"$nulls":11},{"$f":"RECAPITULATIF!D17","v":2886},{"$nulls":4},{"$f":"'GRILLE C MA EXTINCTION'!B18","v":6},{"$f":"'GRILLE C MA EXTINCTION'!C18","v":24},{"$f":"'GRILLE C MA EXTINCTION'!D18","v":352}]
[]
[{"$nulls":17},{"$f":"'GRILLE C MA EXTINCTION'!B20","v":7},{"$f":"'GRILLE C MA EXTINCTION'!C20","v":36},{"$f":"'GRILLE C MA EXTINCTION'!D20","v":367}]
[]
[{"$nulls":17},{"$f":"'GRILLE C MA EXTINCTION'!B22","v":8},{"$f":"'GRILLE C MA EXTINCTION'!C22","v":36},{"$f":"'GRILLE C MA EXTINCTION'!D22","v":381}]
["Recevez toutes nos salutations."]
[{"$nulls":17},{"$f":"'GRILLE C MA EXTINCTION'!B24","v":9},{"$f":"'GRILLE C MA EXTINCTION'!C24","v":36},{"$f":"'GRILLE C MA EXTINCTION'!D24","v":404}]
[]
[{"$f":"RECAPITULATIF!B5","v":"Véronique ERUSSARD, Servanne CORNEE, Sébastien BAYAUT"},{"$nulls":16},{"$f":"'GRILLE C MA EXTINCTION'!B26","v":10},{"$f":"'GRILLE C MA EXTINCTION'!C26","v":36},{"$f":"'GRILLE C MA EXTINCTION'!D26","v":422}]
[]
["SUD Santé Sociaux",{"$nulls":3},{"$f":"RECAPITULATIF!D21","v":35},{"$nulls":12},{"$f":"'GRILLE C MA EXTINCTION'!B28","v":11},{"$f":"'GRILLE C MA EXTINCTION'!C28","v":48},{"$f":"'GRILLE C MA EXTINCTION'!D28","v":428}]
[]
[{"$nulls":17},{"$f":"'GRILLE C MA EXTINCTION'!B30","v":12},{"$f":"'GRILLE C MA EXTINCTION'!C30","v":48},{"$f":"'GRILLE C MA EXTINCTION'!D30","v":450}]
[]
[{"$nulls":17},{"$f":"'GRILLE C MA EXTINCTION'!B32","v":13},{"$f":"'GRILLE C MA EXTINCTION'!C32","v":0},{"$f":"'GRILLE C MA EXTINCTION'!D32","v":466}]
[]
["Tél :",{"$f":"RECAPITULATIF!D19","v":{"v":299212886,"d":"02 99 21 28 86"}}]
["Mél :",null,{"$f":"RECAPITULATIF!C23","v":"sudsante@ch-stmalo.fr"}]
[{"$f":"RECAPITULATIF!B25","v":"Site Départemental Sud"},{"$nulls":4},{"$f":"RECAPITULATIF!D25","v":"http://www.sudsantesociaux35.org"}]